Workbook

Sheet Plan hebdomadaire
J1: =IF(OR(ISBLANK(H2),ISBLANK(J2)),"⚠️ Indiquez l'année puis la date à gauche ⤵ ","") | R1: Liste automatique des lundis
B2: 📚 MES BRANCHES | E2: 🗓️ MON HORAIRE | G2: Semaine du : | H2: 45901 | J2: 2025 | P2: ↗️ | R2: {=IF(J2 = "", "", _xlfn._xlws.FILTER(_xlfn.SEQUENCE(366, 1, DATE($J$2, 1, 1), 1), (WEEKDAY(_xlfn.SEQUENCE(366, 1, DATE($J$2, 1, 1), 1), 2) = 1)))} -> 45663
B3: Branches/Cours ⤵ | C3: Couleur | E3: 🕗 | F3: Lundi | G3: Mardi | H3: Mercredi | I3: Jeudi | J3: Vendredi | K3: Samedi | L3: Dimanche | O3: Hep ! Mon Journal ! | R3: 45670
E4: {=IF(COUNTA($E$5:$E$60) <= MAX(IFERROR(COUNTA(_xlfn._xlws.FILTER($F$5:$F$60, (ISODD(ROW($F$5:$F$60))) * ($F$5:$F$60 <> ""))), 0), IFERROR(COUNTA(_xlfn._xlws.FILTER($G$5:$G$60, (ISODD(ROW($G$5:$G$60))) * ($G$5:$G$60 <> ""))), 0), IFERROR(COUNTA(_xlfn._xlws.FILTER($H$5:$H$60, (ISODD(ROW($H$5:$H$60))) * ($H$5:$H$60 <> ""))), 0), IFERROR(COUNTA(_xlfn._xlws.FILTER($I$5:$I$60, (ISODD(ROW($I$5:$I$60))) * ($I$5:$I$60 <> ""))), 0), IFERROR(COUNTA(_xlfn._xlws.FILTER($J$5:$J$60, (ISODD(ROW($J$5:$J$60))) * ($J$5:$J$60 <> ""))), 0), IFERROR(COUNTA(_xlfn._xlws.FILTER($K$5:$K$60, (ISODD(ROW($K$5:$K$60))) * ($K$5:$K$60 <> ""))), 0), IFERROR(COUNTA(_xlfn._xlws.FILTER($L$5:$L$60, (ISODD(ROW($L$5:$L$60))) * ($L$5:$L$60 <> ""))), 0)), "⚠️ ↓ Heures de débuts de période ou dernière heure (fin de journée) manquante(s) !", "")} | R4: 45677
A5: {=IF(B5:B60<>"","›","")} -> › | B5: Pause | C5: Blanc | E5: 0.33333333 | F5: Exemple | N5: =TODAY() -> 45933 | R5: 45684
A6: › | B6: Français | C6: Jaune | F6: Sous-titre… | G6: Sous-titre… | H6: Sous-titre… | I6: Sous-titre… | J6: Sous-titre… | K6: Sous-titre… | L6: Sous-titre… | N6: =CHOOSE(RANDBETWEEN(1,10), "Bonne journée d’enseignement !🌞", "Belle journée avec vos élèves 👩‍🏫👨‍🏫", "Souriez, vous transmettez du savoir 😃", "Chaque jour est une nouvelle chance d’apprendre 📚✨", "Enseigner, c’est semer des graines pour demain 🌱", "Merci pour votre engagement auprès des élèves 💖", "Vous faites la différence chaque jour 🌟", "L’école est un lieu de découvertes, profitez-en 🔎", "Vos élèves vous remercieront demain 🙏", "La connaissance est un cadeau que vous partagez 🎁" ) &CHAR(10) -> Vous faites la différence chaque jour 🌟 | R6: 45691
A7: › | B7: Allemand | C7: Orange | E7: 0.36805556 | R7: 45698
A8: › | B8: Anglais | C8: Orange foncé | F8: Sous-titre… | G8: Sous-titre… | H8: Sous-titre… | I8: Sous-titre… | J8: Sous-titre… | K8: Sous-titre… | L8: Sous-titre… | N8: 📝 MON BLOC-NOTES | R8: 45705
A9: › | B9: Maths | C9: Rouge | E9: 0.40277778 | N9: =IF(ISBLANK(O9),"",COUNTA($O$9:O9)) -> 1 | O9: Ceci est un exemple de note | P9: ✅ | R9: 45712
A10: › | B10: Sciences | C10: Lime | F10: Sous-titre… | G10: Sous-titre… | H10: Sous-titre… | I10: Sous-titre… | J10: Sous-titre… | K10: Sous-titre… | L10: Sous-titre… | N10: =IF(ISBLANK(O10),"",COUNTA($O$9:O10)) | R10: 45719
A11: › | B11: Géographie | C11: Vert | E11: 0.41666667 | N11: =IF(ISBLANK(O11),"",COUNTA($O$9:O11)) | R11: 45726
A12: › | B12: Histoire | C12: Brun | F12: Sous-titre… | G12: Sous-titre… | H12: Sous-titre… | I12: Sous-titre… | J12: Sous-titre… | K12: Sous-titre… | L12: Sous-titre… | N12: =IF(ISBLANK(O12),"",COUNTA($O$9:O12)) | R12: 45733
A13: › | B13: Citoyenneté | C13: Brun sable | E13: 0.45138889 | N13: =IF(ISBLANK(O13),"",COUNTA($O$9:O13)) | R13: 45740
A14: › | B14: ACM/ACT | C14: Lavande | F14: Sous-titre… | G14: Sous-titre… | H14: Sous-titre… | I14: Sous-titre… | J14: Sous-titre… | K14: Sous-titre… | L14: Sous-titre… | N14: =IF(ISBLANK(O14),"",COUNTA($O$9:O14)) | R14: 45747
A15: › | B15: Arts visuels | C15: Violet | E15: 0.47916667 | N15: =IF(ISBLANK(O15),"",COUNTA($O$9:O15)) | R15: 45754
A16: › | B16: Musique | C16: Indigo | F16: Sous-titre… | G16: Sous-titre… | H16: Sous-titre… | I16: Sous-titre… | J16: Sous-titre… | K16: Sous-titre… | L16: Sous-titre… | N16: =IF(ISBLANK(O16),"",COUNTA($O$9:O16)) | R16: 45761
A17: › | B17: Éd. physique | C17: Bleu ciel | E17: 0.57638889 | R17: 45768
A18: › | B18: Éthique | C18: Bleu gris | F18: Sous-titre… | G18: Sous-titre… | H18: Sous-titre… | I18: Sous-titre… | J18: Sous-titre… | K18: Sous-titre… | L18: Sous-titre… | N18: 🔗 MES LIENS | R18: 45775
A19: › | B19: Ens. religieux | C19: Gris | E19: 0.61111111 | N19: =IF(ISBLANK(O19),"",COUNTA($O$19:O19)) -> 1 | O19: https://hepicerie.com | P19: 🌐 | R19: 45782
A20: › | B20: Divers | C20: Gris clair | F20: Sous-titre… | G20: Sous-titre… | H20: Sous-titre… | I20: Sous-titre… | J20: Sous-titre… | K20: Sous-titre… | L20: Sous-titre… | N20: =IF(ISBLANK(O20),"",COUNTA($O$19:O20)) | R20: 45789
A21: › | B21: Exemple | C21: Gris clair | E21: 0.64583333 | N21: =IF(ISBLANK(O21),"",COUNTA($O$19:O21)) | R21: 45796
F22: Sous-titre… | G22: Sous-titre… | H22: Sous-titre… | I22: Sous-titre… | J22: Sous-titre… | K22: Sous-titre… | L22: Sous-titre… | N22: =IF(ISBLANK(O22),"",COUNTA($O$19:O22)) | R22: 45803
N23: =IF(ISBLANK(O23),"",COUNTA($O$19:O23)) | R23: 45810
F24: Sous-titre… | G24: Sous-titre… | H24: Sous-titre… | I24: Sous-titre… | J24: Sous-titre… | K24: Sous-titre… | L24: Sous-titre… | R24: 45817
R25: 45824
F26: Sous-titre… | G26: Sous-titre… | H26: Sous-titre… | I26: Sous-titre… | J26: Sous-titre… | K26: Sous-titre… | L26: Sous-titre… | O26: ❓Mode d'emploi : 1) Définissez vos branches dans la colonne "📚 MES BRANCHES" (1 branche par ligne) et affectez-leur une couleur. 2) Spécifiez l'heure de début de chaque période dans la colonne "🕗", sans oublier les pauses (récréation, midi). 3) Construisez votre grille horaire en sélectionnant une branche pour chaque période sous "🗓️ MON HORAIRE". Le modèle de votre journal de classe est prêt ! 😀 Gardez ce fichier précieusement enregistré et faites-en une copie pour chaque nouvelle semaine d'école. Plus d'infos ? https://hepicerie.com/hep-mon-journal | R26: 45831
R27: 45838
F28: Sous-titre… | G28: Sous-titre… | H28: Sous-titre… | I28: Sous-titre… | J28: Sous-titre… | K28: Sous-titre… | L28: Sous-titre… | R28: 45845
R29: 45852
F30: Sous-titre… | G30: Sous-titre… | H30: Sous-titre… | I30: Sous-titre… | J30: Sous-titre… | K30: Sous-titre… | L30: Sous-titre… | R30: 45859
R31: 45866
F32: Sous-titre… | G32: Sous-titre… | H32: Sous-titre… | I32: Sous-titre… | J32: Sous-titre… | K32: Sous-titre… | L32: Sous-titre… | R32: 45873
R33: 45880
F34: Sous-titre… | G34: Sous-titre… | H34: Sous-titre… | I34: Sous-titre… | J34: Sous-titre… | K34: Sous-titre… | L34: Sous-titre… | R34: 45887
R35: 45894
F36: Sous-titre… | G36: Sous-titre… | H36: Sous-titre… | I36: Sous-titre… | J36: Sous-titre… | K36: Sous-titre… | L36: Sous-titre… | R36: 45901
R37: 45908
F38: Sous-titre… | G38: Sous-titre… | H38: Sous-titre… | I38: Sous-titre… | J38: Sous-titre… | K38: Sous-titre… | L38: Sous-titre… | R38: 45915
O39: 💡 Astuces : Pour faire un retour à la ligne dans une cellule, utilisez : Windows : Alt + Entrée Mac : Cmd + Entrée Autres raccourcis clavier : ⬆️⬇️⬅️➡️ Flèches : se déplacer d’une cellule à l’autre Entrée : descendre d’une cellule Tabulation : aller à droite | R39: 45922
F40: Sous-titre… | G40: Sous-titre… | H40: Sous-titre… | I40: Sous-titre… | J40: Sous-titre… | K40: Sous-titre… | L40: Sous-titre… | R40: 45929
R41: 45936
F42: Sous-titre… | G42: Sous-titre… | H42: Sous-titre… | I42: Sous-titre… | J42: Sous-titre… | K42: Sous-titre… | L42: Sous-titre… | R42: 45943
R43: 45950
F44: Sous-titre… | G44: Sous-titre… | H44: Sous-titre… | I44: Sous-titre… | J44: Sous-titre… | K44: Sous-titre… | L44: Sous-titre… | R44: 45957
R45: 45964
F46: Sous-titre… | G46: Sous-titre… | H46: Sous-titre… | I46: Sous-titre… | J46: Sous-titre… | K46: Sous-titre… | L46: Sous-titre… | R46: 45971
R47: 45978
F48: Sous-titre… | G48: Sous-titre… | H48: Sous-titre… | I48: Sous-titre… | J48: Sous-titre… | K48: Sous-titre… | L48: Sous-titre… | R48: 45985
R49: 45992
F50: Sous-titre… | G50: Sous-titre… | H50: Sous-titre… | I50: Sous-titre… | J50: Sous-titre… | K50: Sous-titre… | L50: Sous-titre… | O50: 🔒 Journal protégé : La plupart des cellulles de ce journal sont protégées et ne doivent donc pas être modifiées. Si un avertissement s'affiche, annulez votre opération. | R50: 45999
R51: 46006
F52: Sous-titre… | G52: Sous-titre… | H52: Sous-titre… | I52: Sous-titre… | J52: Sous-titre… | K52: Sous-titre… | L52: Sous-titre… | R52: 46013
R53: 46020
F54: Sous-titre… | G54: Sous-titre… | H54: Sous-titre… | I54: Sous-titre… | J54: Sous-titre… | K54: Sous-titre… | L54: Sous-titre…
F56: Sous-titre… | G56: Sous-titre… | H56: Sous-titre… | I56: Sous-titre… | J56: Sous-titre… | K56: Sous-titre… | L56: Sous-titre…
F58: Sous-titre… | G58: Sous-titre… | H58: Sous-titre… | I58: Sous-titre… | J58: Sous-titre… | K58: Sous-titre… | L58: Sous-titre… | O58: « Hep ! Mon Journal ! », par l'Hepicerie
O59: Vous utilisez la version : | P59: v. 0.9
F60: Sous-titre… | G60: Sous-titre… | H60: Sous-titre… | I60: Sous-titre… | J60: Sous-titre… | K60: Sous-titre… | L60: Sous-titre… | P60: Licence CC BY-NC-ND

Sheet 📘Lundi
B2: 📘 Mon journal du jour : | G2: =IF(ISNUMBER('Plan hebdomadaire'!H2), 'Plan hebdomadaire'!H2, "Veuillez spécifiez la semaine dans le Plan hebdomadaire !") -> 45901 | H2: FALSE | I2: ♻️ Impression écologique
B4: REMARQUES : | I4: ABSENCES :
H5: =REPT(CHAR(10)&CHAR(160), 3)
B8: 🕗 | E8: 📚 DISCIPLINE | G8: 📝 DÉROULEMENT | I8: 🎯 OBJECTIFS | K8: ✏️ OBSERVATIONS
B10: {=IFERROR(IF(MOD(ROW() - ROW($B$10) + 1, 2) = 1, TEXT(INDEX(_xlfn._xlws.FILTER('Plan hebdomadaire'!E$5:E$60, ('Plan hebdomadaire'!E$5:E$60 <> "")), INT((ROW() - ROW($B$10) + 2) / 2)), "hh:mm"), TEXT(INDEX(_xlfn._xlws.FILTER('Plan hebdomadaire'!E$5:E$60, ('Plan hebdomadaire'!E$5:E$60 <> "")), INT((ROW() - ROW($B$10) + 3) / 2)), "hh:mm") & CHAR(10)), "")} -> 08:00 | D10: {=_xlfn._xlws.FILTER(IF((('Plan hebdomadaire'!F5:F30 = "") + ('Plan hebdomadaire'!F5:F30 = 0)) > 0, "", 'Plan hebdomadaire'!F5:F30), ('Plan hebdomadaire'!E5:E30 <> ""))} -> Exemple | E10: {=IFERROR(_xlfn._xlws.FILTER(IF((('Plan hebdomadaire'!F5:F60 = "Sous-titre…") + ('Plan hebdomadaire'!F5:F60 = "Sous-titre...") + ('Plan hebdomadaire'!F5:F60 = "")), "", 'Plan hebdomadaire'!F5:F60), ($B$11:$B$66 <> "")), "")} -> Exemple | F10: =IF(G10<>"","📌",IF(E10<>""," Mémo :","")) -> 📌 | G10: Ceci est un exemple de mémo
B11: {=IFERROR(IF(MOD(ROW() - ROW($B$10) + 1, 2) = 1, TEXT(INDEX(_xlfn._xlws.FILTER('Plan hebdomadaire'!E$5:E$60, ('Plan hebdomadaire'!E$5:E$60 <> "")), INT((ROW() - ROW($B$10) + 2) / 2)), "hh:mm"), TEXT(INDEX(_xlfn._xlws.FILTER('Plan hebdomadaire'!E$5:E$60, ('Plan hebdomadaire'!E$5:E$60 <> "")), INT((ROW() - ROW($B$10) + 3) / 2)), "hh:mm") & CHAR(10)), "")} -> 08:50
B12: {=IFERROR(IF(MOD(ROW() - ROW($B$10) + 1, 2) = 1, TEXT(INDEX(_xlfn._xlws.FILTER('Plan hebdomadaire'!E$5:E$60, ('Plan hebdomadaire'!E$5:E$60 <> "")), INT((ROW() - ROW($B$10) + 2) / 2)), "hh:mm"), TEXT(INDEX(_xlfn._xlws.FILTER('Plan hebdomadaire'!E$5:E$60, ('Plan hebdomadaire'!E$5:E$60 <> "")), INT((ROW() - ROW($B$10) + 3) / 2)), "hh:mm") & CHAR(10)), "")} -> 08:50 | F12: =IF(G12<>"","📌",IF(E12<>""," Mémo :",""))
B13: {=IFERROR(IF(MOD(ROW() - ROW($B$10) + 1, 2) = 1, TEXT(INDEX(_xlfn._xlws.FILTER('Plan hebdomadaire'!E$5:E$60, ('Plan hebdomadaire'!E$5:E$60 <> "")), INT((ROW() - ROW($B$10) + 2) / 2)), "hh:mm"), TEXT(INDEX(_xlfn._xlws.FILTER('Plan hebdomadaire'!E$5:E$60, ('Plan hebdomadaire'!E$5:E$60 <> "")), INT((ROW() - ROW($B$10) + 3) / 2)), "hh:mm") & CHAR(10)), "")} -> 09:40
B14: {=IFERROR(IF(MOD(ROW() - ROW($B$10) + 1, 2) = 1, TEXT(INDEX(_xlfn._xlws.FILTER('Plan hebdomadaire'!E$5:E$60, ('Plan hebdomadaire'!E$5:E$60 <> "")), INT((ROW() - ROW($B$10) + 2) / 2)), "hh:mm"), TEXT(INDEX(_xlfn._xlws.FILTER('Plan hebdomadaire'!E$5:E$60, ('Plan hebdomadaire'!E$5:E$60 <> "")), INT((ROW() - ROW($B$10) + 3) / 2)), "hh:mm") & CHAR(10)), "")} -> 09:40 | F14: =IF(G14<>"","📌",IF(E14<>""," Mémo :",""))
B15: {=IFERROR(IF(MOD(ROW() - ROW($B$10) + 1, 2) = 1, TEXT(INDEX(_xlfn._xlws.FILTER('Plan hebdomadaire'!E$5:E$60, ('Plan hebdomadaire'!E$5:E$60 <> "")), INT((ROW() - ROW($B$10) + 2) / 2)), "hh:mm"), TEXT(INDEX(_xlfn._xlws.FILTER('Plan hebdomadaire'!E$5:E$60, ('Plan hebdomadaire'!E$5:E$60 <> "")), INT((ROW() - ROW($B$10) + 3) / 2)), "hh:mm") & CHAR(10)), "")} -> 10:00
B16: {=IFERROR(IF(MOD(ROW() - ROW($B$10) + 1, 2) = 1, TEXT(INDEX(_xlfn._xlws.FILTER('Plan hebdomadaire'!E$5:E$60, ('Plan hebdomadaire'!E$5:E$60 <> "")), INT((ROW() - ROW($B$10) + 2) / 2)), "hh:mm"), TEXT(INDEX(_xlfn._xlws.FILTER('Plan hebdomadaire'!E$5:E$60, ('Plan hebdomadaire'!E$5:E$60 <> "")), INT((ROW() - ROW($B$10) + 3) / 2)), "hh:mm") & CHAR(10)), "")} -> 10:00 | F16: =IF(G16<>"","📌",IF(E16<>""," Mémo :",""))
B17: {=IFERROR(IF(MOD(ROW() - ROW($B$10) + 1, 2) = 1, TEXT(INDEX(_xlfn._xlws.FILTER('Plan hebdomadaire'!E$5:E$60, ('Plan hebdomadaire'!E$5:E$60 <> "")), INT((ROW() - ROW($B$10) + 2) / 2)), "hh:mm"), TEXT(INDEX(_xlfn._xlws.FILTER('Plan hebdomadaire'!E$5:E$60, ('Plan hebdomadaire'!E$5:E$60 <> "")), INT((ROW() - ROW($B$10) + 3) / 2)), "hh:mm") & CHAR(10)), "")} -> 10:50
B18: {=IFERROR(IF(MOD(ROW() - ROW($B$10) + 1, 2) = 1, TEXT(INDEX(_xlfn._xlws.FILTER('Plan hebdomadaire'!E$5:E$60, ('Plan hebdomadaire'!E$5:E$60 <> "")), INT((ROW() - ROW($B$10) + 2) / 2)), "hh:mm"), TEXT(INDEX(_xlfn._xlws.FILTER('Plan hebdomadaire'!E$5:E$60, ('Plan hebdomadaire'!E$5:E$60 <> "")), INT((ROW() - ROW($B$10) + 3) / 2)), "hh:mm") & CHAR(10)), "")} -> 10:50 | F18: =IF(G18<>"","📌",IF(E18<>""," Mémo :",""))
B19: {=IFERROR(IF(MOD(ROW() - ROW($B$10) + 1, 2) = 1, TEXT(INDEX(_xlfn._xlws.FILTER('Plan hebdomadaire'!E$5:E$60, ('Plan hebdomadaire'!E$5:E$60 <> "")), INT((ROW() - ROW($B$10) + 2) / 2)), "hh:mm"), TEXT(INDEX(_xlfn._xlws.FILTER('Plan hebdomadaire'!E$5:E$60, ('Plan hebdomadaire'!E$5:E$60 <> "")), INT((ROW() - ROW($B$10) + 3) / 2)), "hh:mm") & CHAR(10)), "")} -> 11:30
B20: {=IFERROR(IF(MOD(ROW() - ROW($B$10) + 1, 2) = 1, TEXT(INDEX(_xlfn._xlws.FILTER('Plan hebdomadaire'!E$5:E$60, ('Plan hebdomadaire'!E$5:E$60 <> "")), INT((ROW() - ROW($B$10) + 2) / 2)), "hh:mm"), TEXT(INDEX(_xlfn._xlws.FILTER('Plan hebdomadaire'!E$5:E$60, ('Plan hebdomadaire'!E$5:E$60 <> "")), INT((ROW() - ROW($B$10) + 3) / 2)), "hh:mm") & CHAR(10)), "")} -> 11:30 | F20: =IF(G20<>"","📌",IF(E20<>""," Mémo :",""))
B21: {=IFERROR(IF(MOD(ROW() - ROW($B$10) + 1, 2) = 1, TEXT(INDEX(_xlfn._xlws.FILTER('Plan hebdomadaire'!E$5:E$60, ('Plan hebdomadaire'!E$5:E$60 <> "")), INT((ROW() - ROW($B$10) + 2) / 2)), "hh:mm"), TEXT(INDEX(_xlfn._xlws.FILTER('Plan hebdomadaire'!E$5:E$60, ('Plan hebdomadaire'!E$5:E$60 <> "")), INT((ROW() - ROW($B$10) + 3) / 2)), "hh:mm") & CHAR(10)), "")} -> 13:50
B22: {=IFERROR(IF(MOD(ROW() - ROW($B$10) + 1, 2) = 1, TEXT(INDEX(_xlfn._xlws.FILTER('Plan hebdomadaire'!E$5:E$60, ('Plan hebdomadaire'!E$5:E$60 <> "")), INT((ROW() - ROW($B$10) + 2) / 2)), "hh:mm"), TEXT(INDEX(_xlfn._xlws.FILTER('Plan hebdomadaire'!E$5:E$60, ('Plan hebdomadaire'!E$5:E$60 <> "")), INT((ROW() - ROW($B$10) + 3) / 2)), "hh:mm") & CHAR(10)), "")} -> 13:50 | F22: =IF(G22<>"","📌",IF(E22<>""," Mémo :",""))
B23: {=IFERROR(IF(MOD(ROW() - ROW($B$10) + 1, 2) = 1, TEXT(INDEX(_xlfn._xlws.FILTER('Plan hebdomadaire'!E$5:E$60, ('Plan hebdomadaire'!E$5:E$60 <> "")), INT((ROW() - ROW($B$10) + 2) / 2)), "hh:mm"), TEXT(INDEX(_xlfn._xlws.FILTER('Plan hebdomadaire'!E$5:E$60, ('Plan hebdomadaire'!E$5:E$60 <> "")), INT((ROW() - ROW($B$10) + 3) / 2)), "hh:mm") & CHAR(10)), "")} -> 14:40
B24: {=IFERROR(IF(MOD(ROW() - ROW($B$10) + 1, 2) = 1, TEXT(INDEX(_xlfn._xlws.FILTER('Plan hebdomadaire'!E$5:E$60, ('Plan hebdomadaire'!E$5:E$60 <> "")), INT((ROW() - ROW($B$10) + 2) / 2)), "hh:mm"), TEXT(INDEX(_xlfn._xlws.FILTER('Plan hebdomadaire'!E$5:E$60, ('Plan hebdomadaire'!E$5:E$60 <> "")), INT((ROW() - ROW($B$10) + 3) / 2)), "hh:mm") & CHAR(10)), "")} -> 14:40 | F24: =IF(G24<>"","📌",IF(E24<>""," Mémo :",""))
B25: {=IFERROR(IF(MOD(ROW() - ROW($B$10) + 1, 2) = 1, TEXT(INDEX(_xlfn._xlws.FILTER('Plan hebdomadaire'!E$5:E$60, ('Plan hebdomadaire'!E$5:E$60 <> "")), INT((ROW() - ROW($B$10) + 2) / 2)), "hh:mm"), TEXT(INDEX(_xlfn._xlws.FILTER('Plan hebdomadaire'!E$5:E$60, ('Plan hebdomadaire'!E$5:E$60 <> "")), INT((ROW() - ROW($B$10) + 3) / 2)), "hh:mm") & CHAR(10)), "")} -> 15:30
B26: {=IFERROR(IF(MOD(ROW() - ROW($B$10) + 1, 2) = 1, TEXT(INDEX(_xlfn._xlws.FILTER('Plan hebdomadaire'!E$5:E$60, ('Plan hebdomadaire'!E$5:E$60 <> "")), INT((ROW() - ROW($B$10) + 2) / 2)), "hh:mm"), TEXT(INDEX(_xlfn._xlws.FILTER('Plan hebdomadaire'!E$5:E$60, ('Plan hebdomadaire'!E$5:E$60 <> "")), INT((ROW() - ROW($B$10) + 3) / 2)), "hh:mm") & CHAR(10)), "")} -> 15:30 | F26: =IF(G26<>"","📌",IF(E26<>""," Mémo :",""))
B27: {=IFERROR(IF(MOD(ROW() - ROW($B$10) + 1, 2) = 1, TEXT(INDEX(_xlfn._xlws.FILTER('Plan hebdomadaire'!E$5:E$60, ('Plan hebdomadaire'!E$5:E$60 <> "")), INT((ROW() - ROW($B$10) + 2) / 2)), "hh:mm"), TEXT(INDEX(_xlfn._xlws.FILTER('Plan hebdomadaire'!E$5:E$60, ('Plan hebdomadaire'!E$5:E$60 <> "")), INT((ROW() - ROW($B$10) + 3) / 2)), "hh:mm") & CHAR(10)), "")}
B28: {=IFERROR(IF(MOD(ROW() - ROW($B$10) + 1, 2) = 1, TEXT(INDEX(_xlfn._xlws.FILTER('Plan hebdomadaire'!E$5:E$60, ('Plan hebdomadaire'!E$5:E$60 <> "")), INT((ROW() - ROW($B$10) + 2) / 2)), "hh:mm"), TEXT(INDEX(_xlfn._xlws.FILTER('Plan hebdomadaire'!E$5:E$60, ('Plan hebdomadaire'!E$5:E$60 <> "")), INT((ROW() - ROW($B$10) + 3) / 2)), "hh:mm") & CHAR(10)), "")} | F28: =IF(G28<>"","📌",IF(E28<>""," Mémo :",""))
B29: {=IFERROR(IF(MOD(ROW() - ROW($B$10) + 1, 2) = 1, TEXT(INDEX(_xlfn._xlws.FILTER('Plan hebdomadaire'!E$5:E$60, ('Plan hebdomadaire'!E$5:E$60 <> "")), INT((ROW() - ROW($B$10) + 2) / 2)), "hh:mm"), TEXT(INDEX(_xlfn._xlws.FILTER('Plan hebdomadaire'!E$5:E$60, ('Plan hebdomadaire'!E$5:E$60 <> "")), INT((ROW() - ROW($B$10) + 3) / 2)), "hh:mm") & CHAR(10)), "")}
B30: {=IFERROR(IF(MOD(ROW() - ROW($B$10) + 1, 2) = 1, TEXT(INDEX(_xlfn._xlws.FILTER('Plan hebdomadaire'!E$5:E$60, ('Plan hebdomadaire'!E$5:E$60 <> "")), INT((ROW() - ROW($B$10) + 2) / 2)), "hh:mm"), TEXT(INDEX(_xlfn._xlws.FILTER('Plan hebdomadaire'!E$5:E$60, ('Plan hebdomadaire'!E$5:E$60 <> "")), INT((ROW() - ROW($B$10) + 3) / 2)), "hh:mm") & CHAR(10)), "")} | F30: =IF(G30<>"","📌",IF(E30<>""," Mémo :",""))
B31: {=IFERROR(IF(MOD(ROW() - ROW($B$10) + 1, 2) = 1, TEXT(INDEX(_xlfn._xlws.FILTER('Plan hebdomadaire'!E$5:E$60, ('Plan hebdomadaire'!E$5:E$60 <> "")), INT((ROW() - ROW($B$10) + 2) / 2)), "hh:mm"), TEXT(INDEX(_xlfn._xlws.FILTER('Plan hebdomadaire'!E$5:E$60, ('Plan hebdomadaire'!E$5:E$60 <> "")), INT((ROW() - ROW($B$10) + 3) / 2)), "hh:mm") & CHAR(10)), "")}
B32: {=IFERROR(IF(MOD(ROW() - ROW($B$10) + 1, 2) = 1, TEXT(INDEX(_xlfn._xlws.FILTER('Plan hebdomadaire'!E$5:E$60, ('Plan hebdomadaire'!E$5:E$60 <> "")), INT((ROW() - ROW($B$10) + 2) / 2)), "hh:mm"), TEXT(INDEX(_xlfn._xlws.FILTER('Plan hebdomadaire'!E$5:E$60, ('Plan hebdomadaire'!E$5:E$60 <> "")), INT((ROW() - ROW($B$10) + 3) / 2)), "hh:mm") & CHAR(10)), "")} | F32: =IF(G32<>"","📌",IF(E32<>""," Mémo :",""))
B33: {=IFERROR(IF(MOD(ROW() - ROW($B$10) + 1, 2) = 1, TEXT(INDEX(_xlfn._xlws.FILTER('Plan hebdomadaire'!E$5:E$60, ('Plan hebdomadaire'!E$5:E$60 <> "")), INT((ROW() - ROW($B$10) + 2) / 2)), "hh:mm"), TEXT(INDEX(_xlfn._xlws.FILTER('Plan hebdomadaire'!E$5:E$60, ('Plan hebdomadaire'!E$5:E$60 <> "")), INT((ROW() - ROW($B$10) + 3) / 2)), "hh:mm") & CHAR(10)), "")}
B34: {=IFERROR(IF(MOD(ROW() - ROW($B$10) + 1, 2) = 1, TEXT(INDEX(_xlfn._xlws.FILTER('Plan hebdomadaire'!E$5:E$60, ('Plan hebdomadaire'!E$5:E$60 <> "")), INT((ROW() - ROW($B$10) + 2) / 2)), "hh:mm"), TEXT(INDEX(_xlfn._xlws.FILTER('Plan hebdomadaire'!E$5:E$60, ('Plan hebdomadaire'!E$5:E$60 <> "")), INT((ROW() - ROW($B$10) + 3) / 2)), "hh:mm") & CHAR(10)), "")} | F34: =IF(G34<>"","📌",IF(E34<>""," Mémo :",""))
B35: {=IFERROR(IF(MOD(ROW() - ROW($B$10) + 1, 2) = 1, TEXT(INDEX(_xlfn._xlws.FILTER('Plan hebdomadaire'!E$5:E$60, ('Plan hebdomadaire'!E$5:E$60 <> "")), INT((ROW() - ROW($B$10) + 2) / 2)), "hh:mm"), TEXT(INDEX(_xlfn._xlws.FILTER('Plan hebdomadaire'!E$5:E$60, ('Plan hebdomadaire'!E$5:E$60 <> "")), INT((ROW() - ROW($B$10) + 3) / 2)), "hh:mm") & CHAR(10)), "")}
B36: {=IFERROR(IF(MOD(ROW() - ROW($B$10) + 1, 2) = 1, TEXT(INDEX(_xlfn._xlws.FILTER('Plan hebdomadaire'!E$5:E$60, ('Plan hebdomadaire'!E$5:E$60 <> "")), INT((ROW() - ROW($B$10) + 2) / 2)), "hh:mm"), TEXT(INDEX(_xlfn._xlws.FILTER('Plan hebdomadaire'!E$5:E$60, ('Plan hebdomadaire'!E$5:E$60 <> "")), INT((ROW() - ROW($B$10) + 3) / 2)), "hh:mm") & CHAR(10)), "")} | F36: =IF(G36<>"","📌",IF(E36<>""," Mémo :",""))
B37: {=IFERROR(IF(MOD(ROW() - ROW($B$10) + 1, 2) = 1, TEXT(INDEX(_xlfn._xlws.FILTER('Plan hebdomadaire'!E$5:E$60, ('Plan hebdomadaire'!E$5:E$60 <> "")), INT((ROW() - ROW($B$10) + 2) / 2)), "hh:mm"), TEXT(INDEX(_xlfn._xlws.FILTER('Plan hebdomadaire'!E$5:E$60, ('Plan hebdomadaire'!E$5:E$60 <> "")), INT((ROW() - ROW($B$10) + 3) / 2)), "hh:mm") & CHAR(10)), "")}
B38: {=IFERROR(IF(MOD(ROW() - ROW($B$10) + 1, 2) = 1, TEXT(INDEX(_xlfn._xlws.FILTER('Plan hebdomadaire'!E$5:E$60, ('Plan hebdomadaire'!E$5:E$60 <> "")), INT((ROW() - ROW($B$10) + 2) / 2)), "hh:mm"), TEXT(INDEX(_xlfn._xlws.FILTER('Plan hebdomadaire'!E$5:E$60, ('Plan hebdomadaire'!E$5:E$60 <> "")), INT((ROW() - ROW($B$10) + 3) / 2)), "hh:mm") & CHAR(10)), "")} | F38: =IF(G38<>"","📌",IF(E38<>""," Mémo :",""))
B39: {=IFERROR(IF(MOD(ROW() - ROW($B$10) + 1, 2) = 1, TEXT(INDEX(_xlfn._xlws.FILTER('Plan hebdomadaire'!E$5:E$60, ('Plan hebdomadaire'!E$5:E$60 <> "")), INT((ROW() - ROW($B$10) + 2) / 2)), "hh:mm"), TEXT(INDEX(_xlfn._xlws.FILTER('Plan hebdomadaire'!E$5:E$60, ('Plan hebdomadaire'!E$5:E$60 <> "")), INT((ROW() - ROW($B$10) + 3) / 2)), "hh:mm") & CHAR(10)), "")}
B40: {=IFERROR(IF(MOD(ROW() - ROW($B$10) + 1, 2) = 1, TEXT(INDEX(_xlfn._xlws.FILTER('Plan hebdomadaire'!E$5:E$60, ('Plan hebdomadaire'!E$5:E$60 <> "")), INT((ROW() - ROW($B$10) + 2) / 2)), "hh:mm"), TEXT(INDEX(_xlfn._xlws.FILTER('Plan hebdomadaire'!E$5:E$60, ('Plan hebdomadaire'!E$5:E$60 <> "")), INT((ROW() - ROW($B$10) + 3) / 2)), "hh:mm") & CHAR(10)), "")} | F40: =IF(G40<>"","📌",IF(E40<>""," Mémo :",""))
B41: {=IFERROR(IF(MOD(ROW() - ROW($B$10) + 1, 2) = 1, TEXT(INDEX(_xlfn._xlws.FILTER('Plan hebdomadaire'!E$5:E$60, ('Plan hebdomadaire'!E$5:E$60 <> "")), INT((ROW() - ROW($B$10) + 2) / 2)), "hh:mm"), TEXT(INDEX(_xlfn._xlws.FILTER('Plan hebdomadaire'!E$5:E$60, ('Plan hebdomadaire'!E$5:E$60 <> "")), INT((ROW() - ROW($B$10) + 3) / 2)), "hh:mm") & CHAR(10)), "")}
B42: {=IFERROR(IF(MOD(ROW() - ROW($B$10) + 1, 2) = 1, TEXT(INDEX(_xlfn._xlws.FILTER('Plan hebdomadaire'!E$5:E$60, ('Plan hebdomadaire'!E$5:E$60 <> "")), INT((ROW() - ROW($B$10) + 2) / 2)), "hh:mm"), TEXT(INDEX(_xlfn._xlws.FILTER('Plan hebdomadaire'!E$5:E$60, ('Plan hebdomadaire'!E$5:E$60 <> "")), INT((ROW() - ROW($B$10) + 3) / 2)), "hh:mm") & CHAR(10)), "")} | F42: =IF(G42<>"","📌",IF(E42<>""," Mémo :",""))
B43: {=IFERROR(IF(MOD(ROW() - ROW($B$10) + 1, 2) = 1, TEXT(INDEX(_xlfn._xlws.FILTER('Plan hebdomadaire'!E$5:E$60, ('Plan hebdomadaire'!E$5:E$60 <> "")), INT((ROW() - ROW($B$10) + 2) / 2)), "hh:mm"), TEXT(INDEX(_xlfn._xlws.FILTER('Plan hebdomadaire'!E$5:E$60, ('Plan hebdomadaire'!E$5:E$60 <> "")), INT((ROW() - ROW($B$10) + 3) / 2)), "hh:mm") & CHAR(10)), "")}
B44: {=IFERROR(IF(MOD(ROW() - ROW($B$10) + 1, 2) = 1, TEXT(INDEX(_xlfn._xlws.FILTER('Plan hebdomadaire'!E$5:E$60, ('Plan hebdomadaire'!E$5:E$60 <> "")), INT((ROW() - ROW($B$10) + 2) / 2)), "hh:mm"), TEXT(INDEX(_xlfn._xlws.FILTER('Plan hebdomadaire'!E$5:E$60, ('Plan hebdomadaire'!E$5:E$60 <> "")), INT((ROW() - ROW($B$10) + 3) / 2)), "hh:mm") & CHAR(10)), "")} | F44: =IF(G44<>"","📌",IF(E44<>""," Mémo :",""))
B45: {=IFERROR(IF(MOD(ROW() - ROW($B$10) + 1, 2) = 1, TEXT(INDEX(_xlfn._xlws.FILTER('Plan hebdomadaire'!E$5:E$60, ('Plan hebdomadaire'!E$5:E$60 <> "")), INT((ROW() - ROW($B$10) + 2) / 2)), "hh:mm"), TEXT(INDEX(_xlfn._xlws.FILTER('Plan hebdomadaire'!E$5:E$60, ('Plan hebdomadaire'!E$5:E$60 <> "")), INT((ROW() - ROW($B$10) + 3) / 2)), "hh:mm") & CHAR(10)), "")}
B46: {=IFERROR(IF(MOD(ROW() - ROW($B$10) + 1, 2) = 1, TEXT(INDEX(_xlfn._xlws.FILTER('Plan hebdomadaire'!E$5:E$60, ('Plan hebdomadaire'!E$5:E$60 <> "")), INT((ROW() - ROW($B$10) + 2) / 2)), "hh:mm"), TEXT(INDEX(_xlfn._xlws.FILTER('Plan hebdomadaire'!E$5:E$60, ('Plan hebdomadaire'!E$5:E$60 <> "")), INT((ROW() - ROW($B$10) + 3) / 2)), "hh:mm") & CHAR(10)), "")} | F46: =IF(G46<>"","📌",IF(E46<>""," Mémo :",""))
B47: {=IFERROR(IF(MOD(ROW() - ROW($B$10) + 1, 2) = 1, TEXT(INDEX(_xlfn._xlws.FILTER('Plan hebdomadaire'!E$5:E$60, ('Plan hebdomadaire'!E$5:E$60 <> "")), INT((ROW() - ROW($B$10) + 2) / 2)), "hh:mm"), TEXT(INDEX(_xlfn._xlws.FILTER('Plan hebdomadaire'!E$5:E$60, ('Plan hebdomadaire'!E$5:E$60 <> "")), INT((ROW() - ROW($B$10) + 3) / 2)), "hh:mm") & CHAR(10)), "")}
B48: {=IFERROR(IF(MOD(ROW() - ROW($B$10) + 1, 2) = 1, TEXT(INDEX(_xlfn._xlws.FILTER('Plan hebdomadaire'!E$5:E$60, ('Plan hebdomadaire'!E$5:E$60 <> "")), INT((ROW() - ROW($B$10) + 2) / 2)), "hh:mm"), TEXT(INDEX(_xlfn._xlws.FILTER('Plan hebdomadaire'!E$5:E$60, ('Plan hebdomadaire'!E$5:E$60 <> "")), INT((ROW() - ROW($B$10) + 3) / 2)), "hh:mm") & CHAR(10)), "")} | F48: =IF(G48<>"","📌",IF(E48<>""," Mémo :",""))
B49: {=IFERROR(IF(MOD(ROW() - ROW($B$10) + 1, 2) = 1, TEXT(INDEX(_xlfn._xlws.FILTER('Plan hebdomadaire'!E$5:E$60, ('Plan hebdomadaire'!E$5:E$60 <> "")), INT((ROW() - ROW($B$10) + 2) / 2)), "hh:mm"), TEXT(INDEX(_xlfn._xlws.FILTER('Plan hebdomadaire'!E$5:E$60, ('Plan hebdomadaire'!E$5:E$60 <> "")), INT((ROW() - ROW($B$10) + 3) / 2)), "hh:mm") & CHAR(10)), "")}
B50: {=IFERROR(IF(MOD(ROW() - ROW($B$10) + 1, 2) = 1, TEXT(INDEX(_xlfn._xlws.FILTER('Plan hebdomadaire'!E$5:E$60, ('Plan hebdomadaire'!E$5:E$60 <> "")), INT((ROW() - ROW($B$10) + 2) / 2)), "hh:mm"), TEXT(INDEX(_xlfn._xlws.FILTER('Plan hebdomadaire'!E$5:E$60, ('Plan hebdomadaire'!E$5:E$60 <> "")), INT((ROW() - ROW($B$10) + 3) / 2)), "hh:mm") & CHAR(10)), "")} | F50: =IF(G50<>"","📌",IF(E50<>""," Mémo :",""))
B51: {=IFERROR(IF(MOD(ROW() - ROW($B$10) + 1, 2) = 1, TEXT(INDEX(_xlfn._xlws.FILTER('Plan hebdomadaire'!E$5:E$60, ('Plan hebdomadaire'!E$5:E$60 <> "")), INT((ROW() - ROW($B$10) + 2) / 2)), "hh:mm"), TEXT(INDEX(_xlfn._xlws.FILTER('Plan hebdomadaire'!E$5:E$60, ('Plan hebdomadaire'!E$5:E$60 <> "")), INT((ROW() - ROW($B$10) + 3) / 2)), "hh:mm") & CHAR(10)), "")}
B52: {=IFERROR(IF(MOD(ROW() - ROW($B$10) + 1, 2) = 1, TEXT(INDEX(_xlfn._xlws.FILTER('Plan hebdomadaire'!E$5:E$60, ('Plan hebdomadaire'!E$5:E$60 <> "")), INT((ROW() - ROW($B$10) + 2) / 2)), "hh:mm"), TEXT(INDEX(_xlfn._xlws.FILTER('Plan hebdomadaire'!E$5:E$60, ('Plan hebdomadaire'!E$5:E$60 <> "")), INT((ROW() - ROW($B$10) + 3) / 2)), "hh:mm") & CHAR(10)), "")} | F52: =IF(G52<>"","📌",IF(E52<>""," Mémo :",""))
B53: {=IFERROR(IF(MOD(ROW() - ROW($B$10) + 1, 2) = 1, TEXT(INDEX(_xlfn._xlws.FILTER('Plan hebdomadaire'!E$5:E$60, ('Plan hebdomadaire'!E$5:E$60 <> "")), INT((ROW() - ROW($B$10) + 2) / 2)), "hh:mm"), TEXT(INDEX(_xlfn._xlws.FILTER('Plan hebdomadaire'!E$5:E$60, ('Plan hebdomadaire'!E$5:E$60 <> "")), INT((ROW() - ROW($B$10) + 3) / 2)), "hh:mm") & CHAR(10)), "")}
B54: {=IFERROR(IF(MOD(ROW() - ROW($B$10) + 1, 2) = 1, TEXT(INDEX(_xlfn._xlws.FILTER('Plan hebdomadaire'!E$5:E$60, ('Plan hebdomadaire'!E$5:E$60 <> "")), INT((ROW() - ROW($B$10) + 2) / 2)), "hh:mm"), TEXT(INDEX(_xlfn._xlws.FILTER('Plan hebdomadaire'!E$5:E$60, ('Plan hebdomadaire'!E$5:E$60 <> "")), INT((ROW() - ROW($B$10) + 3) / 2)), "hh:mm") & CHAR(10)), "")} | F54: =IF(G54<>"","📌",IF(E54<>""," Mémo :",""))
B55: {=IFERROR(IF(MOD(ROW() - ROW($B$10) + 1, 2) = 1, TEXT(INDEX(_xlfn._xlws.FILTER('Plan hebdomadaire'!E$5:E$60, ('Plan hebdomadaire'!E$5:E$60 <> "")), INT((ROW() - ROW($B$10) + 2) / 2)), "hh:mm"), TEXT(INDEX(_xlfn._xlws.FILTER('Plan hebdomadaire'!E$5:E$60, ('Plan hebdomadaire'!E$5:E$60 <> "")), INT((ROW() - ROW($B$10) + 3) / 2)), "hh:mm") & CHAR(10)), "")}
B56: {=IFERROR(IF(MOD(ROW() - ROW($B$10) + 1, 2) = 1, TEXT(INDEX(_xlfn._xlws.FILTER('Plan hebdomadaire'!E$5:E$60, ('Plan hebdomadaire'!E$5:E$60 <> "")), INT((ROW() - ROW($B$10) + 2) / 2)), "hh:mm"), TEXT(INDEX(_xlfn._xlws.FILTER('Plan hebdomadaire'!E$5:E$60, ('Plan hebdomadaire'!E$5:E$60 <> "")), INT((ROW() - ROW($B$10) + 3) / 2)), "hh:mm") & CHAR(10)), "")} | F56: =IF(G56<>"","📌",IF(E56<>""," Mémo :",""))
B57: {=IFERROR(IF(MOD(ROW() - ROW($B$10) + 1, 2) = 1, TEXT(INDEX(_xlfn._xlws.FILTER('Plan hebdomadaire'!E$5:E$60, ('Plan hebdomadaire'!E$5:E$60 <> "")), INT((ROW() - ROW($B$10) + 2) / 2)), "hh:mm"), TEXT(INDEX(_xlfn._xlws.FILTER('Plan hebdomadaire'!E$5:E$60, ('Plan hebdomadaire'!E$5:E$60 <> "")), INT((ROW() - ROW($B$10) + 3) / 2)), "hh:mm") & CHAR(10)), "")}
B58: {=IFERROR(IF(MOD(ROW() - ROW($B$10) + 1, 2) = 1, TEXT(INDEX(_xlfn._xlws.FILTER('Plan hebdomadaire'!E$5:E$60, ('Plan hebdomadaire'!E$5:E$60 <> "")), INT((ROW() - ROW($B$10) + 2) / 2)), "hh:mm"), TEXT(INDEX(_xlfn._xlws.FILTER('Plan hebdomadaire'!E$5:E$60, ('Plan hebdomadaire'!E$5:E$60 <> "")), INT((ROW() - ROW($B$10) + 3) / 2)), "hh:mm") & CHAR(10)), "")} | F58: =IF(G58<>"","📌",IF(E58<>""," Mémo :",""))
B59: {=IFERROR(IF(MOD(ROW() - ROW($B$10) + 1, 2) = 1, TEXT(INDEX(_xlfn._xlws.FILTER('Plan hebdomadaire'!E$5:E$60, ('Plan hebdomadaire'!E$5:E$60 <> "")), INT((ROW() - ROW($B$10) + 2) / 2)), "hh:mm"), TEXT(INDEX(_xlfn._xlws.FILTER('Plan hebdomadaire'!E$5:E$60, ('Plan hebdomadaire'!E$5:E$60 <> "")), INT((ROW() - ROW($B$10) + 3) / 2)), "hh:mm") & CHAR(10)), "")}
B60: {=IFERROR(IF(MOD(ROW() - ROW($B$10) + 1, 2) = 1, TEXT(INDEX(_xlfn._xlws.FILTER('Plan hebdomadaire'!E$5:E$60, ('Plan hebdomadaire'!E$5:E$60 <> "")), INT((ROW() - ROW($B$10) + 2) / 2)), "hh:mm"), TEXT(INDEX(_xlfn._xlws.FILTER('Plan hebdomadaire'!E$5:E$60, ('Plan hebdomadaire'!E$5:E$60 <> "")), INT((ROW() - ROW($B$10) + 3) / 2)), "hh:mm") & CHAR(10)), "")} | F60: =IF(G60<>"","📌",IF(E60<>""," Mémo :",""))
B61: {=IFERROR(IF(MOD(ROW() - ROW($B$10) + 1, 2) = 1, TEXT(INDEX(_xlfn._xlws.FILTER('Plan hebdomadaire'!E$5:E$60, ('Plan hebdomadaire'!E$5:E$60 <> "")), INT((ROW() - ROW($B$10) + 2) / 2)), "hh:mm"), TEXT(INDEX(_xlfn._xlws.FILTER('Plan hebdomadaire'!E$5:E$60, ('Plan hebdomadaire'!E$5:E$60 <> "")), INT((ROW() - ROW($B$10) + 3) / 2)), "hh:mm") & CHAR(10)), "")}
B62: {=IFERROR(IF(MOD(ROW() - ROW($B$10) + 1, 2) = 1, TEXT(INDEX(_xlfn._xlws.FILTER('Plan hebdomadaire'!E$5:E$60, ('Plan hebdomadaire'!E$5:E$60 <> "")), INT((ROW() - ROW($B$10) + 2) / 2)), "hh:mm"), TEXT(INDEX(_xlfn._xlws.FILTER('Plan hebdomadaire'!E$5:E$60, ('Plan hebdomadaire'!E$5:E$60 <> "")), INT((ROW() - ROW($B$10) + 3) / 2)), "hh:mm") & CHAR(10)), "")} | F62: =IF(G62<>"","📌",IF(E62<>""," Mémo :",""))
B63: {=IFERROR(IF(MOD(ROW() - ROW($B$10) + 1, 2) = 1, TEXT(INDEX(_xlfn._xlws.FILTER('Plan hebdomadaire'!E$5:E$60, ('Plan hebdomadaire'!E$5:E$60 <> "")), INT((ROW() - ROW($B$10) + 2) / 2)), "hh:mm"), TEXT(INDEX(_xlfn._xlws.FILTER('Plan hebdomadaire'!E$5:E$60, ('Plan hebdomadaire'!E$5:E$60 <> "")), INT((ROW() - ROW($B$10) + 3) / 2)), "hh:mm") & CHAR(10)), "")}
B64: {=IFERROR(IF(MOD(ROW() - ROW($B$10) + 1, 2) = 1, TEXT(INDEX(_xlfn._xlws.FILTER('Plan hebdomadaire'!E$5:E$60, ('Plan hebdomadaire'!E$5:E$60 <> "")), INT((ROW() - ROW($B$10) + 2) / 2)), "hh:mm"), TEXT(INDEX(_xlfn._xlws.FILTER('Plan hebdomadaire'!E$5:E$60, ('Plan hebdomadaire'!E$5:E$60 <> "")), INT((ROW() - ROW($B$10) + 3) / 2)), "hh:mm") & CHAR(10)), "")} | F64: =IF(G64<>"","📌",IF(E64<>""," Mémo :",""))
B65: {=IFERROR(IF(MOD(ROW() - ROW($B$10) + 1, 2) = 1, TEXT(INDEX(_xlfn._xlws.FILTER('Plan hebdomadaire'!E$5:E$60, ('Plan hebdomadaire'!E$5:E$60 <> "")), INT((ROW() - ROW($B$10) + 2) / 2)), "hh:mm"), TEXT(INDEX(_xlfn._xlws.FILTER('Plan hebdomadaire'!E$5:E$60, ('Plan hebdomadaire'!E$5:E$60 <> "")), INT((ROW() - ROW($B$10) + 3) / 2)), "hh:mm") & CHAR(10)), "")}
B66: =IF(H2,"","💡 Faire un retour à la ligne dans une cellule : Alt + Entrée (Win) / Cmd + Entrée (Mac) — Copier-coller du contenu externe : double-cliquez d’abord dans la cellule (ou F2) avant de coller !") -> 💡 Faire un retour à la ligne dans une cellule : Alt + Entrée (Win) / Cmd + Entrée (Mac) — Copier-coller du contenu externe : double-cliquez d’abord dans la cellule (ou F2) avant de coller !

Sheet 📕Mardi
B2: 📕 Mon journal du jour : | G2: =IF(ISNUMBER('Plan hebdomadaire'!H2), 'Plan hebdomadaire'!H2+1, "Veuillez spécifiez la semaine dans le Plan hebdomadaire !") -> 45902 | H2: FALSE | I2: ♻️ Impression écologique
B4: REMARQUES : | I4: ABSENCES :
H5: =REPT(CHAR(10)&CHAR(160), 3)
B8: 🕗 | E8: 📚 DISCIPLINE | G8: 📝 DÉROULEMENT | I8: 🎯 OBJECTIFS | K8: ✏️ OBSERVATIONS
B10: {=IFERROR(IF(MOD(ROW() - ROW($B$10) + 1, 2) = 1, TEXT(INDEX(_xlfn._xlws.FILTER('Plan hebdomadaire'!E$5:E$60, ('Plan hebdomadaire'!E$5:E$60 <> "")), INT((ROW() - ROW($B$10) + 2) / 2)), "hh:mm"), TEXT(INDEX(_xlfn._xlws.FILTER('Plan hebdomadaire'!E$5:E$60, ('Plan hebdomadaire'!E$5:E$60 <> "")), INT((ROW() - ROW($B$10) + 3) / 2)), "hh:mm") & CHAR(10)), "")} -> 08:00 | D10: {=_xlfn._xlws.FILTER(IF((('Plan hebdomadaire'!F5:F30 = "") + ('Plan hebdomadaire'!F5:F30 = 0)) > 0, "", 'Plan hebdomadaire'!F5:F30), ('Plan hebdomadaire'!E5:E30 <> ""))} -> Exemple | E10: {=IFERROR(_xlfn._xlws.FILTER(IF((('Plan hebdomadaire'!G5:G60 = "Sous-titre…") + ('Plan hebdomadaire'!G5:G60 = "Sous-titre...") + ('Plan hebdomadaire'!G5:G60 = "")), "", 'Plan hebdomadaire'!G5:G60), ($B$11:$B$66 <> "")), "")} | F10: =IF(G10<>"","📌",IF(E10<>""," Mémo :",""))
B11: {=IFERROR(IF(MOD(ROW() - ROW($B$10) + 1, 2) = 1, TEXT(INDEX(_xlfn._xlws.FILTER('Plan hebdomadaire'!E$5:E$60, ('Plan hebdomadaire'!E$5:E$60 <> "")), INT((ROW() - ROW($B$10) + 2) / 2)), "hh:mm"), TEXT(INDEX(_xlfn._xlws.FILTER('Plan hebdomadaire'!E$5:E$60, ('Plan hebdomadaire'!E$5:E$60 <> "")), INT((ROW() - ROW($B$10) + 3) / 2)), "hh:mm") & CHAR(10)), "")} -> 08:50
B12: {=IFERROR(IF(MOD(ROW() - ROW($B$10) + 1, 2) = 1, TEXT(INDEX(_xlfn._xlws.FILTER('Plan hebdomadaire'!E$5:E$60, ('Plan hebdomadaire'!E$5:E$60 <> "")), INT((ROW() - ROW($B$10) + 2) / 2)), "hh:mm"), TEXT(INDEX(_xlfn._xlws.FILTER('Plan hebdomadaire'!E$5:E$60, ('Plan hebdomadaire'!E$5:E$60 <> "")), INT((ROW() - ROW($B$10) + 3) / 2)), "hh:mm") & CHAR(10)), "")} -> 08:50 | F12: =IF(G12<>"","📌",IF(E12<>""," Mémo :",""))
B13: {=IFERROR(IF(MOD(ROW() - ROW($B$10) + 1, 2) = 1, TEXT(INDEX(_xlfn._xlws.FILTER('Plan hebdomadaire'!E$5:E$60, ('Plan hebdomadaire'!E$5:E$60 <> "")), INT((ROW() - ROW($B$10) + 2) / 2)), "hh:mm"), TEXT(INDEX(_xlfn._xlws.FILTER('Plan hebdomadaire'!E$5:E$60, ('Plan hebdomadaire'!E$5:E$60 <> "")), INT((ROW() - ROW($B$10) + 3) / 2)), "hh:mm") & CHAR(10)), "")} -> 09:40
B14: {=IFERROR(IF(MOD(ROW() - ROW($B$10) + 1, 2) = 1, TEXT(INDEX(_xlfn._xlws.FILTER('Plan hebdomadaire'!E$5:E$60, ('Plan hebdomadaire'!E$5:E$60 <> "")), INT((ROW() - ROW($B$10) + 2) / 2)), "hh:mm"), TEXT(INDEX(_xlfn._xlws.FILTER('Plan hebdomadaire'!E$5:E$60, ('Plan hebdomadaire'!E$5:E$60 <> "")), INT((ROW() - ROW($B$10) + 3) / 2)), "hh:mm") & CHAR(10)), "")} -> 09:40 | F14: =IF(G14<>"","📌",IF(E14<>""," Mémo :",""))
B15: {=IFERROR(IF(MOD(ROW() - ROW($B$10) + 1, 2) = 1, TEXT(INDEX(_xlfn._xlws.FILTER('Plan hebdomadaire'!E$5:E$60, ('Plan hebdomadaire'!E$5:E$60 <> "")), INT((ROW() - ROW($B$10) + 2) / 2)), "hh:mm"), TEXT(INDEX(_xlfn._xlws.FILTER('Plan hebdomadaire'!E$5:E$60, ('Plan hebdomadaire'!E$5:E$60 <> "")), INT((ROW() - ROW($B$10) + 3) / 2)), "hh:mm") & CHAR(10)), "")} -> 10:00
B16: {=IFERROR(IF(MOD(ROW() - ROW($B$10) + 1, 2) = 1, TEXT(INDEX(_xlfn._xlws.FILTER('Plan hebdomadaire'!E$5:E$60, ('Plan hebdomadaire'!E$5:E$60 <> "")), INT((ROW() - ROW($B$10) + 2) / 2)), "hh:mm"), TEXT(INDEX(_xlfn._xlws.FILTER('Plan hebdomadaire'!E$5:E$60, ('Plan hebdomadaire'!E$5:E$60 <> "")), INT((ROW() - ROW($B$10) + 3) / 2)), "hh:mm") & CHAR(10)), "")} -> 10:00 | F16: =IF(G16<>"","📌",IF(E16<>""," Mémo :",""))
B17: {=IFERROR(IF(MOD(ROW() - ROW($B$10) + 1, 2) = 1, TEXT(INDEX(_xlfn._xlws.FILTER('Plan hebdomadaire'!E$5:E$60, ('Plan hebdomadaire'!E$5:E$60 <> "")), INT((ROW() - ROW($B$10) + 2) / 2)), "hh:mm"), TEXT(INDEX(_xlfn._xlws.FILTER('Plan hebdomadaire'!E$5:E$60, ('Plan hebdomadaire'!E$5:E$60 <> "")), INT((ROW() - ROW($B$10) + 3) / 2)), "hh:mm") & CHAR(10)), "")} -> 10:50
B18: {=IFERROR(IF(MOD(ROW() - ROW($B$10) + 1, 2) = 1, TEXT(INDEX(_xlfn._xlws.FILTER('Plan hebdomadaire'!E$5:E$60, ('Plan hebdomadaire'!E$5:E$60 <> "")), INT((ROW() - ROW($B$10) + 2) / 2)), "hh:mm"), TEXT(INDEX(_xlfn._xlws.FILTER('Plan hebdomadaire'!E$5:E$60, ('Plan hebdomadaire'!E$5:E$60 <> "")), INT((ROW() - ROW($B$10) + 3) / 2)), "hh:mm") & CHAR(10)), "")} -> 10:50 | F18: =IF(G18<>"","📌",IF(E18<>""," Mémo :",""))
B19: {=IFERROR(IF(MOD(ROW() - ROW($B$10) + 1, 2) = 1, TEXT(INDEX(_xlfn._xlws.FILTER('Plan hebdomadaire'!E$5:E$60, ('Plan hebdomadaire'!E$5:E$60 <> "")), INT((ROW() - ROW($B$10) + 2) / 2)), "hh:mm"), TEXT(INDEX(_xlfn._xlws.FILTER('Plan hebdomadaire'!E$5:E$60, ('Plan hebdomadaire'!E$5:E$60 <> "")), INT((ROW() - ROW($B$10) + 3) / 2)), "hh:mm") & CHAR(10)), "")} -> 11:30
B20: {=IFERROR(IF(MOD(ROW() - ROW($B$10) + 1, 2) = 1, TEXT(INDEX(_xlfn._xlws.FILTER('Plan hebdomadaire'!E$5:E$60, ('Plan hebdomadaire'!E$5:E$60 <> "")), INT((ROW() - ROW($B$10) + 2) / 2)), "hh:mm"), TEXT(INDEX(_xlfn._xlws.FILTER('Plan hebdomadaire'!E$5:E$60, ('Plan hebdomadaire'!E$5:E$60 <> "")), INT((ROW() - ROW($B$10) + 3) / 2)), "hh:mm") & CHAR(10)), "")} -> 11:30 | F20: =IF(G20<>"","📌",IF(E20<>""," Mémo :",""))
B21: {=IFERROR(IF(MOD(ROW() - ROW($B$10) + 1, 2) = 1, TEXT(INDEX(_xlfn._xlws.FILTER('Plan hebdomadaire'!E$5:E$60, ('Plan hebdomadaire'!E$5:E$60 <> "")), INT((ROW() - ROW($B$10) + 2) / 2)), "hh:mm"), TEXT(INDEX(_xlfn._xlws.FILTER('Plan hebdomadaire'!E$5:E$60, ('Plan hebdomadaire'!E$5:E$60 <> "")), INT((ROW() - ROW($B$10) + 3) / 2)), "hh:mm") & CHAR(10)), "")} -> 13:50
B22: {=IFERROR(IF(MOD(ROW() - ROW($B$10) + 1, 2) = 1, TEXT(INDEX(_xlfn._xlws.FILTER('Plan hebdomadaire'!E$5:E$60, ('Plan hebdomadaire'!E$5:E$60 <> "")), INT((ROW() - ROW($B$10) + 2) / 2)), "hh:mm"), TEXT(INDEX(_xlfn._xlws.FILTER('Plan hebdomadaire'!E$5:E$60, ('Plan hebdomadaire'!E$5:E$60 <> "")), INT((ROW() - ROW($B$10) + 3) / 2)), "hh:mm") & CHAR(10)), "")} -> 13:50 | F22: =IF(G22<>"","📌",IF(E22<>""," Mémo :",""))
B23: {=IFERROR(IF(MOD(ROW() - ROW($B$10) + 1, 2) = 1, TEXT(INDEX(_xlfn._xlws.FILTER('Plan hebdomadaire'!E$5:E$60, ('Plan hebdomadaire'!E$5:E$60 <> "")), INT((ROW() - ROW($B$10) + 2) / 2)), "hh:mm"), TEXT(INDEX(_xlfn._xlws.FILTER('Plan hebdomadaire'!E$5:E$60, ('Plan hebdomadaire'!E$5:E$60 <> "")), INT((ROW() - ROW($B$10) + 3) / 2)), "hh:mm") & CHAR(10)), "")} -> 14:40
B24: {=IFERROR(IF(MOD(ROW() - ROW($B$10) + 1, 2) = 1, TEXT(INDEX(_xlfn._xlws.FILTER('Plan hebdomadaire'!E$5:E$60, ('Plan hebdomadaire'!E$5:E$60 <> "")), INT((ROW() - ROW($B$10) + 2) / 2)), "hh:mm"), TEXT(INDEX(_xlfn._xlws.FILTER('Plan hebdomadaire'!E$5:E$60, ('Plan hebdomadaire'!E$5:E$60 <> "")), INT((ROW() - ROW($B$10) + 3) / 2)), "hh:mm") & CHAR(10)), "")} -> 14:40 | F24: =IF(G24<>"","📌",IF(E24<>""," Mémo :",""))
B25: {=IFERROR(IF(MOD(ROW() - ROW($B$10) + 1, 2) = 1, TEXT(INDEX(_xlfn._xlws.FILTER('Plan hebdomadaire'!E$5:E$60, ('Plan hebdomadaire'!E$5:E$60 <> "")), INT((ROW() - ROW($B$10) + 2) / 2)), "hh:mm"), TEXT(INDEX(_xlfn._xlws.FILTER('Plan hebdomadaire'!E$5:E$60, ('Plan hebdomadaire'!E$5:E$60 <> "")), INT((ROW() - ROW($B$10) + 3) / 2)), "hh:mm") & CHAR(10)), "")} -> 15:30
B26: {=IFERROR(IF(MOD(ROW() - ROW($B$10) + 1, 2) = 1, TEXT(INDEX(_xlfn._xlws.FILTER('Plan hebdomadaire'!E$5:E$60, ('Plan hebdomadaire'!E$5:E$60 <> "")), INT((ROW() - ROW($B$10) + 2) / 2)), "hh:mm"), TEXT(INDEX(_xlfn._xlws.FILTER('Plan hebdomadaire'!E$5:E$60, ('Plan hebdomadaire'!E$5:E$60 <> "")), INT((ROW() - ROW($B$10) + 3) / 2)), "hh:mm") & CHAR(10)), "")} -> 15:30 | F26: =IF(G26<>"","📌",IF(E26<>""," Mémo :",""))
B27: {=IFERROR(IF(MOD(ROW() - ROW($B$10) + 1, 2) = 1, TEXT(INDEX(_xlfn._xlws.FILTER('Plan hebdomadaire'!E$5:E$60, ('Plan hebdomadaire'!E$5:E$60 <> "")), INT((ROW() - ROW($B$10) + 2) / 2)), "hh:mm"), TEXT(INDEX(_xlfn._xlws.FILTER('Plan hebdomadaire'!E$5:E$60, ('Plan hebdomadaire'!E$5:E$60 <> "")), INT((ROW() - ROW($B$10) + 3) / 2)), "hh:mm") & CHAR(10)), "")}
B28: {=IFERROR(IF(MOD(ROW() - ROW($B$10) + 1, 2) = 1, TEXT(INDEX(_xlfn._xlws.FILTER('Plan hebdomadaire'!E$5:E$60, ('Plan hebdomadaire'!E$5:E$60 <> "")), INT((ROW() - ROW($B$10) + 2) / 2)), "hh:mm"), TEXT(INDEX(_xlfn._xlws.FILTER('Plan hebdomadaire'!E$5:E$60, ('Plan hebdomadaire'!E$5:E$60 <> "")), INT((ROW() - ROW($B$10) + 3) / 2)), "hh:mm") & CHAR(10)), "")} | F28: =IF(G28<>"","📌",IF(E28<>""," Mémo :",""))
B29: {=IFERROR(IF(MOD(ROW() - ROW($B$10) + 1, 2) = 1, TEXT(INDEX(_xlfn._xlws.FILTER('Plan hebdomadaire'!E$5:E$60, ('Plan hebdomadaire'!E$5:E$60 <> "")), INT((ROW() - ROW($B$10) + 2) / 2)), "hh:mm"), TEXT(INDEX(_xlfn._xlws.FILTER('Plan hebdomadaire'!E$5:E$60, ('Plan hebdomadaire'!E$5:E$60 <> "")), INT((ROW() - ROW($B$10) + 3) / 2)), "hh:mm") & CHAR(10)), "")}
B30: {=IFERROR(IF(MOD(ROW() - ROW($B$10) + 1, 2) = 1, TEXT(INDEX(_xlfn._xlws.FILTER('Plan hebdomadaire'!E$5:E$60, ('Plan hebdomadaire'!E$5:E$60 <> "")), INT((ROW() - ROW($B$10) + 2) / 2)), "hh:mm"), TEXT(INDEX(_xlfn._xlws.FILTER('Plan hebdomadaire'!E$5:E$60, ('Plan hebdomadaire'!E$5:E$60 <> "")), INT((ROW() - ROW($B$10) + 3) / 2)), "hh:mm") & CHAR(10)), "")} | F30: =IF(G30<>"","📌",IF(E30<>""," Mémo :",""))
B31: {=IFERROR(IF(MOD(ROW() - ROW($B$10) + 1, 2) = 1, TEXT(INDEX(_xlfn._xlws.FILTER('Plan hebdomadaire'!E$5:E$60, ('Plan hebdomadaire'!E$5:E$60 <> "")), INT((ROW() - ROW($B$10) + 2) / 2)), "hh:mm"), TEXT(INDEX(_xlfn._xlws.FILTER('Plan hebdomadaire'!E$5:E$60, ('Plan hebdomadaire'!E$5:E$60 <> "")), INT((ROW() - ROW($B$10) + 3) / 2)), "hh:mm") & CHAR(10)), "")}
B32: {=IFERROR(IF(MOD(ROW() - ROW($B$10) + 1, 2) = 1, TEXT(INDEX(_xlfn._xlws.FILTER('Plan hebdomadaire'!E$5:E$60, ('Plan hebdomadaire'!E$5:E$60 <> "")), INT((ROW() - ROW($B$10) + 2) / 2)), "hh:mm"), TEXT(INDEX(_xlfn._xlws.FILTER('Plan hebdomadaire'!E$5:E$60, ('Plan hebdomadaire'!E$5:E$60 <> "")), INT((ROW() - ROW($B$10) + 3) / 2)), "hh:mm") & CHAR(10)), "")} | F32: =IF(G32<>"","📌",IF(E32<>""," Mémo :",""))
B33: {=IFERROR(IF(MOD(ROW() - ROW($B$10) + 1, 2) = 1, TEXT(INDEX(_xlfn._xlws.FILTER('Plan hebdomadaire'!E$5:E$60, ('Plan hebdomadaire'!E$5:E$60 <> "")), INT((ROW() - ROW($B$10) + 2) / 2)), "hh:mm"), TEXT(INDEX(_xlfn._xlws.FILTER('Plan hebdomadaire'!E$5:E$60, ('Plan hebdomadaire'!E$5:E$60 <> "")), INT((ROW() - ROW($B$10) + 3) / 2)), "hh:mm") & CHAR(10)), "")}
B34: {=IFERROR(IF(MOD(ROW() - ROW($B$10) + 1, 2) = 1, TEXT(INDEX(_xlfn._xlws.FILTER('Plan hebdomadaire'!E$5:E$60, ('Plan hebdomadaire'!E$5:E$60 <> "")), INT((ROW() - ROW($B$10) + 2) / 2)), "hh:mm"), TEXT(INDEX(_xlfn._xlws.FILTER('Plan hebdomadaire'!E$5:E$60, ('Plan hebdomadaire'!E$5:E$60 <> "")), INT((ROW() - ROW($B$10) + 3) / 2)), "hh:mm") & CHAR(10)), "")} | F34: =IF(G34<>"","📌",IF(E34<>""," Mémo :",""))
B35: {=IFERROR(IF(MOD(ROW() - ROW($B$10) + 1, 2) = 1, TEXT(INDEX(_xlfn._xlws.FILTER('Plan hebdomadaire'!E$5:E$60, ('Plan hebdomadaire'!E$5:E$60 <> "")), INT((ROW() - ROW($B$10) + 2) / 2)), "hh:mm"), TEXT(INDEX(_xlfn._xlws.FILTER('Plan hebdomadaire'!E$5:E$60, ('Plan hebdomadaire'!E$5:E$60 <> "")), INT((ROW() - ROW($B$10) + 3) / 2)), "hh:mm") & CHAR(10)), "")}
B36: {=IFERROR(IF(MOD(ROW() - ROW($B$10) + 1, 2) = 1, TEXT(INDEX(_xlfn._xlws.FILTER('Plan hebdomadaire'!E$5:E$60, ('Plan hebdomadaire'!E$5:E$60 <> "")), INT((ROW() - ROW($B$10) + 2) / 2)), "hh:mm"), TEXT(INDEX(_xlfn._xlws.FILTER('Plan hebdomadaire'!E$5:E$60, ('Plan hebdomadaire'!E$5:E$60 <> "")), INT((ROW() - ROW($B$10) + 3) / 2)), "hh:mm") & CHAR(10)), "")} | F36: =IF(G36<>"","📌",IF(E36<>""," Mémo :",""))
B37: {=IFERROR(IF(MOD(ROW() - ROW($B$10) + 1, 2) = 1, TEXT(INDEX(_xlfn._xlws.FILTER('Plan hebdomadaire'!E$5:E$60, ('Plan hebdomadaire'!E$5:E$60 <> "")), INT((ROW() - ROW($B$10) + 2) / 2)), "hh:mm"), TEXT(INDEX(_xlfn._xlws.FILTER('Plan hebdomadaire'!E$5:E$60, ('Plan hebdomadaire'!E$5:E$60 <> "")), INT((ROW() - ROW($B$10) + 3) / 2)), "hh:mm") & CHAR(10)), "")}
B38: {=IFERROR(IF(MOD(ROW() - ROW($B$10) + 1, 2) = 1, TEXT(INDEX(_xlfn._xlws.FILTER('Plan hebdomadaire'!E$5:E$60, ('Plan hebdomadaire'!E$5:E$60 <> "")), INT((ROW() - ROW($B$10) + 2) / 2)), "hh:mm"), TEXT(INDEX(_xlfn._xlws.FILTER('Plan hebdomadaire'!E$5:E$60, ('Plan hebdomadaire'!E$5:E$60 <> "")), INT((ROW() - ROW($B$10) + 3) / 2)), "hh:mm") & CHAR(10)), "")} | F38: =IF(G38<>"","📌",IF(E38<>""," Mémo :",""))
B39: {=IFERROR(IF(MOD(ROW() - ROW($B$10) + 1, 2) = 1, TEXT(INDEX(_xlfn._xlws.FILTER('Plan hebdomadaire'!E$5:E$60, ('Plan hebdomadaire'!E$5:E$60 <> "")), INT((ROW() - ROW($B$10) + 2) / 2)), "hh:mm"), TEXT(INDEX(_xlfn._xlws.FILTER('Plan hebdomadaire'!E$5:E$60, ('Plan hebdomadaire'!E$5:E$60 <> "")), INT((ROW() - ROW($B$10) + 3) / 2)), "hh:mm") & CHAR(10)), "")}
B40: {=IFERROR(IF(MOD(ROW() - ROW($B$10) + 1, 2) = 1, TEXT(INDEX(_xlfn._xlws.FILTER('Plan hebdomadaire'!E$5:E$60, ('Plan hebdomadaire'!E$5:E$60 <> "")), INT((ROW() - ROW($B$10) + 2) / 2)), "hh:mm"), TEXT(INDEX(_xlfn._xlws.FILTER('Plan hebdomadaire'!E$5:E$60, ('Plan hebdomadaire'!E$5:E$60 <> "")), INT((ROW() - ROW($B$10) + 3) / 2)), "hh:mm") & CHAR(10)), "")} | F40: =IF(G40<>"","📌",IF(E40<>""," Mémo :",""))
B41: {=IFERROR(IF(MOD(ROW() - ROW($B$10) + 1, 2) = 1, TEXT(INDEX(_xlfn._xlws.FILTER('Plan hebdomadaire'!E$5:E$60, ('Plan hebdomadaire'!E$5:E$60 <> "")), INT((ROW() - ROW($B$10) + 2) / 2)), "hh:mm"), TEXT(INDEX(_xlfn._xlws.FILTER('Plan hebdomadaire'!E$5:E$60, ('Plan hebdomadaire'!E$5:E$60 <> "")), INT((ROW() - ROW($B$10) + 3) / 2)), "hh:mm") & CHAR(10)), "")}
B42: {=IFERROR(IF(MOD(ROW() - ROW($B$10) + 1, 2) = 1, TEXT(INDEX(_xlfn._xlws.FILTER('Plan hebdomadaire'!E$5:E$60, ('Plan hebdomadaire'!E$5:E$60 <> "")), INT((ROW() - ROW($B$10) + 2) / 2)), "hh:mm"), TEXT(INDEX(_xlfn._xlws.FILTER('Plan hebdomadaire'!E$5:E$60, ('Plan hebdomadaire'!E$5:E$60 <> "")), INT((ROW() - ROW($B$10) + 3) / 2)), "hh:mm") & CHAR(10)), "")} | F42: =IF(G42<>"","📌",IF(E42<>""," Mémo :",""))
B43: {=IFERROR(IF(MOD(ROW() - ROW($B$10) + 1, 2) = 1, TEXT(INDEX(_xlfn._xlws.FILTER('Plan hebdomadaire'!E$5:E$60, ('Plan hebdomadaire'!E$5:E$60 <> "")), INT((ROW() - ROW($B$10) + 2) / 2)), "hh:mm"), TEXT(INDEX(_xlfn._xlws.FILTER('Plan hebdomadaire'!E$5:E$60, ('Plan hebdomadaire'!E$5:E$60 <> "")), INT((ROW() - ROW($B$10) + 3) / 2)), "hh:mm") & CHAR(10)), "")}
B44: {=IFERROR(IF(MOD(ROW() - ROW($B$10) + 1, 2) = 1, TEXT(INDEX(_xlfn._xlws.FILTER('Plan hebdomadaire'!E$5:E$60, ('Plan hebdomadaire'!E$5:E$60 <> "")), INT((ROW() - ROW($B$10) + 2) / 2)), "hh:mm"), TEXT(INDEX(_xlfn._xlws.FILTER('Plan hebdomadaire'!E$5:E$60, ('Plan hebdomadaire'!E$5:E$60 <> "")), INT((ROW() - ROW($B$10) + 3) / 2)), "hh:mm") & CHAR(10)), "")} | F44: =IF(G44<>"","📌",IF(E44<>""," Mémo :",""))
B45: {=IFERROR(IF(MOD(ROW() - ROW($B$10) + 1, 2) = 1, TEXT(INDEX(_xlfn._xlws.FILTER('Plan hebdomadaire'!E$5:E$60, ('Plan hebdomadaire'!E$5:E$60 <> "")), INT((ROW() - ROW($B$10) + 2) / 2)), "hh:mm"), TEXT(INDEX(_xlfn._xlws.FILTER('Plan hebdomadaire'!E$5:E$60, ('Plan hebdomadaire'!E$5:E$60 <> "")), INT((ROW() - ROW($B$10) + 3) / 2)), "hh:mm") & CHAR(10)), "")}
B46: {=IFERROR(IF(MOD(ROW() - ROW($B$10) + 1, 2) = 1, TEXT(INDEX(_xlfn._xlws.FILTER('Plan hebdomadaire'!E$5:E$60, ('Plan hebdomadaire'!E$5:E$60 <> "")), INT((ROW() - ROW($B$10) + 2) / 2)), "hh:mm"), TEXT(INDEX(_xlfn._xlws.FILTER('Plan hebdomadaire'!E$5:E$60, ('Plan hebdomadaire'!E$5:E$60 <> "")), INT((ROW() - ROW($B$10) + 3) / 2)), "hh:mm") & CHAR(10)), "")} | F46: =IF(G46<>"","📌",IF(E46<>""," Mémo :",""))
B47: {=IFERROR(IF(MOD(ROW() - ROW($B$10) + 1, 2) = 1, TEXT(INDEX(_xlfn._xlws.FILTER('Plan hebdomadaire'!E$5:E$60, ('Plan hebdomadaire'!E$5:E$60 <> "")), INT((ROW() - ROW($B$10) + 2) / 2)), "hh:mm"), TEXT(INDEX(_xlfn._xlws.FILTER('Plan hebdomadaire'!E$5:E$60, ('Plan hebdomadaire'!E$5:E$60 <> "")), INT((ROW() - ROW($B$10) + 3) / 2)), "hh:mm") & CHAR(10)), "")}
B48: {=IFERROR(IF(MOD(ROW() - ROW($B$10) + 1, 2) = 1, TEXT(INDEX(_xlfn._xlws.FILTER('Plan hebdomadaire'!E$5:E$60, ('Plan hebdomadaire'!E$5:E$60 <> "")), INT((ROW() - ROW($B$10) + 2) / 2)), "hh:mm"), TEXT(INDEX(_xlfn._xlws.FILTER('Plan hebdomadaire'!E$5:E$60, ('Plan hebdomadaire'!E$5:E$60 <> "")), INT((ROW() - ROW($B$10) + 3) / 2)), "hh:mm") & CHAR(10)), "")} | F48: =IF(G48<>"","📌",IF(E48<>""," Mémo :",""))
B49: {=IFERROR(IF(MOD(ROW() - ROW($B$10) + 1, 2) = 1, TEXT(INDEX(_xlfn._xlws.FILTER('Plan hebdomadaire'!E$5:E$60, ('Plan hebdomadaire'!E$5:E$60 <> "")), INT((ROW() - ROW($B$10) + 2) / 2)), "hh:mm"), TEXT(INDEX(_xlfn._xlws.FILTER('Plan hebdomadaire'!E$5:E$60, ('Plan hebdomadaire'!E$5:E$60 <> "")), INT((ROW() - ROW($B$10) + 3) / 2)), "hh:mm") & CHAR(10)), "")}
B50: {=IFERROR(IF(MOD(ROW() - ROW($B$10) + 1, 2) = 1, TEXT(INDEX(_xlfn._xlws.FILTER('Plan hebdomadaire'!E$5:E$60, ('Plan hebdomadaire'!E$5:E$60 <> "")), INT((ROW() - ROW($B$10) + 2) / 2)), "hh:mm"), TEXT(INDEX(_xlfn._xlws.FILTER('Plan hebdomadaire'!E$5:E$60, ('Plan hebdomadaire'!E$5:E$60 <> "")), INT((ROW() - ROW($B$10) + 3) / 2)), "hh:mm") & CHAR(10)), "")} | F50: =IF(G50<>"","📌",IF(E50<>""," Mémo :",""))
B51: {=IFERROR(IF(MOD(ROW() - ROW($B$10) + 1, 2) = 1, TEXT(INDEX(_xlfn._xlws.FILTER('Plan hebdomadaire'!E$5:E$60, ('Plan hebdomadaire'!E$5:E$60 <> "")), INT((ROW() - ROW($B$10) + 2) / 2)), "hh:mm"), TEXT(INDEX(_xlfn._xlws.FILTER('Plan hebdomadaire'!E$5:E$60, ('Plan hebdomadaire'!E$5:E$60 <> "")), INT((ROW() - ROW($B$10) + 3) / 2)), "hh:mm") & CHAR(10)), "")}
B52: {=IFERROR(IF(MOD(ROW() - ROW($B$10) + 1, 2) = 1, TEXT(INDEX(_xlfn._xlws.FILTER('Plan hebdomadaire'!E$5:E$60, ('Plan hebdomadaire'!E$5:E$60 <> "")), INT((ROW() - ROW($B$10) + 2) / 2)), "hh:mm"), TEXT(INDEX(_xlfn._xlws.FILTER('Plan hebdomadaire'!E$5:E$60, ('Plan hebdomadaire'!E$5:E$60 <> "")), INT((ROW() - ROW($B$10) + 3) / 2)), "hh:mm") & CHAR(10)), "")} | F52: =IF(G52<>"","📌",IF(E52<>""," Mémo :",""))
B53: {=IFERROR(IF(MOD(ROW() - ROW($B$10) + 1, 2) = 1, TEXT(INDEX(_xlfn._xlws.FILTER('Plan hebdomadaire'!E$5:E$60, ('Plan hebdomadaire'!E$5:E$60 <> "")), INT((ROW() - ROW($B$10) + 2) / 2)), "hh:mm"), TEXT(INDEX(_xlfn._xlws.FILTER('Plan hebdomadaire'!E$5:E$60, ('Plan hebdomadaire'!E$5:E$60 <> "")), INT((ROW() - ROW($B$10) + 3) / 2)), "hh:mm") & CHAR(10)), "")}
B54: {=IFERROR(IF(MOD(ROW() - ROW($B$10) + 1, 2) = 1, TEXT(INDEX(_xlfn._xlws.FILTER('Plan hebdomadaire'!E$5:E$60, ('Plan hebdomadaire'!E$5:E$60 <> "")), INT((ROW() - ROW($B$10) + 2) / 2)), "hh:mm"), TEXT(INDEX(_xlfn._xlws.FILTER('Plan hebdomadaire'!E$5:E$60, ('Plan hebdomadaire'!E$5:E$60 <> "")), INT((ROW() - ROW($B$10) + 3) / 2)), "hh:mm") & CHAR(10)), "")} | F54: =IF(G54<>"","📌",IF(E54<>""," Mémo :",""))
B55: {=IFERROR(IF(MOD(ROW() - ROW($B$10) + 1, 2) = 1, TEXT(INDEX(_xlfn._xlws.FILTER('Plan hebdomadaire'!E$5:E$60, ('Plan hebdomadaire'!E$5:E$60 <> "")), INT((ROW() - ROW($B$10) + 2) / 2)), "hh:mm"), TEXT(INDEX(_xlfn._xlws.FILTER('Plan hebdomadaire'!E$5:E$60, ('Plan hebdomadaire'!E$5:E$60 <> "")), INT((ROW() - ROW($B$10) + 3) / 2)), "hh:mm") & CHAR(10)), "")}
B56: {=IFERROR(IF(MOD(ROW() - ROW($B$10) + 1, 2) = 1, TEXT(INDEX(_xlfn._xlws.FILTER('Plan hebdomadaire'!E$5:E$60, ('Plan hebdomadaire'!E$5:E$60 <> "")), INT((ROW() - ROW($B$10) + 2) / 2)), "hh:mm"), TEXT(INDEX(_xlfn._xlws.FILTER('Plan hebdomadaire'!E$5:E$60, ('Plan hebdomadaire'!E$5:E$60 <> "")), INT((ROW() - ROW($B$10) + 3) / 2)), "hh:mm") & CHAR(10)), "")} | F56: =IF(G56<>"","📌",IF(E56<>""," Mémo :",""))
B57: {=IFERROR(IF(MOD(ROW() - ROW($B$10) + 1, 2) = 1, TEXT(INDEX(_xlfn._xlws.FILTER('Plan hebdomadaire'!E$5:E$60, ('Plan hebdomadaire'!E$5:E$60 <> "")), INT((ROW() - ROW($B$10) + 2) / 2)), "hh:mm"), TEXT(INDEX(_xlfn._xlws.FILTER('Plan hebdomadaire'!E$5:E$60, ('Plan hebdomadaire'!E$5:E$60 <> "")), INT((ROW() - ROW($B$10) + 3) / 2)), "hh:mm") & CHAR(10)), "")}
B58: {=IFERROR(IF(MOD(ROW() - ROW($B$10) + 1, 2) = 1, TEXT(INDEX(_xlfn._xlws.FILTER('Plan hebdomadaire'!E$5:E$60, ('Plan hebdomadaire'!E$5:E$60 <> "")), INT((ROW() - ROW($B$10) + 2) / 2)), "hh:mm"), TEXT(INDEX(_xlfn._xlws.FILTER('Plan hebdomadaire'!E$5:E$60, ('Plan hebdomadaire'!E$5:E$60 <> "")), INT((ROW() - ROW($B$10) + 3) / 2)), "hh:mm") & CHAR(10)), "")} | F58: =IF(G58<>"","📌",IF(E58<>""," Mémo :",""))
B59: {=IFERROR(IF(MOD(ROW() - ROW($B$10) + 1, 2) = 1, TEXT(INDEX(_xlfn._xlws.FILTER('Plan hebdomadaire'!E$5:E$60, ('Plan hebdomadaire'!E$5:E$60 <> "")), INT((ROW() - ROW($B$10) + 2) / 2)), "hh:mm"), TEXT(INDEX(_xlfn._xlws.FILTER('Plan hebdomadaire'!E$5:E$60, ('Plan hebdomadaire'!E$5:E$60 <> "")), INT((ROW() - ROW($B$10) + 3) / 2)), "hh:mm") & CHAR(10)), "")}
B60: {=IFERROR(IF(MOD(ROW() - ROW($B$10) + 1, 2) = 1, TEXT(INDEX(_xlfn._xlws.FILTER('Plan hebdomadaire'!E$5:E$60, ('Plan hebdomadaire'!E$5:E$60 <> "")), INT((ROW() - ROW($B$10) + 2) / 2)), "hh:mm"), TEXT(INDEX(_xlfn._xlws.FILTER('Plan hebdomadaire'!E$5:E$60, ('Plan hebdomadaire'!E$5:E$60 <> "")), INT((ROW() - ROW($B$10) + 3) / 2)), "hh:mm") & CHAR(10)), "")} | F60: =IF(G60<>"","📌",IF(E60<>""," Mémo :",""))
B61: {=IFERROR(IF(MOD(ROW() - ROW($B$10) + 1, 2) = 1, TEXT(INDEX(_xlfn._xlws.FILTER('Plan hebdomadaire'!E$5:E$60, ('Plan hebdomadaire'!E$5:E$60 <> "")), INT((ROW() - ROW($B$10) + 2) / 2)), "hh:mm"), TEXT(INDEX(_xlfn._xlws.FILTER('Plan hebdomadaire'!E$5:E$60, ('Plan hebdomadaire'!E$5:E$60 <> "")), INT((ROW() - ROW($B$10) + 3) / 2)), "hh:mm") & CHAR(10)), "")}
B62: {=IFERROR(IF(MOD(ROW() - ROW($B$10) + 1, 2) = 1, TEXT(INDEX(_xlfn._xlws.FILTER('Plan hebdomadaire'!E$5:E$60, ('Plan hebdomadaire'!E$5:E$60 <> "")), INT((ROW() - ROW($B$10) + 2) / 2)), "hh:mm"), TEXT(INDEX(_xlfn._xlws.FILTER('Plan hebdomadaire'!E$5:E$60, ('Plan hebdomadaire'!E$5:E$60 <> "")), INT((ROW() - ROW($B$10) + 3) / 2)), "hh:mm") & CHAR(10)), "")} | F62: =IF(G62<>"","📌",IF(E62<>""," Mémo :",""))
B63: {=IFERROR(IF(MOD(ROW() - ROW($B$10) + 1, 2) = 1, TEXT(INDEX(_xlfn._xlws.FILTER('Plan hebdomadaire'!E$5:E$60, ('Plan hebdomadaire'!E$5:E$60 <> "")), INT((ROW() - ROW($B$10) + 2) / 2)), "hh:mm"), TEXT(INDEX(_xlfn._xlws.FILTER('Plan hebdomadaire'!E$5:E$60, ('Plan hebdomadaire'!E$5:E$60 <> "")), INT((ROW() - ROW($B$10) + 3) / 2)), "hh:mm") & CHAR(10)), "")}
B64: {=IFERROR(IF(MOD(ROW() - ROW($B$10) + 1, 2) = 1, TEXT(INDEX(_xlfn._xlws.FILTER('Plan hebdomadaire'!E$5:E$60, ('Plan hebdomadaire'!E$5:E$60 <> "")), INT((ROW() - ROW($B$10) + 2) / 2)), "hh:mm"), TEXT(INDEX(_xlfn._xlws.FILTER('Plan hebdomadaire'!E$5:E$60, ('Plan hebdomadaire'!E$5:E$60 <> "")), INT((ROW() - ROW($B$10) + 3) / 2)), "hh:mm") & CHAR(10)), "")} | F64: =IF(G64<>"","📌",IF(E64<>""," Mémo :",""))
B65: {=IFERROR(IF(MOD(ROW() - ROW($B$10) + 1, 2) = 1, TEXT(INDEX(_xlfn._xlws.FILTER('Plan hebdomadaire'!E$5:E$60, ('Plan hebdomadaire'!E$5:E$60 <> "")), INT((ROW() - ROW($B$10) + 2) / 2)), "hh:mm"), TEXT(INDEX(_xlfn._xlws.FILTER('Plan hebdomadaire'!E$5:E$60, ('Plan hebdomadaire'!E$5:E$60 <> "")), INT((ROW() - ROW($B$10) + 3) / 2)), "hh:mm") & CHAR(10)), "")}
B66: =IF(H2,"","💡 Faire un retour à la ligne dans une cellule : Alt + Entrée (Win) / Cmd + Entrée (Mac) — Copier-coller du contenu externe : double-cliquez d’abord dans la cellule (ou F2) avant de coller !") -> 💡 Faire un retour à la ligne dans une cellule : Alt + Entrée (Win) / Cmd + Entrée (Mac) — Copier-coller du contenu externe : double-cliquez d’abord dans la cellule (ou F2) avant de coller !

Sheet 📗Mercredi
B2: 📗 Mon journal du jour : | G2: =IF(ISNUMBER('Plan hebdomadaire'!H2), 'Plan hebdomadaire'!H2+2, "Veuillez spécifiez la semaine dans le Plan hebdomadaire !") -> 45903 | H2: FALSE | I2: ♻️ Impression écologique
B4: REMARQUES : | I4: ABSENCES :
H5: =REPT(CHAR(10)&CHAR(160), 3)
B8: 🕗 | E8: 📚 DISCIPLINE | G8: 📝 DÉROULEMENT | I8: 🎯 OBJECTIFS | K8: ✏️ OBSERVATIONS
B10: {=IFERROR(IF(MOD(ROW() - ROW($B$10) + 1, 2) = 1, TEXT(INDEX(_xlfn._xlws.FILTER('Plan hebdomadaire'!E$5:E$60, ('Plan hebdomadaire'!E$5:E$60 <> "")), INT((ROW() - ROW($B$10) + 2) / 2)), "hh:mm"), TEXT(INDEX(_xlfn._xlws.FILTER('Plan hebdomadaire'!E$5:E$60, ('Plan hebdomadaire'!E$5:E$60 <> "")), INT((ROW() - ROW($B$10) + 3) / 2)), "hh:mm") & CHAR(10)), "")} -> 08:00 | D10: {=_xlfn._xlws.FILTER(IF((('Plan hebdomadaire'!F5:F30 = "") + ('Plan hebdomadaire'!F5:F30 = 0)) > 0, "", 'Plan hebdomadaire'!F5:F30), ('Plan hebdomadaire'!E5:E30 <> ""))} -> Exemple | E10: {=IFERROR(_xlfn._xlws.FILTER(IF((('Plan hebdomadaire'!H5:H60 = "Sous-titre…") + ('Plan hebdomadaire'!H5:H60 = "Sous-titre...") + ('Plan hebdomadaire'!H5:H60 = "")), "", 'Plan hebdomadaire'!H5:H60), ($B$11:$B$66 <> "")), "")} | F10: =IF(G10<>"","📌",IF(E10<>""," Mémo :",""))
B11: {=IFERROR(IF(MOD(ROW() - ROW($B$10) + 1, 2) = 1, TEXT(INDEX(_xlfn._xlws.FILTER('Plan hebdomadaire'!E$5:E$60, ('Plan hebdomadaire'!E$5:E$60 <> "")), INT((ROW() - ROW($B$10) + 2) / 2)), "hh:mm"), TEXT(INDEX(_xlfn._xlws.FILTER('Plan hebdomadaire'!E$5:E$60, ('Plan hebdomadaire'!E$5:E$60 <> "")), INT((ROW() - ROW($B$10) + 3) / 2)), "hh:mm") & CHAR(10)), "")} -> 08:50
B12: {=IFERROR(IF(MOD(ROW() - ROW($B$10) + 1, 2) = 1, TEXT(INDEX(_xlfn._xlws.FILTER('Plan hebdomadaire'!E$5:E$60, ('Plan hebdomadaire'!E$5:E$60 <> "")), INT((ROW() - ROW($B$10) + 2) / 2)), "hh:mm"), TEXT(INDEX(_xlfn._xlws.FILTER('Plan hebdomadaire'!E$5:E$60, ('Plan hebdomadaire'!E$5:E$60 <> "")), INT((ROW() - ROW($B$10) + 3) / 2)), "hh:mm") & CHAR(10)), "")} -> 08:50 | F12: =IF(G12<>"","📌",IF(E12<>""," Mémo :",""))
B13: {=IFERROR(IF(MOD(ROW() - ROW($B$10) + 1, 2) = 1, TEXT(INDEX(_xlfn._xlws.FILTER('Plan hebdomadaire'!E$5:E$60, ('Plan hebdomadaire'!E$5:E$60 <> "")), INT((ROW() - ROW($B$10) + 2) / 2)), "hh:mm"), TEXT(INDEX(_xlfn._xlws.FILTER('Plan hebdomadaire'!E$5:E$60, ('Plan hebdomadaire'!E$5:E$60 <> "")), INT((ROW() - ROW($B$10) + 3) / 2)), "hh:mm") & CHAR(10)), "")} -> 09:40
B14: {=IFERROR(IF(MOD(ROW() - ROW($B$10) + 1, 2) = 1, TEXT(INDEX(_xlfn._xlws.FILTER('Plan hebdomadaire'!E$5:E$60, ('Plan hebdomadaire'!E$5:E$60 <> "")), INT((ROW() - ROW($B$10) + 2) / 2)), "hh:mm"), TEXT(INDEX(_xlfn._xlws.FILTER('Plan hebdomadaire'!E$5:E$60, ('Plan hebdomadaire'!E$5:E$60 <> "")), INT((ROW() - ROW($B$10) + 3) / 2)), "hh:mm") & CHAR(10)), "")} -> 09:40 | F14: =IF(G14<>"","📌",IF(E14<>""," Mémo :",""))
B15: {=IFERROR(IF(MOD(ROW() - ROW($B$10) + 1, 2) = 1, TEXT(INDEX(_xlfn._xlws.FILTER('Plan hebdomadaire'!E$5:E$60, ('Plan hebdomadaire'!E$5:E$60 <> "")), INT((ROW() - ROW($B$10) + 2) / 2)), "hh:mm"), TEXT(INDEX(_xlfn._xlws.FILTER('Plan hebdomadaire'!E$5:E$60, ('Plan hebdomadaire'!E$5:E$60 <> "")), INT((ROW() - ROW($B$10) + 3) / 2)), "hh:mm") & CHAR(10)), "")} -> 10:00
B16: {=IFERROR(IF(MOD(ROW() - ROW($B$10) + 1, 2) = 1, TEXT(INDEX(_xlfn._xlws.FILTER('Plan hebdomadaire'!E$5:E$60, ('Plan hebdomadaire'!E$5:E$60 <> "")), INT((ROW() - ROW($B$10) + 2) / 2)), "hh:mm"), TEXT(INDEX(_xlfn._xlws.FILTER('Plan hebdomadaire'!E$5:E$60, ('Plan hebdomadaire'!E$5:E$60 <> "")), INT((ROW() - ROW($B$10) + 3) / 2)), "hh:mm") & CHAR(10)), "")} -> 10:00 | F16: =IF(G16<>"","📌",IF(E16<>""," Mémo :",""))
B17: {=IFERROR(IF(MOD(ROW() - ROW($B$10) + 1, 2) = 1, TEXT(INDEX(_xlfn._xlws.FILTER('Plan hebdomadaire'!E$5:E$60, ('Plan hebdomadaire'!E$5:E$60 <> "")), INT((ROW() - ROW($B$10) + 2) / 2)), "hh:mm"), TEXT(INDEX(_xlfn._xlws.FILTER('Plan hebdomadaire'!E$5:E$60, ('Plan hebdomadaire'!E$5:E$60 <> "")), INT((ROW() - ROW($B$10) + 3) / 2)), "hh:mm") & CHAR(10)), "")} -> 10:50
B18: {=IFERROR(IF(MOD(ROW() - ROW($B$10) + 1, 2) = 1, TEXT(INDEX(_xlfn._xlws.FILTER('Plan hebdomadaire'!E$5:E$60, ('Plan hebdomadaire'!E$5:E$60 <> "")), INT((ROW() - ROW($B$10) + 2) / 2)), "hh:mm"), TEXT(INDEX(_xlfn._xlws.FILTER('Plan hebdomadaire'!E$5:E$60, ('Plan hebdomadaire'!E$5:E$60 <> "")), INT((ROW() - ROW($B$10) + 3) / 2)), "hh:mm") & CHAR(10)), "")} -> 10:50 | F18: =IF(G18<>"","📌",IF(E18<>""," Mémo :",""))
B19: {=IFERROR(IF(MOD(ROW() - ROW($B$10) + 1, 2) = 1, TEXT(INDEX(_xlfn._xlws.FILTER('Plan hebdomadaire'!E$5:E$60, ('Plan hebdomadaire'!E$5:E$60 <> "")), INT((ROW() - ROW($B$10) + 2) / 2)), "hh:mm"), TEXT(INDEX(_xlfn._xlws.FILTER('Plan hebdomadaire'!E$5:E$60, ('Plan hebdomadaire'!E$5:E$60 <> "")), INT((ROW() - ROW($B$10) + 3) / 2)), "hh:mm") & CHAR(10)), "")} -> 11:30
B20: {=IFERROR(IF(MOD(ROW() - ROW($B$10) + 1, 2) = 1, TEXT(INDEX(_xlfn._xlws.FILTER('Plan hebdomadaire'!E$5:E$60, ('Plan hebdomadaire'!E$5:E$60 <> "")), INT((ROW() - ROW($B$10) + 2) / 2)), "hh:mm"), TEXT(INDEX(_xlfn._xlws.FILTER('Plan hebdomadaire'!E$5:E$60, ('Plan hebdomadaire'!E$5:E$60 <> "")), INT((ROW() - ROW($B$10) + 3) / 2)), "hh:mm") & CHAR(10)), "")} -> 11:30 | F20: =IF(G20<>"","📌",IF(E20<>""," Mémo :",""))
B21: {=IFERROR(IF(MOD(ROW() - ROW($B$10) + 1, 2) = 1, TEXT(INDEX(_xlfn._xlws.FILTER('Plan hebdomadaire'!E$5:E$60, ('Plan hebdomadaire'!E$5:E$60 <> "")), INT((ROW() - ROW($B$10) + 2) / 2)), "hh:mm"), TEXT(INDEX(_xlfn._xlws.FILTER('Plan hebdomadaire'!E$5:E$60, ('Plan hebdomadaire'!E$5:E$60 <> "")), INT((ROW() - ROW($B$10) + 3) / 2)), "hh:mm") & CHAR(10)), "")} -> 13:50
B22: {=IFERROR(IF(MOD(ROW() - ROW($B$10) + 1, 2) = 1, TEXT(INDEX(_xlfn._xlws.FILTER('Plan hebdomadaire'!E$5:E$60, ('Plan hebdomadaire'!E$5:E$60 <> "")), INT((ROW() - ROW($B$10) + 2) / 2)), "hh:mm"), TEXT(INDEX(_xlfn._xlws.FILTER('Plan hebdomadaire'!E$5:E$60, ('Plan hebdomadaire'!E$5:E$60 <> "")), INT((ROW() - ROW($B$10) + 3) / 2)), "hh:mm") & CHAR(10)), "")} -> 13:50 | F22: =IF(G22<>"","📌",IF(E22<>""," Mémo :",""))
B23: {=IFERROR(IF(MOD(ROW() - ROW($B$10) + 1, 2) = 1, TEXT(INDEX(_xlfn._xlws.FILTER('Plan hebdomadaire'!E$5:E$60, ('Plan hebdomadaire'!E$5:E$60 <> "")), INT((ROW() - ROW($B$10) + 2) / 2)), "hh:mm"), TEXT(INDEX(_xlfn._xlws.FILTER('Plan hebdomadaire'!E$5:E$60, ('Plan hebdomadaire'!E$5:E$60 <> "")), INT((ROW() - ROW($B$10) + 3) / 2)), "hh:mm") & CHAR(10)), "")} -> 14:40
B24: {=IFERROR(IF(MOD(ROW() - ROW($B$10) + 1, 2) = 1, TEXT(INDEX(_xlfn._xlws.FILTER('Plan hebdomadaire'!E$5:E$60, ('Plan hebdomadaire'!E$5:E$60 <> "")), INT((ROW() - ROW($B$10) + 2) / 2)), "hh:mm"), TEXT(INDEX(_xlfn._xlws.FILTER('Plan hebdomadaire'!E$5:E$60, ('Plan hebdomadaire'!E$5:E$60 <> "")), INT((ROW() - ROW($B$10) + 3) / 2)), "hh:mm") & CHAR(10)), "")} -> 14:40 | F24: =IF(G24<>"","📌",IF(E24<>""," Mémo :",""))
B25: {=IFERROR(IF(MOD(ROW() - ROW($B$10) + 1, 2) = 1, TEXT(INDEX(_xlfn._xlws.FILTER('Plan hebdomadaire'!E$5:E$60, ('Plan hebdomadaire'!E$5:E$60 <> "")), INT((ROW() - ROW($B$10) + 2) / 2)), "hh:mm"), TEXT(INDEX(_xlfn._xlws.FILTER('Plan hebdomadaire'!E$5:E$60, ('Plan hebdomadaire'!E$5:E$60 <> "")), INT((ROW() - ROW($B$10) + 3) / 2)), "hh:mm") & CHAR(10)), "")} -> 15:30
B26: {=IFERROR(IF(MOD(ROW() - ROW($B$10) + 1, 2) = 1, TEXT(INDEX(_xlfn._xlws.FILTER('Plan hebdomadaire'!E$5:E$60, ('Plan hebdomadaire'!E$5:E$60 <> "")), INT((ROW() - ROW($B$10) + 2) / 2)), "hh:mm"), TEXT(INDEX(_xlfn._xlws.FILTER('Plan hebdomadaire'!E$5:E$60, ('Plan hebdomadaire'!E$5:E$60 <> "")), INT((ROW() - ROW($B$10) + 3) / 2)), "hh:mm") & CHAR(10)), "")} -> 15:30 | F26: =IF(G26<>"","📌",IF(E26<>""," Mémo :",""))
B27: {=IFERROR(IF(MOD(ROW() - ROW($B$10) + 1, 2) = 1, TEXT(INDEX(_xlfn._xlws.FILTER('Plan hebdomadaire'!E$5:E$60, ('Plan hebdomadaire'!E$5:E$60 <> "")), INT((ROW() - ROW($B$10) + 2) / 2)), "hh:mm"), TEXT(INDEX(_xlfn._xlws.FILTER('Plan hebdomadaire'!E$5:E$60, ('Plan hebdomadaire'!E$5:E$60 <> "")), INT((ROW() - ROW($B$10) + 3) / 2)), "hh:mm") & CHAR(10)), "")}
B28: {=IFERROR(IF(MOD(ROW() - ROW($B$10) + 1, 2) = 1, TEXT(INDEX(_xlfn._xlws.FILTER('Plan hebdomadaire'!E$5:E$60, ('Plan hebdomadaire'!E$5:E$60 <> "")), INT((ROW() - ROW($B$10) + 2) / 2)), "hh:mm"), TEXT(INDEX(_xlfn._xlws.FILTER('Plan hebdomadaire'!E$5:E$60, ('Plan hebdomadaire'!E$5:E$60 <> "")), INT((ROW() - ROW($B$10) + 3) / 2)), "hh:mm") & CHAR(10)), "")} | F28: =IF(G28<>"","📌",IF(E28<>""," Mémo :",""))
B29: {=IFERROR(IF(MOD(ROW() - ROW($B$10) + 1, 2) = 1, TEXT(INDEX(_xlfn._xlws.FILTER('Plan hebdomadaire'!E$5:E$60, ('Plan hebdomadaire'!E$5:E$60 <> "")), INT((ROW() - ROW($B$10) + 2) / 2)), "hh:mm"), TEXT(INDEX(_xlfn._xlws.FILTER('Plan hebdomadaire'!E$5:E$60, ('Plan hebdomadaire'!E$5:E$60 <> "")), INT((ROW() - ROW($B$10) + 3) / 2)), "hh:mm") & CHAR(10)), "")}
B30: {=IFERROR(IF(MOD(ROW() - ROW($B$10) + 1, 2) = 1, TEXT(INDEX(_xlfn._xlws.FILTER('Plan hebdomadaire'!E$5:E$60, ('Plan hebdomadaire'!E$5:E$60 <> "")), INT((ROW() - ROW($B$10) + 2) / 2)), "hh:mm"), TEXT(INDEX(_xlfn._xlws.FILTER('Plan hebdomadaire'!E$5:E$60, ('Plan hebdomadaire'!E$5:E$60 <> "")), INT((ROW() - ROW($B$10) + 3) / 2)), "hh:mm") & CHAR(10)), "")} | F30: =IF(G30<>"","📌",IF(E30<>""," Mémo :",""))
B31: {=IFERROR(IF(MOD(ROW() - ROW($B$10) + 1, 2) = 1, TEXT(INDEX(_xlfn._xlws.FILTER('Plan hebdomadaire'!E$5:E$60, ('Plan hebdomadaire'!E$5:E$60 <> "")), INT((ROW() - ROW($B$10) + 2) / 2)), "hh:mm"), TEXT(INDEX(_xlfn._xlws.FILTER('Plan hebdomadaire'!E$5:E$60, ('Plan hebdomadaire'!E$5:E$60 <> "")), INT((ROW() - ROW($B$10) + 3) / 2)), "hh:mm") & CHAR(10)), "")}
B32: {=IFERROR(IF(MOD(ROW() - ROW($B$10) + 1, 2) = 1, TEXT(INDEX(_xlfn._xlws.FILTER('Plan hebdomadaire'!E$5:E$60, ('Plan hebdomadaire'!E$5:E$60 <> "")), INT((ROW() - ROW($B$10) + 2) / 2)), "hh:mm"), TEXT(INDEX(_xlfn._xlws.FILTER('Plan hebdomadaire'!E$5:E$60, ('Plan hebdomadaire'!E$5:E$60 <> "")), INT((ROW() - ROW($B$10) + 3) / 2)), "hh:mm") & CHAR(10)), "")} | F32: =IF(G32<>"","📌",IF(E32<>""," Mémo :",""))
B33: {=IFERROR(IF(MOD(ROW() - ROW($B$10) + 1, 2) = 1, TEXT(INDEX(_xlfn._xlws.FILTER('Plan hebdomadaire'!E$5:E$60, ('Plan hebdomadaire'!E$5:E$60 <> "")), INT((ROW() - ROW($B$10) + 2) / 2)), "hh:mm"), TEXT(INDEX(_xlfn._xlws.FILTER('Plan hebdomadaire'!E$5:E$60, ('Plan hebdomadaire'!E$5:E$60 <> "")), INT((ROW() - ROW($B$10) + 3) / 2)), "hh:mm") & CHAR(10)), "")}
B34: {=IFERROR(IF(MOD(ROW() - ROW($B$10) + 1, 2) = 1, TEXT(INDEX(_xlfn._xlws.FILTER('Plan hebdomadaire'!E$5:E$60, ('Plan hebdomadaire'!E$5:E$60 <> "")), INT((ROW() - ROW($B$10) + 2) / 2)), "hh:mm"), TEXT(INDEX(_xlfn._xlws.FILTER('Plan hebdomadaire'!E$5:E$60, ('Plan hebdomadaire'!E$5:E$60 <> "")), INT((ROW() - ROW($B$10) + 3) / 2)), "hh:mm") & CHAR(10)), "")} | F34: =IF(G34<>"","📌",IF(E34<>""," Mémo :",""))
B35: {=IFERROR(IF(MOD(ROW() - ROW($B$10) + 1, 2) = 1, TEXT(INDEX(_xlfn._xlws.FILTER('Plan hebdomadaire'!E$5:E$60, ('Plan hebdomadaire'!E$5:E$60 <> "")), INT((ROW() - ROW($B$10) + 2) / 2)), "hh:mm"), TEXT(INDEX(_xlfn._xlws.FILTER('Plan hebdomadaire'!E$5:E$60, ('Plan hebdomadaire'!E$5:E$60 <> "")), INT((ROW() - ROW($B$10) + 3) / 2)), "hh:mm") & CHAR(10)), "")}
B36: {=IFERROR(IF(MOD(ROW() - ROW($B$10) + 1, 2) = 1, TEXT(INDEX(_xlfn._xlws.FILTER('Plan hebdomadaire'!E$5:E$60, ('Plan hebdomadaire'!E$5:E$60 <> "")), INT((ROW() - ROW($B$10) + 2) / 2)), "hh:mm"), TEXT(INDEX(_xlfn._xlws.FILTER('Plan hebdomadaire'!E$5:E$60, ('Plan hebdomadaire'!E$5:E$60 <> "")), INT((ROW() - ROW($B$10) + 3) / 2)), "hh:mm") & CHAR(10)), "")} | F36: =IF(G36<>"","📌",IF(E36<>""," Mémo :",""))
B37: {=IFERROR(IF(MOD(ROW() - ROW($B$10) + 1, 2) = 1, TEXT(INDEX(_xlfn._xlws.FILTER('Plan hebdomadaire'!E$5:E$60, ('Plan hebdomadaire'!E$5:E$60 <> "")), INT((ROW() - ROW($B$10) + 2) / 2)), "hh:mm"), TEXT(INDEX(_xlfn._xlws.FILTER('Plan hebdomadaire'!E$5:E$60, ('Plan hebdomadaire'!E$5:E$60 <> "")), INT((ROW() - ROW($B$10) + 3) / 2)), "hh:mm") & CHAR(10)), "")}
B38: {=IFERROR(IF(MOD(ROW() - ROW($B$10) + 1, 2) = 1, TEXT(INDEX(_xlfn._xlws.FILTER('Plan hebdomadaire'!E$5:E$60, ('Plan hebdomadaire'!E$5:E$60 <> "")), INT((ROW() - ROW($B$10) + 2) / 2)), "hh:mm"), TEXT(INDEX(_xlfn._xlws.FILTER('Plan hebdomadaire'!E$5:E$60, ('Plan hebdomadaire'!E$5:E$60 <> "")), INT((ROW() - ROW($B$10) + 3) / 2)), "hh:mm") & CHAR(10)), "")} | F38: =IF(G38<>"","📌",IF(E38<>""," Mémo :",""))
B39: {=IFERROR(IF(MOD(ROW() - ROW($B$10) + 1, 2) = 1, TEXT(INDEX(_xlfn._xlws.FILTER('Plan hebdomadaire'!E$5:E$60, ('Plan hebdomadaire'!E$5:E$60 <> "")), INT((ROW() - ROW($B$10) + 2) / 2)), "hh:mm"), TEXT(INDEX(_xlfn._xlws.FILTER('Plan hebdomadaire'!E$5:E$60, ('Plan hebdomadaire'!E$5:E$60 <> "")), INT((ROW() - ROW($B$10) + 3) / 2)), "hh:mm") & CHAR(10)), "")}
B40: {=IFERROR(IF(MOD(ROW() - ROW($B$10) + 1, 2) = 1, TEXT(INDEX(_xlfn._xlws.FILTER('Plan hebdomadaire'!E$5:E$60, ('Plan hebdomadaire'!E$5:E$60 <> "")), INT((ROW() - ROW($B$10) + 2) / 2)), "hh:mm"), TEXT(INDEX(_xlfn._xlws.FILTER('Plan hebdomadaire'!E$5:E$60, ('Plan hebdomadaire'!E$5:E$60 <> "")), INT((ROW() - ROW($B$10) + 3) / 2)), "hh:mm") & CHAR(10)), "")} | F40: =IF(G40<>"","📌",IF(E40<>""," Mémo :",""))
B41: {=IFERROR(IF(MOD(ROW() - ROW($B$10) + 1, 2) = 1, TEXT(INDEX(_xlfn._xlws.FILTER('Plan hebdomadaire'!E$5:E$60, ('Plan hebdomadaire'!E$5:E$60 <> "")), INT((ROW() - ROW($B$10) + 2) / 2)), "hh:mm"), TEXT(INDEX(_xlfn._xlws.FILTER('Plan hebdomadaire'!E$5:E$60, ('Plan hebdomadaire'!E$5:E$60 <> "")), INT((ROW() - ROW($B$10) + 3) / 2)), "hh:mm") & CHAR(10)), "")}
B42: {=IFERROR(IF(MOD(ROW() - ROW($B$10) + 1, 2) = 1, TEXT(INDEX(_xlfn._xlws.FILTER('Plan hebdomadaire'!E$5:E$60, ('Plan hebdomadaire'!E$5:E$60 <> "")), INT((ROW() - ROW($B$10) + 2) / 2)), "hh:mm"), TEXT(INDEX(_xlfn._xlws.FILTER('Plan hebdomadaire'!E$5:E$60, ('Plan hebdomadaire'!E$5:E$60 <> "")), INT((ROW() - ROW($B$10) + 3) / 2)), "hh:mm") & CHAR(10)), "")} | F42: =IF(G42<>"","📌",IF(E42<>""," Mémo :",""))
B43: {=IFERROR(IF(MOD(ROW() - ROW($B$10) + 1, 2) = 1, TEXT(INDEX(_xlfn._xlws.FILTER('Plan hebdomadaire'!E$5:E$60, ('Plan hebdomadaire'!E$5:E$60 <> "")), INT((ROW() - ROW($B$10) + 2) / 2)), "hh:mm"), TEXT(INDEX(_xlfn._xlws.FILTER('Plan hebdomadaire'!E$5:E$60, ('Plan hebdomadaire'!E$5:E$60 <> "")), INT((ROW() - ROW($B$10) + 3) / 2)), "hh:mm") & CHAR(10)), "")}
B44: {=IFERROR(IF(MOD(ROW() - ROW($B$10) + 1, 2) = 1, TEXT(INDEX(_xlfn._xlws.FILTER('Plan hebdomadaire'!E$5:E$60, ('Plan hebdomadaire'!E$5:E$60 <> "")), INT((ROW() - ROW($B$10) + 2) / 2)), "hh:mm"), TEXT(INDEX(_xlfn._xlws.FILTER('Plan hebdomadaire'!E$5:E$60, ('Plan hebdomadaire'!E$5:E$60 <> "")), INT((ROW() - ROW($B$10) + 3) / 2)), "hh:mm") & CHAR(10)), "")} | F44: =IF(G44<>"","📌",IF(E44<>""," Mémo :",""))
B45: {=IFERROR(IF(MOD(ROW() - ROW($B$10) + 1, 2) = 1, TEXT(INDEX(_xlfn._xlws.FILTER('Plan hebdomadaire'!E$5:E$60, ('Plan hebdomadaire'!E$5:E$60 <> "")), INT((ROW() - ROW($B$10) + 2) / 2)), "hh:mm"), TEXT(INDEX(_xlfn._xlws.FILTER('Plan hebdomadaire'!E$5:E$60, ('Plan hebdomadaire'!E$5:E$60 <> "")), INT((ROW() - ROW($B$10) + 3) / 2)), "hh:mm") & CHAR(10)), "")}
B46: {=IFERROR(IF(MOD(ROW() - ROW($B$10) + 1, 2) = 1, TEXT(INDEX(_xlfn._xlws.FILTER('Plan hebdomadaire'!E$5:E$60, ('Plan hebdomadaire'!E$5:E$60 <> "")), INT((ROW() - ROW($B$10) + 2) / 2)), "hh:mm"), TEXT(INDEX(_xlfn._xlws.FILTER('Plan hebdomadaire'!E$5:E$60, ('Plan hebdomadaire'!E$5:E$60 <> "")), INT((ROW() - ROW($B$10) + 3) / 2)), "hh:mm") & CHAR(10)), "")} | F46: =IF(G46<>"","📌",IF(E46<>""," Mémo :",""))
B47: {=IFERROR(IF(MOD(ROW() - ROW($B$10) + 1, 2) = 1, TEXT(INDEX(_xlfn._xlws.FILTER('Plan hebdomadaire'!E$5:E$60, ('Plan hebdomadaire'!E$5:E$60 <> "")), INT((ROW() - ROW($B$10) + 2) / 2)), "hh:mm"), TEXT(INDEX(_xlfn._xlws.FILTER('Plan hebdomadaire'!E$5:E$60, ('Plan hebdomadaire'!E$5:E$60 <> "")), INT((ROW() - ROW($B$10) + 3) / 2)), "hh:mm") & CHAR(10)), "")}
B48: {=IFERROR(IF(MOD(ROW() - ROW($B$10) + 1, 2) = 1, TEXT(INDEX(_xlfn._xlws.FILTER('Plan hebdomadaire'!E$5:E$60, ('Plan hebdomadaire'!E$5:E$60 <> "")), INT((ROW() - ROW($B$10) + 2) / 2)), "hh:mm"), TEXT(INDEX(_xlfn._xlws.FILTER('Plan hebdomadaire'!E$5:E$60, ('Plan hebdomadaire'!E$5:E$60 <> "")), INT((ROW() - ROW($B$10) + 3) / 2)), "hh:mm") & CHAR(10)), "")} | F48: =IF(G48<>"","📌",IF(E48<>""," Mémo :",""))
B49: {=IFERROR(IF(MOD(ROW() - ROW($B$10) + 1, 2) = 1, TEXT(INDEX(_xlfn._xlws.FILTER('Plan hebdomadaire'!E$5:E$60, ('Plan hebdomadaire'!E$5:E$60 <> "")), INT((ROW() - ROW($B$10) + 2) / 2)), "hh:mm"), TEXT(INDEX(_xlfn._xlws.FILTER('Plan hebdomadaire'!E$5:E$60, ('Plan hebdomadaire'!E$5:E$60 <> "")), INT((ROW() - ROW($B$10) + 3) / 2)), "hh:mm") & CHAR(10)), "")}
B50: {=IFERROR(IF(MOD(ROW() - ROW($B$10) + 1, 2) = 1, TEXT(INDEX(_xlfn._xlws.FILTER('Plan hebdomadaire'!E$5:E$60, ('Plan hebdomadaire'!E$5:E$60 <> "")), INT((ROW() - ROW($B$10) + 2) / 2)), "hh:mm"), TEXT(INDEX(_xlfn._xlws.FILTER('Plan hebdomadaire'!E$5:E$60, ('Plan hebdomadaire'!E$5:E$60 <> "")), INT((ROW() - ROW($B$10) + 3) / 2)), "hh:mm") & CHAR(10)), "")} | F50: =IF(G50<>"","📌",IF(E50<>""," Mémo :",""))
B51: {=IFERROR(IF(MOD(ROW() - ROW($B$10) + 1, 2) = 1, TEXT(INDEX(_xlfn._xlws.FILTER('Plan hebdomadaire'!E$5:E$60, ('Plan hebdomadaire'!E$5:E$60 <> "")), INT((ROW() - ROW($B$10) + 2) / 2)), "hh:mm"), TEXT(INDEX(_xlfn._xlws.FILTER('Plan hebdomadaire'!E$5:E$60, ('Plan hebdomadaire'!E$5:E$60 <> "")), INT((ROW() - ROW($B$10) + 3) / 2)), "hh:mm") & CHAR(10)), "")}
B52: {=IFERROR(IF(MOD(ROW() - ROW($B$10) + 1, 2) = 1, TEXT(INDEX(_xlfn._xlws.FILTER('Plan hebdomadaire'!E$5:E$60, ('Plan hebdomadaire'!E$5:E$60 <> "")), INT((ROW() - ROW($B$10) + 2) / 2)), "hh:mm"), TEXT(INDEX(_xlfn._xlws.FILTER('Plan hebdomadaire'!E$5:E$60, ('Plan hebdomadaire'!E$5:E$60 <> "")), INT((ROW() - ROW($B$10) + 3) / 2)), "hh:mm") & CHAR(10)), "")} | F52: =IF(G52<>"","📌",IF(E52<>""," Mémo :",""))
B53: {=IFERROR(IF(MOD(ROW() - ROW($B$10) + 1, 2) = 1, TEXT(INDEX(_xlfn._xlws.FILTER('Plan hebdomadaire'!E$5:E$60, ('Plan hebdomadaire'!E$5:E$60 <> "")), INT((ROW() - ROW($B$10) + 2) / 2)), "hh:mm"), TEXT(INDEX(_xlfn._xlws.FILTER('Plan hebdomadaire'!E$5:E$60, ('Plan hebdomadaire'!E$5:E$60 <> "")), INT((ROW() - ROW($B$10) + 3) / 2)), "hh:mm") & CHAR(10)), "")}
B54: {=IFERROR(IF(MOD(ROW() - ROW($B$10) + 1, 2) = 1, TEXT(INDEX(_xlfn._xlws.FILTER('Plan hebdomadaire'!E$5:E$60, ('Plan hebdomadaire'!E$5:E$60 <> "")), INT((ROW() - ROW($B$10) + 2) / 2)), "hh:mm"), TEXT(INDEX(_xlfn._xlws.FILTER('Plan hebdomadaire'!E$5:E$60, ('Plan hebdomadaire'!E$5:E$60 <> "")), INT((ROW() - ROW($B$10) + 3) / 2)), "hh:mm") & CHAR(10)), "")} | F54: =IF(G54<>"","📌",IF(E54<>""," Mémo :",""))
B55: {=IFERROR(IF(MOD(ROW() - ROW($B$10) + 1, 2) = 1, TEXT(INDEX(_xlfn._xlws.FILTER('Plan hebdomadaire'!E$5:E$60, ('Plan hebdomadaire'!E$5:E$60 <> "")), INT((ROW() - ROW($B$10) + 2) / 2)), "hh:mm"), TEXT(INDEX(_xlfn._xlws.FILTER('Plan hebdomadaire'!E$5:E$60, ('Plan hebdomadaire'!E$5:E$60 <> "")), INT((ROW() - ROW($B$10) + 3) / 2)), "hh:mm") & CHAR(10)), "")}
B56: {=IFERROR(IF(MOD(ROW() - ROW($B$10) + 1, 2) = 1, TEXT(INDEX(_xlfn._xlws.FILTER('Plan hebdomadaire'!E$5:E$60, ('Plan hebdomadaire'!E$5:E$60 <> "")), INT((ROW() - ROW($B$10) + 2) / 2)), "hh:mm"), TEXT(INDEX(_xlfn._xlws.FILTER('Plan hebdomadaire'!E$5:E$60, ('Plan hebdomadaire'!E$5:E$60 <> "")), INT((ROW() - ROW($B$10) + 3) / 2)), "hh:mm") & CHAR(10)), "")} | F56: =IF(G56<>"","📌",IF(E56<>""," Mémo :",""))
B57: {=IFERROR(IF(MOD(ROW() - ROW($B$10) + 1, 2) = 1, TEXT(INDEX(_xlfn._xlws.FILTER('Plan hebdomadaire'!E$5:E$60, ('Plan hebdomadaire'!E$5:E$60 <> "")), INT((ROW() - ROW($B$10) + 2) / 2)), "hh:mm"), TEXT(INDEX(_xlfn._xlws.FILTER('Plan hebdomadaire'!E$5:E$60, ('Plan hebdomadaire'!E$5:E$60 <> "")), INT((ROW() - ROW($B$10) + 3) / 2)), "hh:mm") & CHAR(10)), "")}
B58: {=IFERROR(IF(MOD(ROW() - ROW($B$10) + 1, 2) = 1, TEXT(INDEX(_xlfn._xlws.FILTER('Plan hebdomadaire'!E$5:E$60, ('Plan hebdomadaire'!E$5:E$60 <> "")), INT((ROW() - ROW($B$10) + 2) / 2)), "hh:mm"), TEXT(INDEX(_xlfn._xlws.FILTER('Plan hebdomadaire'!E$5:E$60, ('Plan hebdomadaire'!E$5:E$60 <> "")), INT((ROW() - ROW($B$10) + 3) / 2)), "hh:mm") & CHAR(10)), "")} | F58: =IF(G58<>"","📌",IF(E58<>""," Mémo :",""))
B59: {=IFERROR(IF(MOD(ROW() - ROW($B$10) + 1, 2) = 1, TEXT(INDEX(_xlfn._xlws.FILTER('Plan hebdomadaire'!E$5:E$60, ('Plan hebdomadaire'!E$5:E$60 <> "")), INT((ROW() - ROW($B$10) + 2) / 2)), "hh:mm"), TEXT(INDEX(_xlfn._xlws.FILTER('Plan hebdomadaire'!E$5:E$60, ('Plan hebdomadaire'!E$5:E$60 <> "")), INT((ROW() - ROW($B$10) + 3) / 2)), "hh:mm") & CHAR(10)), "")}
B60: {=IFERROR(IF(MOD(ROW() - ROW($B$10) + 1, 2) = 1, TEXT(INDEX(_xlfn._xlws.FILTER('Plan hebdomadaire'!E$5:E$60, ('Plan hebdomadaire'!E$5:E$60 <> "")), INT((ROW() - ROW($B$10) + 2) / 2)), "hh:mm"), TEXT(INDEX(_xlfn._xlws.FILTER('Plan hebdomadaire'!E$5:E$60, ('Plan hebdomadaire'!E$5:E$60 <> "")), INT((ROW() - ROW($B$10) + 3) / 2)), "hh:mm") & CHAR(10)), "")} | F60: =IF(G60<>"","📌",IF(E60<>""," Mémo :",""))
B61: {=IFERROR(IF(MOD(ROW() - ROW($B$10) + 1, 2) = 1, TEXT(INDEX(_xlfn._xlws.FILTER('Plan hebdomadaire'!E$5:E$60, ('Plan hebdomadaire'!E$5:E$60 <> "")), INT((ROW() - ROW($B$10) + 2) / 2)), "hh:mm"), TEXT(INDEX(_xlfn._xlws.FILTER('Plan hebdomadaire'!E$5:E$60, ('Plan hebdomadaire'!E$5:E$60 <> "")), INT((ROW() - ROW($B$10) + 3) / 2)), "hh:mm") & CHAR(10)), "")}
B62: {=IFERROR(IF(MOD(ROW() - ROW($B$10) + 1, 2) = 1, TEXT(INDEX(_xlfn._xlws.FILTER('Plan hebdomadaire'!E$5:E$60, ('Plan hebdomadaire'!E$5:E$60 <> "")), INT((ROW() - ROW($B$10) + 2) / 2)), "hh:mm"), TEXT(INDEX(_xlfn._xlws.FILTER('Plan hebdomadaire'!E$5:E$60, ('Plan hebdomadaire'!E$5:E$60 <> "")), INT((ROW() - ROW($B$10) + 3) / 2)), "hh:mm") & CHAR(10)), "")} | F62: =IF(G62<>"","📌",IF(E62<>""," Mémo :",""))
B63: {=IFERROR(IF(MOD(ROW() - ROW($B$10) + 1, 2) = 1, TEXT(INDEX(_xlfn._xlws.FILTER('Plan hebdomadaire'!E$5:E$60, ('Plan hebdomadaire'!E$5:E$60 <> "")), INT((ROW() - ROW($B$10) + 2) / 2)), "hh:mm"), TEXT(INDEX(_xlfn._xlws.FILTER('Plan hebdomadaire'!E$5:E$60, ('Plan hebdomadaire'!E$5:E$60 <> "")), INT((ROW() - ROW($B$10) + 3) / 2)), "hh:mm") & CHAR(10)), "")}
B64: {=IFERROR(IF(MOD(ROW() - ROW($B$10) + 1, 2) = 1, TEXT(INDEX(_xlfn._xlws.FILTER('Plan hebdomadaire'!E$5:E$60, ('Plan hebdomadaire'!E$5:E$60 <> "")), INT((ROW() - ROW($B$10) + 2) / 2)), "hh:mm"), TEXT(INDEX(_xlfn._xlws.FILTER('Plan hebdomadaire'!E$5:E$60, ('Plan hebdomadaire'!E$5:E$60 <> "")), INT((ROW() - ROW($B$10) + 3) / 2)), "hh:mm") & CHAR(10)), "")} | F64: =IF(G64<>"","📌",IF(E64<>""," Mémo :",""))
B65: {=IFERROR(IF(MOD(ROW() - ROW($B$10) + 1, 2) = 1, TEXT(INDEX(_xlfn._xlws.FILTER('Plan hebdomadaire'!E$5:E$60, ('Plan hebdomadaire'!E$5:E$60 <> "")), INT((ROW() - ROW($B$10) + 2) / 2)), "hh:mm"), TEXT(INDEX(_xlfn._xlws.FILTER('Plan hebdomadaire'!E$5:E$60, ('Plan hebdomadaire'!E$5:E$60 <> "")), INT((ROW() - ROW($B$10) + 3) / 2)), "hh:mm") & CHAR(10)), "")}
B66: =IF(H2,"","💡 Faire un retour à la ligne dans une cellule : Alt + Entrée (Win) / Cmd + Entrée (Mac) — Copier-coller du contenu externe : double-cliquez d’abord dans la cellule (ou F2) avant de coller !") -> 💡 Faire un retour à la ligne dans une cellule : Alt + Entrée (Win) / Cmd + Entrée (Mac) — Copier-coller du contenu externe : double-cliquez d’abord dans la cellule (ou F2) avant de coller !

Sheet 📒Jeudi
B2: 📒 Mon journal du jour : | G2: =IF(ISNUMBER('Plan hebdomadaire'!H2), 'Plan hebdomadaire'!H2+3, "Veuillez spécifiez la semaine dans le Plan hebdomadaire !") -> 45904 | H2: FALSE | I2: ♻️ Impression écologique
B4: REMARQUES : | I4: ABSENCES :
H5: =REPT(CHAR(10)&CHAR(160), 3)
B8: 🕗 | E8: 📚 DISCIPLINE | G8: 📝 DÉROULEMENT | I8: 🎯 OBJECTIFS | K8: ✏️ OBSERVATIONS
B10: {=IFERROR(IF(MOD(ROW() - ROW($B$10) + 1, 2) = 1, TEXT(INDEX(_xlfn._xlws.FILTER('Plan hebdomadaire'!E$5:E$60, ('Plan hebdomadaire'!E$5:E$60 <> "")), INT((ROW() - ROW($B$10) + 2) / 2)), "hh:mm"), TEXT(INDEX(_xlfn._xlws.FILTER('Plan hebdomadaire'!E$5:E$60, ('Plan hebdomadaire'!E$5:E$60 <> "")), INT((ROW() - ROW($B$10) + 3) / 2)), "hh:mm") & CHAR(10)), "")} -> 08:00 | D10: {=_xlfn._xlws.FILTER(IF((('Plan hebdomadaire'!F5:F30 = "") + ('Plan hebdomadaire'!F5:F30 = 0)) > 0, "", 'Plan hebdomadaire'!F5:F30), ('Plan hebdomadaire'!E5:E30 <> ""))} -> Exemple | E10: {=IFERROR(_xlfn._xlws.FILTER(IF((('Plan hebdomadaire'!I5:I60 = "Sous-titre…") + ('Plan hebdomadaire'!I5:I60 = "Sous-titre...") + ('Plan hebdomadaire'!I5:I60 = "")), "", 'Plan hebdomadaire'!I5:I60), ($B$11:$B$66 <> "")), "")} | F10: =IF(G10<>"","📌",IF(E10<>""," Mémo :",""))
B11: {=IFERROR(IF(MOD(ROW() - ROW($B$10) + 1, 2) = 1, TEXT(INDEX(_xlfn._xlws.FILTER('Plan hebdomadaire'!E$5:E$60, ('Plan hebdomadaire'!E$5:E$60 <> "")), INT((ROW() - ROW($B$10) + 2) / 2)), "hh:mm"), TEXT(INDEX(_xlfn._xlws.FILTER('Plan hebdomadaire'!E$5:E$60, ('Plan hebdomadaire'!E$5:E$60 <> "")), INT((ROW() - ROW($B$10) + 3) / 2)), "hh:mm") & CHAR(10)), "")} -> 08:50
B12: {=IFERROR(IF(MOD(ROW() - ROW($B$10) + 1, 2) = 1, TEXT(INDEX(_xlfn._xlws.FILTER('Plan hebdomadaire'!E$5:E$60, ('Plan hebdomadaire'!E$5:E$60 <> "")), INT((ROW() - ROW($B$10) + 2) / 2)), "hh:mm"), TEXT(INDEX(_xlfn._xlws.FILTER('Plan hebdomadaire'!E$5:E$60, ('Plan hebdomadaire'!E$5:E$60 <> "")), INT((ROW() - ROW($B$10) + 3) / 2)), "hh:mm") & CHAR(10)), "")} -> 08:50 | F12: =IF(G12<>"","📌",IF(E12<>""," Mémo :",""))
B13: {=IFERROR(IF(MOD(ROW() - ROW($B$10) + 1, 2) = 1, TEXT(INDEX(_xlfn._xlws.FILTER('Plan hebdomadaire'!E$5:E$60, ('Plan hebdomadaire'!E$5:E$60 <> "")), INT((ROW() - ROW($B$10) + 2) / 2)), "hh:mm"), TEXT(INDEX(_xlfn._xlws.FILTER('Plan hebdomadaire'!E$5:E$60, ('Plan hebdomadaire'!E$5:E$60 <> "")), INT((ROW() - ROW($B$10) + 3) / 2)), "hh:mm") & CHAR(10)), "")} -> 09:40
B14: {=IFERROR(IF(MOD(ROW() - ROW($B$10) + 1, 2) = 1, TEXT(INDEX(_xlfn._xlws.FILTER('Plan hebdomadaire'!E$5:E$60, ('Plan hebdomadaire'!E$5:E$60 <> "")), INT((ROW() - ROW($B$10) + 2) / 2)), "hh:mm"), TEXT(INDEX(_xlfn._xlws.FILTER('Plan hebdomadaire'!E$5:E$60, ('Plan hebdomadaire'!E$5:E$60 <> "")), INT((ROW() - ROW($B$10) + 3) / 2)), "hh:mm") & CHAR(10)), "")} -> 09:40 | F14: =IF(G14<>"","📌",IF(E14<>""," Mémo :",""))
B15: {=IFERROR(IF(MOD(ROW() - ROW($B$10) + 1, 2) = 1, TEXT(INDEX(_xlfn._xlws.FILTER('Plan hebdomadaire'!E$5:E$60, ('Plan hebdomadaire'!E$5:E$60 <> "")), INT((ROW() - ROW($B$10) + 2) / 2)), "hh:mm"), TEXT(INDEX(_xlfn._xlws.FILTER('Plan hebdomadaire'!E$5:E$60, ('Plan hebdomadaire'!E$5:E$60 <> "")), INT((ROW() - ROW($B$10) + 3) / 2)), "hh:mm") & CHAR(10)), "")} -> 10:00
B16: {=IFERROR(IF(MOD(ROW() - ROW($B$10) + 1, 2) = 1, TEXT(INDEX(_xlfn._xlws.FILTER('Plan hebdomadaire'!E$5:E$60, ('Plan hebdomadaire'!E$5:E$60 <> "")), INT((ROW() - ROW($B$10) + 2) / 2)), "hh:mm"), TEXT(INDEX(_xlfn._xlws.FILTER('Plan hebdomadaire'!E$5:E$60, ('Plan hebdomadaire'!E$5:E$60 <> "")), INT((ROW() - ROW($B$10) + 3) / 2)), "hh:mm") & CHAR(10)), "")} -> 10:00 | F16: =IF(G16<>"","📌",IF(E16<>""," Mémo :",""))
B17: {=IFERROR(IF(MOD(ROW() - ROW($B$10) + 1, 2) = 1, TEXT(INDEX(_xlfn._xlws.FILTER('Plan hebdomadaire'!E$5:E$60, ('Plan hebdomadaire'!E$5:E$60 <> "")), INT((ROW() - ROW($B$10) + 2) / 2)), "hh:mm"), TEXT(INDEX(_xlfn._xlws.FILTER('Plan hebdomadaire'!E$5:E$60, ('Plan hebdomadaire'!E$5:E$60 <> "")), INT((ROW() - ROW($B$10) + 3) / 2)), "hh:mm") & CHAR(10)), "")} -> 10:50
B18: {=IFERROR(IF(MOD(ROW() - ROW($B$10) + 1, 2) = 1, TEXT(INDEX(_xlfn._xlws.FILTER('Plan hebdomadaire'!E$5:E$60, ('Plan hebdomadaire'!E$5:E$60 <> "")), INT((ROW() - ROW($B$10) + 2) / 2)), "hh:mm"), TEXT(INDEX(_xlfn._xlws.FILTER('Plan hebdomadaire'!E$5:E$60, ('Plan hebdomadaire'!E$5:E$60 <> "")), INT((ROW() - ROW($B$10) + 3) / 2)), "hh:mm") & CHAR(10)), "")} -> 10:50 | F18: =IF(G18<>"","📌",IF(E18<>""," Mémo :",""))
B19: {=IFERROR(IF(MOD(ROW() - ROW($B$10) + 1, 2) = 1, TEXT(INDEX(_xlfn._xlws.FILTER('Plan hebdomadaire'!E$5:E$60, ('Plan hebdomadaire'!E$5:E$60 <> "")), INT((ROW() - ROW($B$10) + 2) / 2)), "hh:mm"), TEXT(INDEX(_xlfn._xlws.FILTER('Plan hebdomadaire'!E$5:E$60, ('Plan hebdomadaire'!E$5:E$60 <> "")), INT((ROW() - ROW($B$10) + 3) / 2)), "hh:mm") & CHAR(10)), "")} -> 11:30
B20: {=IFERROR(IF(MOD(ROW() - ROW($B$10) + 1, 2) = 1, TEXT(INDEX(_xlfn._xlws.FILTER('Plan hebdomadaire'!E$5:E$60, ('Plan hebdomadaire'!E$5:E$60 <> "")), INT((ROW() - ROW($B$10) + 2) / 2)), "hh:mm"), TEXT(INDEX(_xlfn._xlws.FILTER('Plan hebdomadaire'!E$5:E$60, ('Plan hebdomadaire'!E$5:E$60 <> "")), INT((ROW() - ROW($B$10) + 3) / 2)), "hh:mm") & CHAR(10)), "")} -> 11:30 | F20: =IF(G20<>"","📌",IF(E20<>""," Mémo :",""))
B21: {=IFERROR(IF(MOD(ROW() - ROW($B$10) + 1, 2) = 1, TEXT(INDEX(_xlfn._xlws.FILTER('Plan hebdomadaire'!E$5:E$60, ('Plan hebdomadaire'!E$5:E$60 <> "")), INT((ROW() - ROW($B$10) + 2) / 2)), "hh:mm"), TEXT(INDEX(_xlfn._xlws.FILTER('Plan hebdomadaire'!E$5:E$60, ('Plan hebdomadaire'!E$5:E$60 <> "")), INT((ROW() - ROW($B$10) + 3) / 2)), "hh:mm") & CHAR(10)), "")} -> 13:50
B22: {=IFERROR(IF(MOD(ROW() - ROW($B$10) + 1, 2) = 1, TEXT(INDEX(_xlfn._xlws.FILTER('Plan hebdomadaire'!E$5:E$60, ('Plan hebdomadaire'!E$5:E$60 <> "")), INT((ROW() - ROW($B$10) + 2) / 2)), "hh:mm"), TEXT(INDEX(_xlfn._xlws.FILTER('Plan hebdomadaire'!E$5:E$60, ('Plan hebdomadaire'!E$5:E$60 <> "")), INT((ROW() - ROW($B$10) + 3) / 2)), "hh:mm") & CHAR(10)), "")} -> 13:50 | F22: =IF(G22<>"","📌",IF(E22<>""," Mémo :",""))
B23: {=IFERROR(IF(MOD(ROW() - ROW($B$10) + 1, 2) = 1, TEXT(INDEX(_xlfn._xlws.FILTER('Plan hebdomadaire'!E$5:E$60, ('Plan hebdomadaire'!E$5:E$60 <> "")), INT((ROW() - ROW($B$10) + 2) / 2)), "hh:mm"), TEXT(INDEX(_xlfn._xlws.FILTER('Plan hebdomadaire'!E$5:E$60, ('Plan hebdomadaire'!E$5:E$60 <> "")), INT((ROW() - ROW($B$10) + 3) / 2)), "hh:mm") & CHAR(10)), "")} -> 14:40
B24: {=IFERROR(IF(MOD(ROW() - ROW($B$10) + 1, 2) = 1, TEXT(INDEX(_xlfn._xlws.FILTER('Plan hebdomadaire'!E$5:E$60, ('Plan hebdomadaire'!E$5:E$60 <> "")), INT((ROW() - ROW($B$10) + 2) / 2)), "hh:mm"), TEXT(INDEX(_xlfn._xlws.FILTER('Plan hebdomadaire'!E$5:E$60, ('Plan hebdomadaire'!E$5:E$60 <> "")), INT((ROW() - ROW($B$10) + 3) / 2)), "hh:mm") & CHAR(10)), "")} -> 14:40 | F24: =IF(G24<>"","📌",IF(E24<>""," Mémo :",""))
B25: {=IFERROR(IF(MOD(ROW() - ROW($B$10) + 1, 2) = 1, TEXT(INDEX(_xlfn._xlws.FILTER('Plan hebdomadaire'!E$5:E$60, ('Plan hebdomadaire'!E$5:E$60 <> "")), INT((ROW() - ROW($B$10) + 2) / 2)), "hh:mm"), TEXT(INDEX(_xlfn._xlws.FILTER('Plan hebdomadaire'!E$5:E$60, ('Plan hebdomadaire'!E$5:E$60 <> "")), INT((ROW() - ROW($B$10) + 3) / 2)), "hh:mm") & CHAR(10)), "")} -> 15:30
B26: {=IFERROR(IF(MOD(ROW() - ROW($B$10) + 1, 2) = 1, TEXT(INDEX(_xlfn._xlws.FILTER('Plan hebdomadaire'!E$5:E$60, ('Plan hebdomadaire'!E$5:E$60 <> "")), INT((ROW() - ROW($B$10) + 2) / 2)), "hh:mm"), TEXT(INDEX(_xlfn._xlws.FILTER('Plan hebdomadaire'!E$5:E$60, ('Plan hebdomadaire'!E$5:E$60 <> "")), INT((ROW() - ROW($B$10) + 3) / 2)), "hh:mm") & CHAR(10)), "")} -> 15:30 | F26: =IF(G26<>"","📌",IF(E26<>""," Mémo :",""))
B27: {=IFERROR(IF(MOD(ROW() - ROW($B$10) + 1, 2) = 1, TEXT(INDEX(_xlfn._xlws.FILTER('Plan hebdomadaire'!E$5:E$60, ('Plan hebdomadaire'!E$5:E$60 <> "")), INT((ROW() - ROW($B$10) + 2) / 2)), "hh:mm"), TEXT(INDEX(_xlfn._xlws.FILTER('Plan hebdomadaire'!E$5:E$60, ('Plan hebdomadaire'!E$5:E$60 <> "")), INT((ROW() - ROW($B$10) + 3) / 2)), "hh:mm") & CHAR(10)), "")}
B28: {=IFERROR(IF(MOD(ROW() - ROW($B$10) + 1, 2) = 1, TEXT(INDEX(_xlfn._xlws.FILTER('Plan hebdomadaire'!E$5:E$60, ('Plan hebdomadaire'!E$5:E$60 <> "")), INT((ROW() - ROW($B$10) + 2) / 2)), "hh:mm"), TEXT(INDEX(_xlfn._xlws.FILTER('Plan hebdomadaire'!E$5:E$60, ('Plan hebdomadaire'!E$5:E$60 <> "")), INT((ROW() - ROW($B$10) + 3) / 2)), "hh:mm") & CHAR(10)), "")} | F28: =IF(G28<>"","📌",IF(E28<>""," Mémo :",""))
B29: {=IFERROR(IF(MOD(ROW() - ROW($B$10) + 1, 2) = 1, TEXT(INDEX(_xlfn._xlws.FILTER('Plan hebdomadaire'!E$5:E$60, ('Plan hebdomadaire'!E$5:E$60 <> "")), INT((ROW() - ROW($B$10) + 2) / 2)), "hh:mm"), TEXT(INDEX(_xlfn._xlws.FILTER('Plan hebdomadaire'!E$5:E$60, ('Plan hebdomadaire'!E$5:E$60 <> "")), INT((ROW() - ROW($B$10) + 3) / 2)), "hh:mm") & CHAR(10)), "")}
B30: {=IFERROR(IF(MOD(ROW() - ROW($B$10) + 1, 2) = 1, TEXT(INDEX(_xlfn._xlws.FILTER('Plan hebdomadaire'!E$5:E$60, ('Plan hebdomadaire'!E$5:E$60 <> "")), INT((ROW() - ROW($B$10) + 2) / 2)), "hh:mm"), TEXT(INDEX(_xlfn._xlws.FILTER('Plan hebdomadaire'!E$5:E$60, ('Plan hebdomadaire'!E$5:E$60 <> "")), INT((ROW() - ROW($B$10) + 3) / 2)), "hh:mm") & CHAR(10)), "")} | F30: =IF(G30<>"","📌",IF(E30<>""," Mémo :",""))
B31: {=IFERROR(IF(MOD(ROW() - ROW($B$10) + 1, 2) = 1, TEXT(INDEX(_xlfn._xlws.FILTER('Plan hebdomadaire'!E$5:E$60, ('Plan hebdomadaire'!E$5:E$60 <> "")), INT((ROW() - ROW($B$10) + 2) / 2)), "hh:mm"), TEXT(INDEX(_xlfn._xlws.FILTER('Plan hebdomadaire'!E$5:E$60, ('Plan hebdomadaire'!E$5:E$60 <> "")), INT((ROW() - ROW($B$10) + 3) / 2)), "hh:mm") & CHAR(10)), "")}
B32: {=IFERROR(IF(MOD(ROW() - ROW($B$10) + 1, 2) = 1, TEXT(INDEX(_xlfn._xlws.FILTER('Plan hebdomadaire'!E$5:E$60, ('Plan hebdomadaire'!E$5:E$60 <> "")), INT((ROW() - ROW($B$10) + 2) / 2)), "hh:mm"), TEXT(INDEX(_xlfn._xlws.FILTER('Plan hebdomadaire'!E$5:E$60, ('Plan hebdomadaire'!E$5:E$60 <> "")), INT((ROW() - ROW($B$10) + 3) / 2)), "hh:mm") & CHAR(10)), "")} | F32: =IF(G32<>"","📌",IF(E32<>""," Mémo :",""))
B33: {=IFERROR(IF(MOD(ROW() - ROW($B$10) + 1, 2) = 1, TEXT(INDEX(_xlfn._xlws.FILTER('Plan hebdomadaire'!E$5:E$60, ('Plan hebdomadaire'!E$5:E$60 <> "")), INT((ROW() - ROW($B$10) + 2) / 2)), "hh:mm"), TEXT(INDEX(_xlfn._xlws.FILTER('Plan hebdomadaire'!E$5:E$60, ('Plan hebdomadaire'!E$5:E$60 <> "")), INT((ROW() - ROW($B$10) + 3) / 2)), "hh:mm") & CHAR(10)), "")}
B34: {=IFERROR(IF(MOD(ROW() - ROW($B$10) + 1, 2) = 1, TEXT(INDEX(_xlfn._xlws.FILTER('Plan hebdomadaire'!E$5:E$60, ('Plan hebdomadaire'!E$5:E$60 <> "")), INT((ROW() - ROW($B$10) + 2) / 2)), "hh:mm"), TEXT(INDEX(_xlfn._xlws.FILTER('Plan hebdomadaire'!E$5:E$60, ('Plan hebdomadaire'!E$5:E$60 <> "")), INT((ROW() - ROW($B$10) + 3) / 2)), "hh:mm") & CHAR(10)), "")} | F34: =IF(G34<>"","📌",IF(E34<>""," Mémo :",""))
B35: {=IFERROR(IF(MOD(ROW() - ROW($B$10) + 1, 2) = 1, TEXT(INDEX(_xlfn._xlws.FILTER('Plan hebdomadaire'!E$5:E$60, ('Plan hebdomadaire'!E$5:E$60 <> "")), INT((ROW() - ROW($B$10) + 2) / 2)), "hh:mm"), TEXT(INDEX(_xlfn._xlws.FILTER('Plan hebdomadaire'!E$5:E$60, ('Plan hebdomadaire'!E$5:E$60 <> "")), INT((ROW() - ROW($B$10) + 3) / 2)), "hh:mm") & CHAR(10)), "")}
B36: {=IFERROR(IF(MOD(ROW() - ROW($B$10) + 1, 2) = 1, TEXT(INDEX(_xlfn._xlws.FILTER('Plan hebdomadaire'!E$5:E$60, ('Plan hebdomadaire'!E$5:E$60 <> "")), INT((ROW() - ROW($B$10) + 2) / 2)), "hh:mm"), TEXT(INDEX(_xlfn._xlws.FILTER('Plan hebdomadaire'!E$5:E$60, ('Plan hebdomadaire'!E$5:E$60 <> "")), INT((ROW() - ROW($B$10) + 3) / 2)), "hh:mm") & CHAR(10)), "")} | F36: =IF(G36<>"","📌",IF(E36<>""," Mémo :",""))
B37: {=IFERROR(IF(MOD(ROW() - ROW($B$10) + 1, 2) = 1, TEXT(INDEX(_xlfn._xlws.FILTER('Plan hebdomadaire'!E$5:E$60, ('Plan hebdomadaire'!E$5:E$60 <> "")), INT((ROW() - ROW($B$10) + 2) / 2)), "hh:mm"), TEXT(INDEX(_xlfn._xlws.FILTER('Plan hebdomadaire'!E$5:E$60, ('Plan hebdomadaire'!E$5:E$60 <> "")), INT((ROW() - ROW($B$10) + 3) / 2)), "hh:mm") & CHAR(10)), "")}
B38: {=IFERROR(IF(MOD(ROW() - ROW($B$10) + 1, 2) = 1, TEXT(INDEX(_xlfn._xlws.FILTER('Plan hebdomadaire'!E$5:E$60, ('Plan hebdomadaire'!E$5:E$60 <> "")), INT((ROW() - ROW($B$10) + 2) / 2)), "hh:mm"), TEXT(INDEX(_xlfn._xlws.FILTER('Plan hebdomadaire'!E$5:E$60, ('Plan hebdomadaire'!E$5:E$60 <> "")), INT((ROW() - ROW($B$10) + 3) / 2)), "hh:mm") & CHAR(10)), "")} | F38: =IF(G38<>"","📌",IF(E38<>""," Mémo :",""))
B39: {=IFERROR(IF(MOD(ROW() - ROW($B$10) + 1, 2) = 1, TEXT(INDEX(_xlfn._xlws.FILTER('Plan hebdomadaire'!E$5:E$60, ('Plan hebdomadaire'!E$5:E$60 <> "")), INT((ROW() - ROW($B$10) + 2) / 2)), "hh:mm"), TEXT(INDEX(_xlfn._xlws.FILTER('Plan hebdomadaire'!E$5:E$60, ('Plan hebdomadaire'!E$5:E$60 <> "")), INT((ROW() - ROW($B$10) + 3) / 2)), "hh:mm") & CHAR(10)), "")}
B40: {=IFERROR(IF(MOD(ROW() - ROW($B$10) + 1, 2) = 1, TEXT(INDEX(_xlfn._xlws.FILTER('Plan hebdomadaire'!E$5:E$60, ('Plan hebdomadaire'!E$5:E$60 <> "")), INT((ROW() - ROW($B$10) + 2) / 2)), "hh:mm"), TEXT(INDEX(_xlfn._xlws.FILTER('Plan hebdomadaire'!E$5:E$60, ('Plan hebdomadaire'!E$5:E$60 <> "")), INT((ROW() - ROW($B$10) + 3) / 2)), "hh:mm") & CHAR(10)), "")} | F40: =IF(G40<>"","📌",IF(E40<>""," Mémo :",""))
B41: {=IFERROR(IF(MOD(ROW() - ROW($B$10) + 1, 2) = 1, TEXT(INDEX(_xlfn._xlws.FILTER('Plan hebdomadaire'!E$5:E$60, ('Plan hebdomadaire'!E$5:E$60 <> "")), INT((ROW() - ROW($B$10) + 2) / 2)), "hh:mm"), TEXT(INDEX(_xlfn._xlws.FILTER('Plan hebdomadaire'!E$5:E$60, ('Plan hebdomadaire'!E$5:E$60 <> "")), INT((ROW() - ROW($B$10) + 3) / 2)), "hh:mm") & CHAR(10)), "")}
B42: {=IFERROR(IF(MOD(ROW() - ROW($B$10) + 1, 2) = 1, TEXT(INDEX(_xlfn._xlws.FILTER('Plan hebdomadaire'!E$5:E$60, ('Plan hebdomadaire'!E$5:E$60 <> "")), INT((ROW() - ROW($B$10) + 2) / 2)), "hh:mm"), TEXT(INDEX(_xlfn._xlws.FILTER('Plan hebdomadaire'!E$5:E$60, ('Plan hebdomadaire'!E$5:E$60 <> "")), INT((ROW() - ROW($B$10) + 3) / 2)), "hh:mm") & CHAR(10)), "")} | F42: =IF(G42<>"","📌",IF(E42<>""," Mémo :",""))
B43: {=IFERROR(IF(MOD(ROW() - ROW($B$10) + 1, 2) = 1, TEXT(INDEX(_xlfn._xlws.FILTER('Plan hebdomadaire'!E$5:E$60, ('Plan hebdomadaire'!E$5:E$60 <> "")), INT((ROW() - ROW($B$10) + 2) / 2)), "hh:mm"), TEXT(INDEX(_xlfn._xlws.FILTER('Plan hebdomadaire'!E$5:E$60, ('Plan hebdomadaire'!E$5:E$60 <> "")), INT((ROW() - ROW($B$10) + 3) / 2)), "hh:mm") & CHAR(10)), "")}
B44: {=IFERROR(IF(MOD(ROW() - ROW($B$10) + 1, 2) = 1, TEXT(INDEX(_xlfn._xlws.FILTER('Plan hebdomadaire'!E$5:E$60, ('Plan hebdomadaire'!E$5:E$60 <> "")), INT((ROW() - ROW($B$10) + 2) / 2)), "hh:mm"), TEXT(INDEX(_xlfn._xlws.FILTER('Plan hebdomadaire'!E$5:E$60, ('Plan hebdomadaire'!E$5:E$60 <> "")), INT((ROW() - ROW($B$10) + 3) / 2)), "hh:mm") & CHAR(10)), "")} | F44: =IF(G44<>"","📌",IF(E44<>""," Mémo :",""))
B45: {=IFERROR(IF(MOD(ROW() - ROW($B$10) + 1, 2) = 1, TEXT(INDEX(_xlfn._xlws.FILTER('Plan hebdomadaire'!E$5:E$60, ('Plan hebdomadaire'!E$5:E$60 <> "")), INT((ROW() - ROW($B$10) + 2) / 2)), "hh:mm"), TEXT(INDEX(_xlfn._xlws.FILTER('Plan hebdomadaire'!E$5:E$60, ('Plan hebdomadaire'!E$5:E$60 <> "")), INT((ROW() - ROW($B$10) + 3) / 2)), "hh:mm") & CHAR(10)), "")}
B46: {=IFERROR(IF(MOD(ROW() - ROW($B$10) + 1, 2) = 1, TEXT(INDEX(_xlfn._xlws.FILTER('Plan hebdomadaire'!E$5:E$60, ('Plan hebdomadaire'!E$5:E$60 <> "")), INT((ROW() - ROW($B$10) + 2) / 2)), "hh:mm"), TEXT(INDEX(_xlfn._xlws.FILTER('Plan hebdomadaire'!E$5:E$60, ('Plan hebdomadaire'!E$5:E$60 <> "")), INT((ROW() - ROW($B$10) + 3) / 2)), "hh:mm") & CHAR(10)), "")} | F46: =IF(G46<>"","📌",IF(E46<>""," Mémo :",""))
B47: {=IFERROR(IF(MOD(ROW() - ROW($B$10) + 1, 2) = 1, TEXT(INDEX(_xlfn._xlws.FILTER('Plan hebdomadaire'!E$5:E$60, ('Plan hebdomadaire'!E$5:E$60 <> "")), INT((ROW() - ROW($B$10) + 2) / 2)), "hh:mm"), TEXT(INDEX(_xlfn._xlws.FILTER('Plan hebdomadaire'!E$5:E$60, ('Plan hebdomadaire'!E$5:E$60 <> "")), INT((ROW() - ROW($B$10) + 3) / 2)), "hh:mm") & CHAR(10)), "")}
B48: {=IFERROR(IF(MOD(ROW() - ROW($B$10) + 1, 2) = 1, TEXT(INDEX(_xlfn._xlws.FILTER('Plan hebdomadaire'!E$5:E$60, ('Plan hebdomadaire'!E$5:E$60 <> "")), INT((ROW() - ROW($B$10) + 2) / 2)), "hh:mm"), TEXT(INDEX(_xlfn._xlws.FILTER('Plan hebdomadaire'!E$5:E$60, ('Plan hebdomadaire'!E$5:E$60 <> "")), INT((ROW() - ROW($B$10) + 3) / 2)), "hh:mm") & CHAR(10)), "")} | F48: =IF(G48<>"","📌",IF(E48<>""," Mémo :",""))
B49: {=IFERROR(IF(MOD(ROW() - ROW($B$10) + 1, 2) = 1, TEXT(INDEX(_xlfn._xlws.FILTER('Plan hebdomadaire'!E$5:E$60, ('Plan hebdomadaire'!E$5:E$60 <> "")), INT((ROW() - ROW($B$10) + 2) / 2)), "hh:mm"), TEXT(INDEX(_xlfn._xlws.FILTER('Plan hebdomadaire'!E$5:E$60, ('Plan hebdomadaire'!E$5:E$60 <> "")), INT((ROW() - ROW($B$10) + 3) / 2)), "hh:mm") & CHAR(10)), "")}
B50: {=IFERROR(IF(MOD(ROW() - ROW($B$10) + 1, 2) = 1, TEXT(INDEX(_xlfn._xlws.FILTER('Plan hebdomadaire'!E$5:E$60, ('Plan hebdomadaire'!E$5:E$60 <> "")), INT((ROW() - ROW($B$10) + 2) / 2)), "hh:mm"), TEXT(INDEX(_xlfn._xlws.FILTER('Plan hebdomadaire'!E$5:E$60, ('Plan hebdomadaire'!E$5:E$60 <> "")), INT((ROW() - ROW($B$10) + 3) / 2)), "hh:mm") & CHAR(10)), "")} | F50: =IF(G50<>"","📌",IF(E50<>""," Mémo :",""))
B51: {=IFERROR(IF(MOD(ROW() - ROW($B$10) + 1, 2) = 1, TEXT(INDEX(_xlfn._xlws.FILTER('Plan hebdomadaire'!E$5:E$60, ('Plan hebdomadaire'!E$5:E$60 <> "")), INT((ROW() - ROW($B$10) + 2) / 2)), "hh:mm"), TEXT(INDEX(_xlfn._xlws.FILTER('Plan hebdomadaire'!E$5:E$60, ('Plan hebdomadaire'!E$5:E$60 <> "")), INT((ROW() - ROW($B$10) + 3) / 2)), "hh:mm") & CHAR(10)), "")}
B52: {=IFERROR(IF(MOD(ROW() - ROW($B$10) + 1, 2) = 1, TEXT(INDEX(_xlfn._xlws.FILTER('Plan hebdomadaire'!E$5:E$60, ('Plan hebdomadaire'!E$5:E$60 <> "")), INT((ROW() - ROW($B$10) + 2) / 2)), "hh:mm"), TEXT(INDEX(_xlfn._xlws.FILTER('Plan hebdomadaire'!E$5:E$60, ('Plan hebdomadaire'!E$5:E$60 <> "")), INT((ROW() - ROW($B$10) + 3) / 2)), "hh:mm") & CHAR(10)), "")} | F52: =IF(G52<>"","📌",IF(E52<>""," Mémo :",""))
B53: {=IFERROR(IF(MOD(ROW() - ROW($B$10) + 1, 2) = 1, TEXT(INDEX(_xlfn._xlws.FILTER('Plan hebdomadaire'!E$5:E$60, ('Plan hebdomadaire'!E$5:E$60 <> "")), INT((ROW() - ROW($B$10) + 2) / 2)), "hh:mm"), TEXT(INDEX(_xlfn._xlws.FILTER('Plan hebdomadaire'!E$5:E$60, ('Plan hebdomadaire'!E$5:E$60 <> "")), INT((ROW() - ROW($B$10) + 3) / 2)), "hh:mm") & CHAR(10)), "")}
B54: {=IFERROR(IF(MOD(ROW() - ROW($B$10) + 1, 2) = 1, TEXT(INDEX(_xlfn._xlws.FILTER('Plan hebdomadaire'!E$5:E$60, ('Plan hebdomadaire'!E$5:E$60 <> "")), INT((ROW() - ROW($B$10) + 2) / 2)), "hh:mm"), TEXT(INDEX(_xlfn._xlws.FILTER('Plan hebdomadaire'!E$5:E$60, ('Plan hebdomadaire'!E$5:E$60 <> "")), INT((ROW() - ROW($B$10) + 3) / 2)), "hh:mm") & CHAR(10)), "")} | F54: =IF(G54<>"","📌",IF(E54<>""," Mémo :",""))
B55: {=IFERROR(IF(MOD(ROW() - ROW($B$10) + 1, 2) = 1, TEXT(INDEX(_xlfn._xlws.FILTER('Plan hebdomadaire'!E$5:E$60, ('Plan hebdomadaire'!E$5:E$60 <> "")), INT((ROW() - ROW($B$10) + 2) / 2)), "hh:mm"), TEXT(INDEX(_xlfn._xlws.FILTER('Plan hebdomadaire'!E$5:E$60, ('Plan hebdomadaire'!E$5:E$60 <> "")), INT((ROW() - ROW($B$10) + 3) / 2)), "hh:mm") & CHAR(10)), "")}
B56: {=IFERROR(IF(MOD(ROW() - ROW($B$10) + 1, 2) = 1, TEXT(INDEX(_xlfn._xlws.FILTER('Plan hebdomadaire'!E$5:E$60, ('Plan hebdomadaire'!E$5:E$60 <> "")), INT((ROW() - ROW($B$10) + 2) / 2)), "hh:mm"), TEXT(INDEX(_xlfn._xlws.FILTER('Plan hebdomadaire'!E$5:E$60, ('Plan hebdomadaire'!E$5:E$60 <> "")), INT((ROW() - ROW($B$10) + 3) / 2)), "hh:mm") & CHAR(10)), "")} | F56: =IF(G56<>"","📌",IF(E56<>""," Mémo :",""))
B57: {=IFERROR(IF(MOD(ROW() - ROW($B$10) + 1, 2) = 1, TEXT(INDEX(_xlfn._xlws.FILTER('Plan hebdomadaire'!E$5:E$60, ('Plan hebdomadaire'!E$5:E$60 <> "")), INT((ROW() - ROW($B$10) + 2) / 2)), "hh:mm"), TEXT(INDEX(_xlfn._xlws.FILTER('Plan hebdomadaire'!E$5:E$60, ('Plan hebdomadaire'!E$5:E$60 <> "")), INT((ROW() - ROW($B$10) + 3) / 2)), "hh:mm") & CHAR(10)), "")}
B58: {=IFERROR(IF(MOD(ROW() - ROW($B$10) + 1, 2) = 1, TEXT(INDEX(_xlfn._xlws.FILTER('Plan hebdomadaire'!E$5:E$60, ('Plan hebdomadaire'!E$5:E$60 <> "")), INT((ROW() - ROW($B$10) + 2) / 2)), "hh:mm"), TEXT(INDEX(_xlfn._xlws.FILTER('Plan hebdomadaire'!E$5:E$60, ('Plan hebdomadaire'!E$5:E$60 <> "")), INT((ROW() - ROW($B$10) + 3) / 2)), "hh:mm") & CHAR(10)), "")} | F58: =IF(G58<>"","📌",IF(E58<>""," Mémo :",""))
B59: {=IFERROR(IF(MOD(ROW() - ROW($B$10) + 1, 2) = 1, TEXT(INDEX(_xlfn._xlws.FILTER('Plan hebdomadaire'!E$5:E$60, ('Plan hebdomadaire'!E$5:E$60 <> "")), INT((ROW() - ROW($B$10) + 2) / 2)), "hh:mm"), TEXT(INDEX(_xlfn._xlws.FILTER('Plan hebdomadaire'!E$5:E$60, ('Plan hebdomadaire'!E$5:E$60 <> "")), INT((ROW() - ROW($B$10) + 3) / 2)), "hh:mm") & CHAR(10)), "")}
B60: {=IFERROR(IF(MOD(ROW() - ROW($B$10) + 1, 2) = 1, TEXT(INDEX(_xlfn._xlws.FILTER('Plan hebdomadaire'!E$5:E$60, ('Plan hebdomadaire'!E$5:E$60 <> "")), INT((ROW() - ROW($B$10) + 2) / 2)), "hh:mm"), TEXT(INDEX(_xlfn._xlws.FILTER('Plan hebdomadaire'!E$5:E$60, ('Plan hebdomadaire'!E$5:E$60 <> "")), INT((ROW() - ROW($B$10) + 3) / 2)), "hh:mm") & CHAR(10)), "")} | F60: =IF(G60<>"","📌",IF(E60<>""," Mémo :",""))
B61: {=IFERROR(IF(MOD(ROW() - ROW($B$10) + 1, 2) = 1, TEXT(INDEX(_xlfn._xlws.FILTER('Plan hebdomadaire'!E$5:E$60, ('Plan hebdomadaire'!E$5:E$60 <> "")), INT((ROW() - ROW($B$10) + 2) / 2)), "hh:mm"), TEXT(INDEX(_xlfn._xlws.FILTER('Plan hebdomadaire'!E$5:E$60, ('Plan hebdomadaire'!E$5:E$60 <> "")), INT((ROW() - ROW($B$10) + 3) / 2)), "hh:mm") & CHAR(10)), "")}
B62: {=IFERROR(IF(MOD(ROW() - ROW($B$10) + 1, 2) = 1, TEXT(INDEX(_xlfn._xlws.FILTER('Plan hebdomadaire'!E$5:E$60, ('Plan hebdomadaire'!E$5:E$60 <> "")), INT((ROW() - ROW($B$10) + 2) / 2)), "hh:mm"), TEXT(INDEX(_xlfn._xlws.FILTER('Plan hebdomadaire'!E$5:E$60, ('Plan hebdomadaire'!E$5:E$60 <> "")), INT((ROW() - ROW($B$10) + 3) / 2)), "hh:mm") & CHAR(10)), "")} | F62: =IF(G62<>"","📌",IF(E62<>""," Mémo :",""))
B63: {=IFERROR(IF(MOD(ROW() - ROW($B$10) + 1, 2) = 1, TEXT(INDEX(_xlfn._xlws.FILTER('Plan hebdomadaire'!E$5:E$60, ('Plan hebdomadaire'!E$5:E$60 <> "")), INT((ROW() - ROW($B$10) + 2) / 2)), "hh:mm"), TEXT(INDEX(_xlfn._xlws.FILTER('Plan hebdomadaire'!E$5:E$60, ('Plan hebdomadaire'!E$5:E$60 <> "")), INT((ROW() - ROW($B$10) + 3) / 2)), "hh:mm") & CHAR(10)), "")}
B64: {=IFERROR(IF(MOD(ROW() - ROW($B$10) + 1, 2) = 1, TEXT(INDEX(_xlfn._xlws.FILTER('Plan hebdomadaire'!E$5:E$60, ('Plan hebdomadaire'!E$5:E$60 <> "")), INT((ROW() - ROW($B$10) + 2) / 2)), "hh:mm"), TEXT(INDEX(_xlfn._xlws.FILTER('Plan hebdomadaire'!E$5:E$60, ('Plan hebdomadaire'!E$5:E$60 <> "")), INT((ROW() - ROW($B$10) + 3) / 2)), "hh:mm") & CHAR(10)), "")} | F64: =IF(G64<>"","📌",IF(E64<>""," Mémo :",""))
B65: {=IFERROR(IF(MOD(ROW() - ROW($B$10) + 1, 2) = 1, TEXT(INDEX(_xlfn._xlws.FILTER('Plan hebdomadaire'!E$5:E$60, ('Plan hebdomadaire'!E$5:E$60 <> "")), INT((ROW() - ROW($B$10) + 2) / 2)), "hh:mm"), TEXT(INDEX(_xlfn._xlws.FILTER('Plan hebdomadaire'!E$5:E$60, ('Plan hebdomadaire'!E$5:E$60 <> "")), INT((ROW() - ROW($B$10) + 3) / 2)), "hh:mm") & CHAR(10)), "")}
B66: =IF(H2,"","💡 Faire un retour à la ligne dans une cellule : Alt + Entrée (Win) / Cmd + Entrée (Mac) — Copier-coller du contenu externe : double-cliquez d’abord dans la cellule (ou F2) avant de coller !") -> 💡 Faire un retour à la ligne dans une cellule : Alt + Entrée (Win) / Cmd + Entrée (Mac) — Copier-coller du contenu externe : double-cliquez d’abord dans la cellule (ou F2) avant de coller !

Sheet 📙Vendredi
B2: 📙 Mon journal du jour : | G2: =IF(ISNUMBER('Plan hebdomadaire'!H2), 'Plan hebdomadaire'!H2+4, "Veuillez spécifiez la semaine dans le Plan hebdomadaire !") -> 45905 | H2: FALSE | I2: ♻️ Impression écologique
B4: REMARQUES : | I4: ABSENCES :
H5: =REPT(CHAR(10)&CHAR(160), 3)
B8: 🕗 | E8: 📚 DISCIPLINE | G8: 📝 DÉROULEMENT | I8: 🎯 OBJECTIFS | K8: ✏️ OBSERVATIONS
B10: {=IFERROR(IF(MOD(ROW() - ROW($B$10) + 1, 2) = 1, TEXT(INDEX(_xlfn._xlws.FILTER('Plan hebdomadaire'!E$5:E$60, ('Plan hebdomadaire'!E$5:E$60 <> "")), INT((ROW() - ROW($B$10) + 2) / 2)), "hh:mm"), TEXT(INDEX(_xlfn._xlws.FILTER('Plan hebdomadaire'!E$5:E$60, ('Plan hebdomadaire'!E$5:E$60 <> "")), INT((ROW() - ROW($B$10) + 3) / 2)), "hh:mm") & CHAR(10)), "")} -> 08:00 | D10: {=_xlfn._xlws.FILTER(IF((('Plan hebdomadaire'!F5:F30 = "") + ('Plan hebdomadaire'!F5:F30 = 0)) > 0, "", 'Plan hebdomadaire'!F5:F30), ('Plan hebdomadaire'!E5:E30 <> ""))} -> Exemple | E10: {=IFERROR(_xlfn._xlws.FILTER(IF((('Plan hebdomadaire'!J5:J60 = "Sous-titre…") + ('Plan hebdomadaire'!J5:J60 = "Sous-titre...") + ('Plan hebdomadaire'!J5:J60 = "")), "", 'Plan hebdomadaire'!J5:J60), ($B$11:$B$66 <> "")), "")} | F10: =IF(G10<>"","📌",IF(E10<>""," Mémo :",""))
B11: {=IFERROR(IF(MOD(ROW() - ROW($B$10) + 1, 2) = 1, TEXT(INDEX(_xlfn._xlws.FILTER('Plan hebdomadaire'!E$5:E$60, ('Plan hebdomadaire'!E$5:E$60 <> "")), INT((ROW() - ROW($B$10) + 2) / 2)), "hh:mm"), TEXT(INDEX(_xlfn._xlws.FILTER('Plan hebdomadaire'!E$5:E$60, ('Plan hebdomadaire'!E$5:E$60 <> "")), INT((ROW() - ROW($B$10) + 3) / 2)), "hh:mm") & CHAR(10)), "")} -> 08:50
B12: {=IFERROR(IF(MOD(ROW() - ROW($B$10) + 1, 2) = 1, TEXT(INDEX(_xlfn._xlws.FILTER('Plan hebdomadaire'!E$5:E$60, ('Plan hebdomadaire'!E$5:E$60 <> "")), INT((ROW() - ROW($B$10) + 2) / 2)), "hh:mm"), TEXT(INDEX(_xlfn._xlws.FILTER('Plan hebdomadaire'!E$5:E$60, ('Plan hebdomadaire'!E$5:E$60 <> "")), INT((ROW() - ROW($B$10) + 3) / 2)), "hh:mm") & CHAR(10)), "")} -> 08:50 | F12: =IF(G12<>"","📌",IF(E12<>""," Mémo :",""))
B13: {=IFERROR(IF(MOD(ROW() - ROW($B$10) + 1, 2) = 1, TEXT(INDEX(_xlfn._xlws.FILTER('Plan hebdomadaire'!E$5:E$60, ('Plan hebdomadaire'!E$5:E$60 <> "")), INT((ROW() - ROW($B$10) + 2) / 2)), "hh:mm"), TEXT(INDEX(_xlfn._xlws.FILTER('Plan hebdomadaire'!E$5:E$60, ('Plan hebdomadaire'!E$5:E$60 <> "")), INT((ROW() - ROW($B$10) + 3) / 2)), "hh:mm") & CHAR(10)), "")} -> 09:40
B14: {=IFERROR(IF(MOD(ROW() - ROW($B$10) + 1, 2) = 1, TEXT(INDEX(_xlfn._xlws.FILTER('Plan hebdomadaire'!E$5:E$60, ('Plan hebdomadaire'!E$5:E$60 <> "")), INT((ROW() - ROW($B$10) + 2) / 2)), "hh:mm"), TEXT(INDEX(_xlfn._xlws.FILTER('Plan hebdomadaire'!E$5:E$60, ('Plan hebdomadaire'!E$5:E$60 <> "")), INT((ROW() - ROW($B$10) + 3) / 2)), "hh:mm") & CHAR(10)), "")} -> 09:40 | F14: =IF(G14<>"","📌",IF(E14<>""," Mémo :",""))
B15: {=IFERROR(IF(MOD(ROW() - ROW($B$10) + 1, 2) = 1, TEXT(INDEX(_xlfn._xlws.FILTER('Plan hebdomadaire'!E$5:E$60, ('Plan hebdomadaire'!E$5:E$60 <> "")), INT((ROW() - ROW($B$10) + 2) / 2)), "hh:mm"), TEXT(INDEX(_xlfn._xlws.FILTER('Plan hebdomadaire'!E$5:E$60, ('Plan hebdomadaire'!E$5:E$60 <> "")), INT((ROW() - ROW($B$10) + 3) / 2)), "hh:mm") & CHAR(10)), "")} -> 10:00
B16: {=IFERROR(IF(MOD(ROW() - ROW($B$10) + 1, 2) = 1, TEXT(INDEX(_xlfn._xlws.FILTER('Plan hebdomadaire'!E$5:E$60, ('Plan hebdomadaire'!E$5:E$60 <> "")), INT((ROW() - ROW($B$10) + 2) / 2)), "hh:mm"), TEXT(INDEX(_xlfn._xlws.FILTER('Plan hebdomadaire'!E$5:E$60, ('Plan hebdomadaire'!E$5:E$60 <> "")), INT((ROW() - ROW($B$10) + 3) / 2)), "hh:mm") & CHAR(10)), "")} -> 10:00 | F16: =IF(G16<>"","📌",IF(E16<>""," Mémo :",""))
B17: {=IFERROR(IF(MOD(ROW() - ROW($B$10) + 1, 2) = 1, TEXT(INDEX(_xlfn._xlws.FILTER('Plan hebdomadaire'!E$5:E$60, ('Plan hebdomadaire'!E$5:E$60 <> "")), INT((ROW() - ROW($B$10) + 2) / 2)), "hh:mm"), TEXT(INDEX(_xlfn._xlws.FILTER('Plan hebdomadaire'!E$5:E$60, ('Plan hebdomadaire'!E$5:E$60 <> "")), INT((ROW() - ROW($B$10) + 3) / 2)), "hh:mm") & CHAR(10)), "")} -> 10:50
B18: {=IFERROR(IF(MOD(ROW() - ROW($B$10) + 1, 2) = 1, TEXT(INDEX(_xlfn._xlws.FILTER('Plan hebdomadaire'!E$5:E$60, ('Plan hebdomadaire'!E$5:E$60 <> "")), INT((ROW() - ROW($B$10) + 2) / 2)), "hh:mm"), TEXT(INDEX(_xlfn._xlws.FILTER('Plan hebdomadaire'!E$5:E$60, ('Plan hebdomadaire'!E$5:E$60 <> "")), INT((ROW() - ROW($B$10) + 3) / 2)), "hh:mm") & CHAR(10)), "")} -> 10:50 | F18: =IF(G18<>"","📌",IF(E18<>""," Mémo :",""))
B19: {=IFERROR(IF(MOD(ROW() - ROW($B$10) + 1, 2) = 1, TEXT(INDEX(_xlfn._xlws.FILTER('Plan hebdomadaire'!E$5:E$60, ('Plan hebdomadaire'!E$5:E$60 <> "")), INT((ROW() - ROW($B$10) + 2) / 2)), "hh:mm"), TEXT(INDEX(_xlfn._xlws.FILTER('Plan hebdomadaire'!E$5:E$60, ('Plan hebdomadaire'!E$5:E$60 <> "")), INT((ROW() - ROW($B$10) + 3) / 2)), "hh:mm") & CHAR(10)), "")} -> 11:30
B20: {=IFERROR(IF(MOD(ROW() - ROW($B$10) + 1, 2) = 1, TEXT(INDEX(_xlfn._xlws.FILTER('Plan hebdomadaire'!E$5:E$60, ('Plan hebdomadaire'!E$5:E$60 <> "")), INT((ROW() - ROW($B$10) + 2) / 2)), "hh:mm"), TEXT(INDEX(_xlfn._xlws.FILTER('Plan hebdomadaire'!E$5:E$60, ('Plan hebdomadaire'!E$5:E$60 <> "")), INT((ROW() - ROW($B$10) + 3) / 2)), "hh:mm") & CHAR(10)), "")} -> 11:30 | F20: =IF(G20<>"","📌",IF(E20<>""," Mémo :",""))
B21: {=IFERROR(IF(MOD(ROW() - ROW($B$10) + 1, 2) = 1, TEXT(INDEX(_xlfn._xlws.FILTER('Plan hebdomadaire'!E$5:E$60, ('Plan hebdomadaire'!E$5:E$60 <> "")), INT((ROW() - ROW($B$10) + 2) / 2)), "hh:mm"), TEXT(INDEX(_xlfn._xlws.FILTER('Plan hebdomadaire'!E$5:E$60, ('Plan hebdomadaire'!E$5:E$60 <> "")), INT((ROW() - ROW($B$10) + 3) / 2)), "hh:mm") & CHAR(10)), "")} -> 13:50
B22: {=IFERROR(IF(MOD(ROW() - ROW($B$10) + 1, 2) = 1, TEXT(INDEX(_xlfn._xlws.FILTER('Plan hebdomadaire'!E$5:E$60, ('Plan hebdomadaire'!E$5:E$60 <> "")), INT((ROW() - ROW($B$10) + 2) / 2)), "hh:mm"), TEXT(INDEX(_xlfn._xlws.FILTER('Plan hebdomadaire'!E$5:E$60, ('Plan hebdomadaire'!E$5:E$60 <> "")), INT((ROW() - ROW($B$10) + 3) / 2)), "hh:mm") & CHAR(10)), "")} -> 13:50 | F22: =IF(G22<>"","📌",IF(E22<>""," Mémo :",""))
B23: {=IFERROR(IF(MOD(ROW() - ROW($B$10) + 1, 2) = 1, TEXT(INDEX(_xlfn._xlws.FILTER('Plan hebdomadaire'!E$5:E$60, ('Plan hebdomadaire'!E$5:E$60 <> "")), INT((ROW() - ROW($B$10) + 2) / 2)), "hh:mm"), TEXT(INDEX(_xlfn._xlws.FILTER('Plan hebdomadaire'!E$5:E$60, ('Plan hebdomadaire'!E$5:E$60 <> "")), INT((ROW() - ROW($B$10) + 3) / 2)), "hh:mm") & CHAR(10)), "")} -> 14:40
B24: {=IFERROR(IF(MOD(ROW() - ROW($B$10) + 1, 2) = 1, TEXT(INDEX(_xlfn._xlws.FILTER('Plan hebdomadaire'!E$5:E$60, ('Plan hebdomadaire'!E$5:E$60 <> "")), INT((ROW() - ROW($B$10) + 2) / 2)), "hh:mm"), TEXT(INDEX(_xlfn._xlws.FILTER('Plan hebdomadaire'!E$5:E$60, ('Plan hebdomadaire'!E$5:E$60 <> "")), INT((ROW() - ROW($B$10) + 3) / 2)), "hh:mm") & CHAR(10)), "")} -> 14:40 | F24: =IF(G24<>"","📌",IF(E24<>""," Mémo :",""))
B25: {=IFERROR(IF(MOD(ROW() - ROW($B$10) + 1, 2) = 1, TEXT(INDEX(_xlfn._xlws.FILTER('Plan hebdomadaire'!E$5:E$60, ('Plan hebdomadaire'!E$5:E$60 <> "")), INT((ROW() - ROW($B$10) + 2) / 2)), "hh:mm"), TEXT(INDEX(_xlfn._xlws.FILTER('Plan hebdomadaire'!E$5:E$60, ('Plan hebdomadaire'!E$5:E$60 <> "")), INT((ROW() - ROW($B$10) + 3) / 2)), "hh:mm") & CHAR(10)), "")} -> 15:30
B26: {=IFERROR(IF(MOD(ROW() - ROW($B$10) + 1, 2) = 1, TEXT(INDEX(_xlfn._xlws.FILTER('Plan hebdomadaire'!E$5:E$60, ('Plan hebdomadaire'!E$5:E$60 <> "")), INT((ROW() - ROW($B$10) + 2) / 2)), "hh:mm"), TEXT(INDEX(_xlfn._xlws.FILTER('Plan hebdomadaire'!E$5:E$60, ('Plan hebdomadaire'!E$5:E$60 <> "")), INT((ROW() - ROW($B$10) + 3) / 2)), "hh:mm") & CHAR(10)), "")} -> 15:30 | F26: =IF(G26<>"","📌",IF(E26<>""," Mémo :",""))
B27: {=IFERROR(IF(MOD(ROW() - ROW($B$10) + 1, 2) = 1, TEXT(INDEX(_xlfn._xlws.FILTER('Plan hebdomadaire'!E$5:E$60, ('Plan hebdomadaire'!E$5:E$60 <> "")), INT((ROW() - ROW($B$10) + 2) / 2)), "hh:mm"), TEXT(INDEX(_xlfn._xlws.FILTER('Plan hebdomadaire'!E$5:E$60, ('Plan hebdomadaire'!E$5:E$60 <> "")), INT((ROW() - ROW($B$10) + 3) / 2)), "hh:mm") & CHAR(10)), "")}
B28: {=IFERROR(IF(MOD(ROW() - ROW($B$10) + 1, 2) = 1, TEXT(INDEX(_xlfn._xlws.FILTER('Plan hebdomadaire'!E$5:E$60, ('Plan hebdomadaire'!E$5:E$60 <> "")), INT((ROW() - ROW($B$10) + 2) / 2)), "hh:mm"), TEXT(INDEX(_xlfn._xlws.FILTER('Plan hebdomadaire'!E$5:E$60, ('Plan hebdomadaire'!E$5:E$60 <> "")), INT((ROW() - ROW($B$10) + 3) / 2)), "hh:mm") & CHAR(10)), "")} | F28: =IF(G28<>"","📌",IF(E28<>""," Mémo :",""))
B29: {=IFERROR(IF(MOD(ROW() - ROW($B$10) + 1, 2) = 1, TEXT(INDEX(_xlfn._xlws.FILTER('Plan hebdomadaire'!E$5:E$60, ('Plan hebdomadaire'!E$5:E$60 <> "")), INT((ROW() - ROW($B$10) + 2) / 2)), "hh:mm"), TEXT(INDEX(_xlfn._xlws.FILTER('Plan hebdomadaire'!E$5:E$60, ('Plan hebdomadaire'!E$5:E$60 <> "")), INT((ROW() - ROW($B$10) + 3) / 2)), "hh:mm") & CHAR(10)), "")}
B30: {=IFERROR(IF(MOD(ROW() - ROW($B$10) + 1, 2) = 1, TEXT(INDEX(_xlfn._xlws.FILTER('Plan hebdomadaire'!E$5:E$60, ('Plan hebdomadaire'!E$5:E$60 <> "")), INT((ROW() - ROW($B$10) + 2) / 2)), "hh:mm"), TEXT(INDEX(_xlfn._xlws.FILTER('Plan hebdomadaire'!E$5:E$60, ('Plan hebdomadaire'!E$5:E$60 <> "")), INT((ROW() - ROW($B$10) + 3) / 2)), "hh:mm") & CHAR(10)), "")} | F30: =IF(G30<>"","📌",IF(E30<>""," Mémo :",""))
B31: {=IFERROR(IF(MOD(ROW() - ROW($B$10) + 1, 2) = 1, TEXT(INDEX(_xlfn._xlws.FILTER('Plan hebdomadaire'!E$5:E$60, ('Plan hebdomadaire'!E$5:E$60 <> "")), INT((ROW() - ROW($B$10) + 2) / 2)), "hh:mm"), TEXT(INDEX(_xlfn._xlws.FILTER('Plan hebdomadaire'!E$5:E$60, ('Plan hebdomadaire'!E$5:E$60 <> "")), INT((ROW() - ROW($B$10) + 3) / 2)), "hh:mm") & CHAR(10)), "")}
B32: {=IFERROR(IF(MOD(ROW() - ROW($B$10) + 1, 2) = 1, TEXT(INDEX(_xlfn._xlws.FILTER('Plan hebdomadaire'!E$5:E$60, ('Plan hebdomadaire'!E$5:E$60 <> "")), INT((ROW() - ROW($B$10) + 2) / 2)), "hh:mm"), TEXT(INDEX(_xlfn._xlws.FILTER('Plan hebdomadaire'!E$5:E$60, ('Plan hebdomadaire'!E$5:E$60 <> "")), INT((ROW() - ROW($B$10) + 3) / 2)), "hh:mm") & CHAR(10)), "")} | F32: =IF(G32<>"","📌",IF(E32<>""," Mémo :",""))
B33: {=IFERROR(IF(MOD(ROW() - ROW($B$10) + 1, 2) = 1, TEXT(INDEX(_xlfn._xlws.FILTER('Plan hebdomadaire'!E$5:E$60, ('Plan hebdomadaire'!E$5:E$60 <> "")), INT((ROW() - ROW($B$10) + 2) / 2)), "hh:mm"), TEXT(INDEX(_xlfn._xlws.FILTER('Plan hebdomadaire'!E$5:E$60, ('Plan hebdomadaire'!E$5:E$60 <> "")), INT((ROW() - ROW($B$10) + 3) / 2)), "hh:mm") & CHAR(10)), "")}
B34: {=IFERROR(IF(MOD(ROW() - ROW($B$10) + 1, 2) = 1, TEXT(INDEX(_xlfn._xlws.FILTER('Plan hebdomadaire'!E$5:E$60, ('Plan hebdomadaire'!E$5:E$60 <> "")), INT((ROW() - ROW($B$10) + 2) / 2)), "hh:mm"), TEXT(INDEX(_xlfn._xlws.FILTER('Plan hebdomadaire'!E$5:E$60, ('Plan hebdomadaire'!E$5:E$60 <> "")), INT((ROW() - ROW($B$10) + 3) / 2)), "hh:mm") & CHAR(10)), "")} | F34: =IF(G34<>"","📌",IF(E34<>""," Mémo :",""))
B35: {=IFERROR(IF(MOD(ROW() - ROW($B$10) + 1, 2) = 1, TEXT(INDEX(_xlfn._xlws.FILTER('Plan hebdomadaire'!E$5:E$60, ('Plan hebdomadaire'!E$5:E$60 <> "")), INT((ROW() - ROW($B$10) + 2) / 2)), "hh:mm"), TEXT(INDEX(_xlfn._xlws.FILTER('Plan hebdomadaire'!E$5:E$60, ('Plan hebdomadaire'!E$5:E$60 <> "")), INT((ROW() - ROW($B$10) + 3) / 2)), "hh:mm") & CHAR(10)), "")}
B36: {=IFERROR(IF(MOD(ROW() - ROW($B$10) + 1, 2) = 1, TEXT(INDEX(_xlfn._xlws.FILTER('Plan hebdomadaire'!E$5:E$60, ('Plan hebdomadaire'!E$5:E$60 <> "")), INT((ROW() - ROW($B$10) + 2) / 2)), "hh:mm"), TEXT(INDEX(_xlfn._xlws.FILTER('Plan hebdomadaire'!E$5:E$60, ('Plan hebdomadaire'!E$5:E$60 <> "")), INT((ROW() - ROW($B$10) + 3) / 2)), "hh:mm") & CHAR(10)), "")} | F36: =IF(G36<>"","📌",IF(E36<>""," Mémo :",""))
B37: {=IFERROR(IF(MOD(ROW() - ROW($B$10) + 1, 2) = 1, TEXT(INDEX(_xlfn._xlws.FILTER('Plan hebdomadaire'!E$5:E$60, ('Plan hebdomadaire'!E$5:E$60 <> "")), INT((ROW() - ROW($B$10) + 2) / 2)), "hh:mm"), TEXT(INDEX(_xlfn._xlws.FILTER('Plan hebdomadaire'!E$5:E$60, ('Plan hebdomadaire'!E$5:E$60 <> "")), INT((ROW() - ROW($B$10) + 3) / 2)), "hh:mm") & CHAR(10)), "")}
B38: {=IFERROR(IF(MOD(ROW() - ROW($B$10) + 1, 2) = 1, TEXT(INDEX(_xlfn._xlws.FILTER('Plan hebdomadaire'!E$5:E$60, ('Plan hebdomadaire'!E$5:E$60 <> "")), INT((ROW() - ROW($B$10) + 2) / 2)), "hh:mm"), TEXT(INDEX(_xlfn._xlws.FILTER('Plan hebdomadaire'!E$5:E$60, ('Plan hebdomadaire'!E$5:E$60 <> "")), INT((ROW() - ROW($B$10) + 3) / 2)), "hh:mm") & CHAR(10)), "")} | F38: =IF(G38<>"","📌",IF(E38<>""," Mémo :",""))
B39: {=IFERROR(IF(MOD(ROW() - ROW($B$10) + 1, 2) = 1, TEXT(INDEX(_xlfn._xlws.FILTER('Plan hebdomadaire'!E$5:E$60, ('Plan hebdomadaire'!E$5:E$60 <> "")), INT((ROW() - ROW($B$10) + 2) / 2)), "hh:mm"), TEXT(INDEX(_xlfn._xlws.FILTER('Plan hebdomadaire'!E$5:E$60, ('Plan hebdomadaire'!E$5:E$60 <> "")), INT((ROW() - ROW($B$10) + 3) / 2)), "hh:mm") & CHAR(10)), "")}
B40: {=IFERROR(IF(MOD(ROW() - ROW($B$10) + 1, 2) = 1, TEXT(INDEX(_xlfn._xlws.FILTER('Plan hebdomadaire'!E$5:E$60, ('Plan hebdomadaire'!E$5:E$60 <> "")), INT((ROW() - ROW($B$10) + 2) / 2)), "hh:mm"), TEXT(INDEX(_xlfn._xlws.FILTER('Plan hebdomadaire'!E$5:E$60, ('Plan hebdomadaire'!E$5:E$60 <> "")), INT((ROW() - ROW($B$10) + 3) / 2)), "hh:mm") & CHAR(10)), "")} | F40: =IF(G40<>"","📌",IF(E40<>""," Mémo :",""))
B41: {=IFERROR(IF(MOD(ROW() - ROW($B$10) + 1, 2) = 1, TEXT(INDEX(_xlfn._xlws.FILTER('Plan hebdomadaire'!E$5:E$60, ('Plan hebdomadaire'!E$5:E$60 <> "")), INT((ROW() - ROW($B$10) + 2) / 2)), "hh:mm"), TEXT(INDEX(_xlfn._xlws.FILTER('Plan hebdomadaire'!E$5:E$60, ('Plan hebdomadaire'!E$5:E$60 <> "")), INT((ROW() - ROW($B$10) + 3) / 2)), "hh:mm") & CHAR(10)), "")}
B42: {=IFERROR(IF(MOD(ROW() - ROW($B$10) + 1, 2) = 1, TEXT(INDEX(_xlfn._xlws.FILTER('Plan hebdomadaire'!E$5:E$60, ('Plan hebdomadaire'!E$5:E$60 <> "")), INT((ROW() - ROW($B$10) + 2) / 2)), "hh:mm"), TEXT(INDEX(_xlfn._xlws.FILTER('Plan hebdomadaire'!E$5:E$60, ('Plan hebdomadaire'!E$5:E$60 <> "")), INT((ROW() - ROW($B$10) + 3) / 2)), "hh:mm") & CHAR(10)), "")} | F42: =IF(G42<>"","📌",IF(E42<>""," Mémo :",""))
B43: {=IFERROR(IF(MOD(ROW() - ROW($B$10) + 1, 2) = 1, TEXT(INDEX(_xlfn._xlws.FILTER('Plan hebdomadaire'!E$5:E$60, ('Plan hebdomadaire'!E$5:E$60 <> "")), INT((ROW() - ROW($B$10) + 2) / 2)), "hh:mm"), TEXT(INDEX(_xlfn._xlws.FILTER('Plan hebdomadaire'!E$5:E$60, ('Plan hebdomadaire'!E$5:E$60 <> "")), INT((ROW() - ROW($B$10) + 3) / 2)), "hh:mm") & CHAR(10)), "")}
B44: {=IFERROR(IF(MOD(ROW() - ROW($B$10) + 1, 2) = 1, TEXT(INDEX(_xlfn._xlws.FILTER('Plan hebdomadaire'!E$5:E$60, ('Plan hebdomadaire'!E$5:E$60 <> "")), INT((ROW() - ROW($B$10) + 2) / 2)), "hh:mm"), TEXT(INDEX(_xlfn._xlws.FILTER('Plan hebdomadaire'!E$5:E$60, ('Plan hebdomadaire'!E$5:E$60 <> "")), INT((ROW() - ROW($B$10) + 3) / 2)), "hh:mm") & CHAR(10)), "")} | F44: =IF(G44<>"","📌",IF(E44<>""," Mémo :",""))
B45: {=IFERROR(IF(MOD(ROW() - ROW($B$10) + 1, 2) = 1, TEXT(INDEX(_xlfn._xlws.FILTER('Plan hebdomadaire'!E$5:E$60, ('Plan hebdomadaire'!E$5:E$60 <> "")), INT((ROW() - ROW($B$10) + 2) / 2)), "hh:mm"), TEXT(INDEX(_xlfn._xlws.FILTER('Plan hebdomadaire'!E$5:E$60, ('Plan hebdomadaire'!E$5:E$60 <> "")), INT((ROW() - ROW($B$10) + 3) / 2)), "hh:mm") & CHAR(10)), "")}
B46: {=IFERROR(IF(MOD(ROW() - ROW($B$10) + 1, 2) = 1, TEXT(INDEX(_xlfn._xlws.FILTER('Plan hebdomadaire'!E$5:E$60, ('Plan hebdomadaire'!E$5:E$60 <> "")), INT((ROW() - ROW($B$10) + 2) / 2)), "hh:mm"), TEXT(INDEX(_xlfn._xlws.FILTER('Plan hebdomadaire'!E$5:E$60, ('Plan hebdomadaire'!E$5:E$60 <> "")), INT((ROW() - ROW($B$10) + 3) / 2)), "hh:mm") & CHAR(10)), "")} | F46: =IF(G46<>"","📌",IF(E46<>""," Mémo :",""))
B47: {=IFERROR(IF(MOD(ROW() - ROW($B$10) + 1, 2) = 1, TEXT(INDEX(_xlfn._xlws.FILTER('Plan hebdomadaire'!E$5:E$60, ('Plan hebdomadaire'!E$5:E$60 <> "")), INT((ROW() - ROW($B$10) + 2) / 2)), "hh:mm"), TEXT(INDEX(_xlfn._xlws.FILTER('Plan hebdomadaire'!E$5:E$60, ('Plan hebdomadaire'!E$5:E$60 <> "")), INT((ROW() - ROW($B$10) + 3) / 2)), "hh:mm") & CHAR(10)), "")}
B48: {=IFERROR(IF(MOD(ROW() - ROW($B$10) + 1, 2) = 1, TEXT(INDEX(_xlfn._xlws.FILTER('Plan hebdomadaire'!E$5:E$60, ('Plan hebdomadaire'!E$5:E$60 <> "")), INT((ROW() - ROW($B$10) + 2) / 2)), "hh:mm"), TEXT(INDEX(_xlfn._xlws.FILTER('Plan hebdomadaire'!E$5:E$60, ('Plan hebdomadaire'!E$5:E$60 <> "")), INT((ROW() - ROW($B$10) + 3) / 2)), "hh:mm") & CHAR(10)), "")} | F48: =IF(G48<>"","📌",IF(E48<>""," Mémo :",""))
B49: {=IFERROR(IF(MOD(ROW() - ROW($B$10) + 1, 2) = 1, TEXT(INDEX(_xlfn._xlws.FILTER('Plan hebdomadaire'!E$5:E$60, ('Plan hebdomadaire'!E$5:E$60 <> "")), INT((ROW() - ROW($B$10) + 2) / 2)), "hh:mm"), TEXT(INDEX(_xlfn._xlws.FILTER('Plan hebdomadaire'!E$5:E$60, ('Plan hebdomadaire'!E$5:E$60 <> "")), INT((ROW() - ROW($B$10) + 3) / 2)), "hh:mm") & CHAR(10)), "")}
B50: {=IFERROR(IF(MOD(ROW() - ROW($B$10) + 1, 2) = 1, TEXT(INDEX(_xlfn._xlws.FILTER('Plan hebdomadaire'!E$5:E$60, ('Plan hebdomadaire'!E$5:E$60 <> "")), INT((ROW() - ROW($B$10) + 2) / 2)), "hh:mm"), TEXT(INDEX(_xlfn._xlws.FILTER('Plan hebdomadaire'!E$5:E$60, ('Plan hebdomadaire'!E$5:E$60 <> "")), INT((ROW() - ROW($B$10) + 3) / 2)), "hh:mm") & CHAR(10)), "")} | F50: =IF(G50<>"","📌",IF(E50<>""," Mémo :",""))
B51: {=IFERROR(IF(MOD(ROW() - ROW($B$10) + 1, 2) = 1, TEXT(INDEX(_xlfn._xlws.FILTER('Plan hebdomadaire'!E$5:E$60, ('Plan hebdomadaire'!E$5:E$60 <> "")), INT((ROW() - ROW($B$10) + 2) / 2)), "hh:mm"), TEXT(INDEX(_xlfn._xlws.FILTER('Plan hebdomadaire'!E$5:E$60, ('Plan hebdomadaire'!E$5:E$60 <> "")), INT((ROW() - ROW($B$10) + 3) / 2)), "hh:mm") & CHAR(10)), "")}
B52: {=IFERROR(IF(MOD(ROW() - ROW($B$10) + 1, 2) = 1, TEXT(INDEX(_xlfn._xlws.FILTER('Plan hebdomadaire'!E$5:E$60, ('Plan hebdomadaire'!E$5:E$60 <> "")), INT((ROW() - ROW($B$10) + 2) / 2)), "hh:mm"), TEXT(INDEX(_xlfn._xlws.FILTER('Plan hebdomadaire'!E$5:E$60, ('Plan hebdomadaire'!E$5:E$60 <> "")), INT((ROW() - ROW($B$10) + 3) / 2)), "hh:mm") & CHAR(10)), "")} | F52: =IF(G52<>"","📌",IF(E52<>""," Mémo :",""))
B53: {=IFERROR(IF(MOD(ROW() - ROW($B$10) + 1, 2) = 1, TEXT(INDEX(_xlfn._xlws.FILTER('Plan hebdomadaire'!E$5:E$60, ('Plan hebdomadaire'!E$5:E$60 <> "")), INT((ROW() - ROW($B$10) + 2) / 2)), "hh:mm"), TEXT(INDEX(_xlfn._xlws.FILTER('Plan hebdomadaire'!E$5:E$60, ('Plan hebdomadaire'!E$5:E$60 <> "")), INT((ROW() - ROW($B$10) + 3) / 2)), "hh:mm") & CHAR(10)), "")}
B54: {=IFERROR(IF(MOD(ROW() - ROW($B$10) + 1, 2) = 1, TEXT(INDEX(_xlfn._xlws.FILTER('Plan hebdomadaire'!E$5:E$60, ('Plan hebdomadaire'!E$5:E$60 <> "")), INT((ROW() - ROW($B$10) + 2) / 2)), "hh:mm"), TEXT(INDEX(_xlfn._xlws.FILTER('Plan hebdomadaire'!E$5:E$60, ('Plan hebdomadaire'!E$5:E$60 <> "")), INT((ROW() - ROW($B$10) + 3) / 2)), "hh:mm") & CHAR(10)), "")} | F54: =IF(G54<>"","📌",IF(E54<>""," Mémo :",""))
B55: {=IFERROR(IF(MOD(ROW() - ROW($B$10) + 1, 2) = 1, TEXT(INDEX(_xlfn._xlws.FILTER('Plan hebdomadaire'!E$5:E$60, ('Plan hebdomadaire'!E$5:E$60 <> "")), INT((ROW() - ROW($B$10) + 2) / 2)), "hh:mm"), TEXT(INDEX(_xlfn._xlws.FILTER('Plan hebdomadaire'!E$5:E$60, ('Plan hebdomadaire'!E$5:E$60 <> "")), INT((ROW() - ROW($B$10) + 3) / 2)), "hh:mm") & CHAR(10)), "")}
B56: {=IFERROR(IF(MOD(ROW() - ROW($B$10) + 1, 2) = 1, TEXT(INDEX(_xlfn._xlws.FILTER('Plan hebdomadaire'!E$5:E$60, ('Plan hebdomadaire'!E$5:E$60 <> "")), INT((ROW() - ROW($B$10) + 2) / 2)), "hh:mm"), TEXT(INDEX(_xlfn._xlws.FILTER('Plan hebdomadaire'!E$5:E$60, ('Plan hebdomadaire'!E$5:E$60 <> "")), INT((ROW() - ROW($B$10) + 3) / 2)), "hh:mm") & CHAR(10)), "")} | F56: =IF(G56<>"","📌",IF(E56<>""," Mémo :",""))
B57: {=IFERROR(IF(MOD(ROW() - ROW($B$10) + 1, 2) = 1, TEXT(INDEX(_xlfn._xlws.FILTER('Plan hebdomadaire'!E$5:E$60, ('Plan hebdomadaire'!E$5:E$60 <> "")), INT((ROW() - ROW($B$10) + 2) / 2)), "hh:mm"), TEXT(INDEX(_xlfn._xlws.FILTER('Plan hebdomadaire'!E$5:E$60, ('Plan hebdomadaire'!E$5:E$60 <> "")), INT((ROW() - ROW($B$10) + 3) / 2)), "hh:mm") & CHAR(10)), "")}
B58: {=IFERROR(IF(MOD(ROW() - ROW($B$10) + 1, 2) = 1, TEXT(INDEX(_xlfn._xlws.FILTER('Plan hebdomadaire'!E$5:E$60, ('Plan hebdomadaire'!E$5:E$60 <> "")), INT((ROW() - ROW($B$10) + 2) / 2)), "hh:mm"), TEXT(INDEX(_xlfn._xlws.FILTER('Plan hebdomadaire'!E$5:E$60, ('Plan hebdomadaire'!E$5:E$60 <> "")), INT((ROW() - ROW($B$10) + 3) / 2)), "hh:mm") & CHAR(10)), "")} | F58: =IF(G58<>"","📌",IF(E58<>""," Mémo :",""))
B59: {=IFERROR(IF(MOD(ROW() - ROW($B$10) + 1, 2) = 1, TEXT(INDEX(_xlfn._xlws.FILTER('Plan hebdomadaire'!E$5:E$60, ('Plan hebdomadaire'!E$5:E$60 <> "")), INT((ROW() - ROW($B$10) + 2) / 2)), "hh:mm"), TEXT(INDEX(_xlfn._xlws.FILTER('Plan hebdomadaire'!E$5:E$60, ('Plan hebdomadaire'!E$5:E$60 <> "")), INT((ROW() - ROW($B$10) + 3) / 2)), "hh:mm") & CHAR(10)), "")}
B60: {=IFERROR(IF(MOD(ROW() - ROW($B$10) + 1, 2) = 1, TEXT(INDEX(_xlfn._xlws.FILTER('Plan hebdomadaire'!E$5:E$60, ('Plan hebdomadaire'!E$5:E$60 <> "")), INT((ROW() - ROW($B$10) + 2) / 2)), "hh:mm"), TEXT(INDEX(_xlfn._xlws.FILTER('Plan hebdomadaire'!E$5:E$60, ('Plan hebdomadaire'!E$5:E$60 <> "")), INT((ROW() - ROW($B$10) + 3) / 2)), "hh:mm") & CHAR(10)), "")} | F60: =IF(G60<>"","📌",IF(E60<>""," Mémo :",""))
B61: {=IFERROR(IF(MOD(ROW() - ROW($B$10) + 1, 2) = 1, TEXT(INDEX(_xlfn._xlws.FILTER('Plan hebdomadaire'!E$5:E$60, ('Plan hebdomadaire'!E$5:E$60 <> "")), INT((ROW() - ROW($B$10) + 2) / 2)), "hh:mm"), TEXT(INDEX(_xlfn._xlws.FILTER('Plan hebdomadaire'!E$5:E$60, ('Plan hebdomadaire'!E$5:E$60 <> "")), INT((ROW() - ROW($B$10) + 3) / 2)), "hh:mm") & CHAR(10)), "")}
B62: {=IFERROR(IF(MOD(ROW() - ROW($B$10) + 1, 2) = 1, TEXT(INDEX(_xlfn._xlws.FILTER('Plan hebdomadaire'!E$5:E$60, ('Plan hebdomadaire'!E$5:E$60 <> "")), INT((ROW() - ROW($B$10) + 2) / 2)), "hh:mm"), TEXT(INDEX(_xlfn._xlws.FILTER('Plan hebdomadaire'!E$5:E$60, ('Plan hebdomadaire'!E$5:E$60 <> "")), INT((ROW() - ROW($B$10) + 3) / 2)), "hh:mm") & CHAR(10)), "")} | F62: =IF(G62<>"","📌",IF(E62<>""," Mémo :",""))
B63: {=IFERROR(IF(MOD(ROW() - ROW($B$10) + 1, 2) = 1, TEXT(INDEX(_xlfn._xlws.FILTER('Plan hebdomadaire'!E$5:E$60, ('Plan hebdomadaire'!E$5:E$60 <> "")), INT((ROW() - ROW($B$10) + 2) / 2)), "hh:mm"), TEXT(INDEX(_xlfn._xlws.FILTER('Plan hebdomadaire'!E$5:E$60, ('Plan hebdomadaire'!E$5:E$60 <> "")), INT((ROW() - ROW($B$10) + 3) / 2)), "hh:mm") & CHAR(10)), "")}
B64: {=IFERROR(IF(MOD(ROW() - ROW($B$10) + 1, 2) = 1, TEXT(INDEX(_xlfn._xlws.FILTER('Plan hebdomadaire'!E$5:E$60, ('Plan hebdomadaire'!E$5:E$60 <> "")), INT((ROW() - ROW($B$10) + 2) / 2)), "hh:mm"), TEXT(INDEX(_xlfn._xlws.FILTER('Plan hebdomadaire'!E$5:E$60, ('Plan hebdomadaire'!E$5:E$60 <> "")), INT((ROW() - ROW($B$10) + 3) / 2)), "hh:mm") & CHAR(10)), "")} | F64: =IF(G64<>"","📌",IF(E64<>""," Mémo :",""))
B65: {=IFERROR(IF(MOD(ROW() - ROW($B$10) + 1, 2) = 1, TEXT(INDEX(_xlfn._xlws.FILTER('Plan hebdomadaire'!E$5:E$60, ('Plan hebdomadaire'!E$5:E$60 <> "")), INT((ROW() - ROW($B$10) + 2) / 2)), "hh:mm"), TEXT(INDEX(_xlfn._xlws.FILTER('Plan hebdomadaire'!E$5:E$60, ('Plan hebdomadaire'!E$5:E$60 <> "")), INT((ROW() - ROW($B$10) + 3) / 2)), "hh:mm") & CHAR(10)), "")}
B66: =IF(H2,"","💡 Faire un retour à la ligne dans une cellule : Alt + Entrée (Win) / Cmd + Entrée (Mac) — Copier-coller du contenu externe : double-cliquez d’abord dans la cellule (ou F2) avant de coller !") -> 💡 Faire un retour à la ligne dans une cellule : Alt + Entrée (Win) / Cmd + Entrée (Mac) — Copier-coller du contenu externe : double-cliquez d’abord dans la cellule (ou F2) avant de coller !

Sheet 🏠Devoirs
H1: Liste automatique des lundis
B2: DEVOIRS | E2: Semaine du | F2: =IF(ISNUMBER('Plan hebdomadaire'!$H$2), 'Plan hebdomadaire'!$H$2, "Veuillez spécifiez la semaine dans le Plan hebdomadaire !") -> 45901 | H2: {=IF(E2 = "", "", _xlfn._xlws.FILTER(_xlfn.SEQUENCE(366, 1, DATE($E$2, 1, 1), 1), (WEEKDAY(_xlfn.SEQUENCE(366, 1, DATE($E$2, 1, 1), 1), 2) = 1)))} -> #VALUE!
B4: LUNDI | C4: =IF(ISNUMBER('Plan hebdomadaire'!$H$2), 'Plan hebdomadaire'!$H$2, "") -> 45901 | E4: MARDI | F4: =IF(ISNUMBER('Plan hebdomadaire'!H2), 'Plan hebdomadaire'!H2+1, "") -> 45902
B12: MERCREDI | C12: =IF(ISNUMBER('Plan hebdomadaire'!$H$2), 'Plan hebdomadaire'!$H$2+2, "") -> 45903 | E12: JEUDI | F12: =IF(ISNUMBER('Plan hebdomadaire'!$H$2), 'Plan hebdomadaire'!$H$2+3, "") -> 45904
B20: VENDREDI | C20: =IF(ISNUMBER('Plan hebdomadaire'!$H$2), 'Plan hebdomadaire'!$H$2+4, "") -> 45905 | E20: REMARQUES
A28: =IF(G28=TRUE, "✂︎ "&REPT("- ",35), "") | F28: ♻️ Impression écologique : | G28: FALSE
B30: =IF(AND($G$28, B2<>""), B2, "") | E30: =IF(AND($G$28, E2<>""), E2, "") | F30: =IF(AND($G$28, F2<>""), F2, "") | H30: {=IF(E30 = "", "", _xlfn._xlws.FILTER(_xlfn.SEQUENCE(366, 1, DATE($E$2, 1, 1), 1), (WEEKDAY(_xlfn.SEQUENCE(366, 1, DATE($E$2, 1, 1), 1), 2) = 1)))}
B32: =IF(AND($G$28, B4<>""), B4, "") | C32: =IF(AND($G$28, C4<>""), C4, "") | E32: =IF(AND($G$28, E4<>""), E4, "") | F32: =IF(AND($G$28, F4<>""), F4, "")
B34: =IF(AND($G$28, B6<>""), B6, "") | C34: =IF(AND($G$28, C6<>""), C6, "") | E34: =IF(AND($G$28, E6<>""), E6, "") | F34: =IF(AND($G$28, F6<>""), F6, "")
B35: =IF(AND($G$28, B7<>""), B7, "") | C35: =IF(AND($G$28, C7<>""), C7, "") | E35: =IF(AND($G$28, E7<>""), E7, "") | F35: =IF(AND($G$28, F7<>""), F7, "")
B36: =IF(AND($G$28, B8<>""), B8, "") | C36: =IF(AND($G$28, C8<>""), C8, "") | E36: =IF(AND($G$28, E8<>""), E8, "") | F36: =IF(AND($G$28, F8<>""), F8, "")
B37: =IF(AND($G$28, B9<>""), B9, "") | C37: =IF(AND($G$28, C9<>""), C9, "") | E37: =IF(AND($G$28, E9<>""), E9, "") | F37: =IF(AND($G$28, F9<>""), F9, "")
B38: =IF(AND($G$28, B10<>""), B10, "") | C38: =IF(AND($G$28, C10<>""), C10, "") | E38: =IF(AND($G$28, E10<>""), E10, "") | F38: =IF(AND($G$28, F10<>""), F10, "")
B40: =IF(AND($G$28, B12<>""), B12, "") | C40: =IF(AND($G$28, C12<>""), C12, "") | E40: =IF(AND($G$28, E12<>""), E12, "") | F40: =IF(AND($G$28, F12<>""), F12, "")
B42: =IF(AND($G$28, B14<>""), B14, "") | C42: =IF(AND($G$28, C14<>""), C14, "") | E42: =IF(AND($G$28, E14<>""), E14, "") | F42: =IF(AND($G$28, F14<>""), F14, "")
B43: =IF(AND($G$28, B15<>""), B15, "") | C43: =IF(AND($G$28, C15<>""), C15, "") | E43: =IF(AND($G$28, E15<>""), E15, "") | F43: =IF(AND($G$28, F15<>""), F15, "")
B44: =IF(AND($G$28, B16<>""), B16, "") | C44: =IF(AND($G$28, C16<>""), C16, "") | E44: =IF(AND($G$28, E16<>""), E16, "") | F44: =IF(AND($G$28, F16<>""), F16, "")
B45: =IF(AND($G$28, B17<>""), B17, "") | C45: =IF(AND($G$28, C17<>""), C17, "") | E45: =IF(AND($G$28, E17<>""), E17, "") | F45: =IF(AND($G$28, F17<>""), F17, "")
B46: =IF(AND($G$28, B18<>""), B18, "") | C46: =IF(AND($G$28, C18<>""), C18, "") | E46: =IF(AND($G$28, E18<>""), E18, "") | F46: =IF(AND($G$28, F18<>""), F18, "")
B48: =IF(AND($G$28, B20<>""), B20, "") | C48: =IF(AND($G$28, C20<>""), C20, "") | E48: =IF(AND($G$28, E20<>""), E20, "") | F48: =IF(AND($G$28, F20<>""), F20, "")
B50: =IF(AND($G$28, B22<>""), B22, "") | C50: =IF(AND($G$28, C22<>""), C22, "") | E50: =IF(AND($G$28, E22<>""), E22, "")
B51: =IF(AND($G$28, B23<>""), B23, "") | C51: =IF(AND($G$28, C23<>""), C23, "")
B52: =IF(AND($G$28, B24<>""), B24, "") | C52: =IF(AND($G$28, C24<>""), C24, "")
B53: =IF(AND($G$28, B25<>""), B25, "") | C53: =IF(AND($G$28, C25<>""), C25, "")
B54: =IF(AND($G$28, B26<>""), B26, "") | C54: =IF(AND($G$28, C26<>""), C26, "")

Sheet 🖨️ Horaire à imprimer
B1: ="🗓️ HORAIRE HEBDOMADAIRE · "&'Plan hebdomadaire'!J2 -> 🗓️ HORAIRE HEBDOMADAIRE · 2025
B3: 🕗 | C3: · LUNDI · | D3: · MARDI · | E3: · MERCREDI · | F3: · JEUDI · | G3: · VENDREDI · | H3: SAMEDI | I3: DIMANCHE
B5: {=IFERROR(TEXT(_xlfn._xlws.FILTER('Plan hebdomadaire'!E5:E59, ('Plan hebdomadaire'!E5:E59 <> "")), "hh:mm") & CHAR(10) & TEXT(_xlfn._xlws.FILTER('Plan hebdomadaire'!E6:E60, ('Plan hebdomadaire'!E6:E60 <> "")), "hh:mm"), "")} -> 08:00 08:50 | C5: {=IFERROR(_xlfn.VSTACK(_xlfn._xlws.FILTER('Plan hebdomadaire'!F5:L30, (ROW('Plan hebdomadaire'!E5:E30) < MAX(_xlfn._xlws.FILTER(ROW('Plan hebdomadaire'!E5:E30), ('Plan hebdomadaire'!E5:E30 <> "")))) * (ISODD(ROW('Plan hebdomadaire'!F5:F30)))), _xlfn.HSTACK("", "", "", "", "https://hepicerie.com")), "")} -> Exemple | D5: 0 | E5: 0 | F5: 0 | G5: 0 | H5: 0 | I5: 0
B6: 08:50 09:40 | C6: 0 | D6: 0 | E6: 0 | F6: 0 | G6: 0 | H6: 0 | I6: 0
B7: 09:40 10:00 | C7: 0 | D7: 0 | E7: 0 | F7: 0 | G7: 0 | H7: 0 | I7: 0
B8: 10:00 10:50 | C8: 0 | D8: 0 | E8: 0 | F8: 0 | G8: 0 | H8: 0 | I8: 0
B9: 10:50 11:30 | C9: 0 | D9: 0 | E9: 0 | F9: 0 | G9: 0 | H9: 0 | I9: 0
B10: 11:30 13:50 | C10: 0 | D10: 0 | E10: 0 | F10: 0 | G10: 0 | H10: 0 | I10: 0
B11: 13:50 14:40 | C11: 0 | D11: 0 | E11: 0 | F11: 0 | G11: 0 | H11: 0 | I11: 0
B12: 14:40 15:30 | C12: 0 | D12: 0 | E12: 0 | F12: 0 | G12: 0 | H12: 0 | I12: 0
G13: https://hepicerie.com
