Workbook

Sheet Plan hebdomadaire
J1: =IF(OR(ISBLANK(H2),ISBLANK(J2)),"⚠️ Indiquez l'année puis la date à gauche ⤵ ","") | R1: Liste automatique des lundis
B2: 📚 MES BRANCHES | E2: 🗓️ MON HORAIRE | G2: Semaine du : | H2: 45901 | J2: 2025 | P2: ↗️ | R2: {=IF(J2 = "", "", _xlfn._xlws.FILTER(_xlfn.SEQUENCE(366, 1, DATE($J$2, 1, 1), 1), (WEEKDAY(_xlfn.SEQUENCE(366, 1, DATE($J$2, 1, 1), 1), 2) = 1)))} -> 45663
B3: Branches/Cours ⤵ | C3: Couleur | E3: 🕗 | F3: Lundi | G3: Mardi | H3: Mercredi | I3: Jeudi | J3: Vendredi | K3: Samedi | L3: Dimanche | O3: Hep ! Mon Journal ! | R3: 45670
E4: {=IF(COUNTA($E$5:$E$60) <= MAX(IFERROR(COUNTA(_xlfn._xlws.FILTER($F$5:$F$60, (ISODD(ROW($F$5:$F$60))) * ($F$5:$F$60 <> ""))), 0), IFERROR(COUNTA(_xlfn._xlws.FILTER($G$5:$G$60, (ISODD(ROW($G$5:$G$60))) * ($G$5:$G$60 <> ""))), 0), IFERROR(COUNTA(_xlfn._xlws.FILTER($H$5:$H$60, (ISODD(ROW($H$5:$H$60))) * ($H$5:$H$60 <> ""))), 0), IFERROR(COUNTA(_xlfn._xlws.FILTER($I$5:$I$60, (ISODD(ROW($I$5:$I$60))) * ($I$5:$I$60 <> ""))), 0), IFERROR(COUNTA(_xlfn._xlws.FILTER($J$5:$J$60, (ISODD(ROW($J$5:$J$60))) * ($J$5:$J$60 <> ""))), 0), IFERROR(COUNTA(_xlfn._xlws.FILTER($K$5:$K$60, (ISODD(ROW($K$5:$K$60))) * ($K$5:$K$60 <> ""))), 0), IFERROR(COUNTA(_xlfn._xlws.FILTER($L$5:$L$60, (ISODD(ROW($L$5:$L$60))) * ($L$5:$L$60 <> ""))), 0)), "⚠️ ↓ Heures de débuts de période ou dernière heure (fin de journée) manquante(s) !", "")} | R4: 45677
A5: {=IF(B5:B60<>"","›","")} -> › | B5: Pause | C5: Blanc | E5: 0.33333333 | F5: Exemple | N5: =TODAY() -> 45933 | R5: 45684
A6: › | B6: Français | C6: Jaune | F6: Sous-titre… | G6: Sous-titre… | H6: Sous-titre… | I6: Sous-titre… | J6: Sous-titre… | K6: Sous-titre… | L6: Sous-titre… | N6: =CHOOSE(RANDBETWEEN(1,10), "Bonne journée d’enseignement !🌞", "Belle journée avec vos élèves 👩‍🏫👨‍🏫", "Souriez, vous transmettez du savoir 😃", "Chaque jour est une nouvelle chance d’apprendre 📚✨", "Enseigner, c’est semer des graines pour demain 🌱", "Merci pour votre engagement auprès des élèves 💖", "Vous faites la différence chaque jour 🌟", "L’école est un lieu de découvertes, profitez-en 🔎", "Vos élèves vous remercieront demain 🙏", "La connaissance est un cadeau que vous partagez 🎁" ) &CHAR(10) -> Vous faites la différence chaque jour 🌟 | R6: 45691
A7: › | B7: Allemand | C7: Orange | E7: 0.36805556 | R7: 45698
A8: › | B8: Anglais | C8: Orange foncé | F8: Sous-titre… | G8: Sous-titre… | H8: Sous-titre… | I8: Sous-titre… | J8: Sous-titre… | K8: Sous-titre… | L8: Sous-titre… | N8: 📝 MON BLOC-NOTES | R8: 45705
A9: › | B9: Maths | C9: Rouge | E9: 0.40277778 | N9: =IF(ISBLANK(O9),"",COUNTA($O$9:O9)) -> 1 | O9: Ceci est un exemple de note | P9: ✅ | R9: 45712
A10: › | B10: Sciences | C10: Lime | F10: Sous-titre… | G10: Sous-titre… | H10: Sous-titre… | I10: Sous-titre… | J10: Sous-titre… | K10: Sous-titre… | L10: Sous-titre… | N10: =IF(ISBLANK(O10),"",COUNTA($O$9:O10)) | R10: 45719
A11: › | B11: Géographie | C11: Vert | E11: 0.41666667 | N11: =IF(ISBLANK(O11),"",COUNTA($O$9:O11)) | R11: 45726
A12: › | B12: Histoire | C12: Brun | F12: Sous-titre… | G12: Sous-titre… | H12: Sous-titre… | I12: Sous-titre… | J12: Sous-titre… | K12: Sous-titre… | L12: Sous-titre… | N12: =IF(ISBLANK(O12),"",COUNTA($O$9:O12)) | R12: 45733
A13: › | B13: Citoyenneté | C13: Brun sable | E13: 0.45138889 | N13: =IF(ISBLANK(O13),"",COUNTA($O$9:O13)) | R13: 45740
A14: › | B14: ACM/ACT | C14: Lavande | F14: Sous-titre… | G14: Sous-titre… | H14: Sous-titre… | I14: Sous-titre… | J14: Sous-titre… | K14: Sous-titre… | L14: Sous-titre… | N14: =IF(ISBLANK(O14),"",COUNTA($O$9:O14)) | R14: 45747
A15: › | B15: Arts visuels | C15: Violet | E15: 0.47916667 | N15: =IF(ISBLANK(O15),"",COUNTA($O$9:O15)) | R15: 45754
A16: › | B16: Musique | C16: Indigo | F16: Sous-titre… | G16: Sous-titre… | H16: Sous-titre… | I16: Sous-titre… | J16: Sous-titre… | K16: Sous-titre… | L16: Sous-titre… | N16: =IF(ISBLANK(O16),"",COUNTA($O$9:O16)) | R16: 45761
A17: › | B17: Éd. physique | C17: Bleu ciel | E17: 0.57638889 | R17: 45768
A18: › | B18: Éthique | C18: Bleu gris | F18: Sous-titre… | G18: Sous-titre… | H18: Sous-titre… | I18: Sous-titre… | J18: Sous-titre… | K18: Sous-titre… | L18: Sous-titre… | N18: 🔗 MES LIENS | R18: 45775
A19: › | B19: Ens. religieux | C19: Gris | E19: 0.61111111 | N19: =IF(ISBLANK(O19),"",COUNTA($O$19:O19)) -> 1 | O19: https://hepicerie.com | P19: 🌐 | R19: 45782
A20: › | B20: Divers | C20: Gris clair | F20: Sous-titre… | G20: Sous-titre… | H20: Sous-titre… | I20: Sous-titre… | J20: Sous-titre… | K20: Sous-titre… | L20: Sous-titre… | N20: =IF(ISBLANK(O20),"",COUNTA($O$19:O20)) | R20: 45789
A21: › | B21: Exemple | C21: Gris clair | E21: 0.64583333 | N21: =IF(ISBLANK(O21),"",COUNTA($O$19:O21)) | R21: 45796
F22: Sous-titre… | G22: Sous-titre… | H22: Sous-titre… | I22: Sous-titre… | J22: Sous-titre… | K22: Sous-titre… | L22: Sous-titre… | N22: =IF(ISBLANK(O22),"",COUNTA($O$19:O22)) | R22: 45803
N23: =IF(ISBLANK(O23),"",COUNTA($O$19:O23)) | R23: 45810
F24: Sous-titre… | G24: Sous-titre… | H24: Sous-titre… | I24: Sous-titre… | J24: Sous-titre… | K24: Sous-titre… | L24: Sous-titre… | R24: 45817
R25: 45824
F26: Sous-titre… | G26: Sous-titre… | H26: Sous-titre… | I26: Sous-titre… | J26: Sous-titre… | K26: Sous-titre… | L26: Sous-titre… | O26: ❓Mode d'emploi : 1) Définissez vos branches dans la colonne "📚 MES BRANCHES" (1 branche par ligne) et affectez-leur une couleur. 2) Spécifiez l'heure de début de chaque période dans la colonne "🕗", sans oublier les pauses (récréation, midi). 3) Construisez votre grille horaire en sélectionnant une branche pour chaque période sous "🗓️ MON HORAIRE". Le modèle de votre journal de classe est prêt ! 😀 Gardez ce fichier précieusement enregistré et faites-en une copie pour chaque nouvelle semaine d'école. Plus d'infos ? https://hepicerie.com/hep-mon-journal | R26: 45831
R27: 45838
F28: Sous-titre… | G28: Sous-titre… | H28: Sous-titre… | I28: Sous-titre… | J28: Sous-titre… | K28: Sous-titre… | L28: Sous-titre… | R28: 45845
R29: 45852
F30: Sous-titre… | G30: Sous-titre… | H30: Sous-titre… | I30: Sous-titre… | J30: Sous-titre… | K30: Sous-titre… | L30: Sous-titre… | R30: 45859
R31: 45866
F32: Sous-titre… | G32: Sous-titre… | H32: Sous-titre… | I32: Sous-titre… | J32: Sous-titre… | K32: Sous-titre… | L32: Sous-titre… | R32: 45873
R33: 45880
F34: Sous-titre… | G34: Sous-titre… | H34: Sous-titre… | I34: Sous-titre… | J34: Sous-titre… | K34: Sous-titre… | L34: Sous-titre… | R34: 45887
R35: 45894
F36: Sous-titre… | G36: Sous-titre… | H36: Sous-titre… | I36: Sous-titre… | J36: Sous-titre… | K36: Sous-titre… | L36: Sous-titre… | R36: 45901
R37: 45908
F38: Sous-titre… | G38: Sous-titre… | H38: Sous-titre… | I38: Sous-titre… | J38: Sous-titre… | K38: Sous-titre… | L38: Sous-titre… | R38: 45915
O39: 💡 Astuces : Pour faire un retour à la ligne dans une cellule, utilisez : Windows : Alt + Entrée Mac : Cmd + Entrée Autres raccourcis clavier : ⬆️⬇️⬅️➡️ Flèches : se déplacer d’une cellule à l’autre Entrée : descendre d’une cellule Tabulation : aller à droite | R39: 45922
F40: Sous-titre… | G40: Sous-titre… | H40: Sous-titre… | I40: Sous-titre… | J40: Sous-titre… | K40: Sous-titre… | L40: Sous-titre… | R40: 45929
...

Sheet 📘Lundi
B2: 📘 Mon journal du jour : | G2: =IF(ISNUMBER('Plan hebdomadaire'!H2), 'Plan hebdomadaire'!H2, "Veuillez spécifiez la semaine dans le Plan hebdomadaire !") -> 45901 | H2: FALSE | I2: ♻️ Impression écologique
B4: REMARQUES : | I4: ABSENCES :
H5: =REPT(CHAR(10)&CHAR(160), 3)
B8: 🕗 | E8: 📚 DISCIPLINE | G8: 📝 DÉROULEMENT | I8: 🎯 OBJECTIFS | K8: ✏️ OBSERVATIONS
B10: {=IFERROR(IF(MOD(ROW() - ROW($B$10) + 1, 2) = 1, TEXT(INDEX(_xlfn._xlws.FILTER('Plan hebdomadaire'!E$5:E$60, ('Plan hebdomadaire'!E$5:E$60 <> "")), INT((ROW() - ROW($B$10) + 2) / 2)), "hh:mm"), TEXT(INDEX(_xlfn._xlws.FILTER('Plan hebdomadaire'!E$5:E$60, ('Plan hebdomadaire'!E$5:E$60 <> "")), INT((ROW() - ROW($B$10) + 3) / 2)), "hh:mm") & CHAR(10)), "")} -> 08:00 | D10: {=_xlfn._xlws.FILTER(IF((('Plan hebdomadaire'!F5:F30 = "") + ('Plan hebdomadaire'!F5:F30 = 0)) > 0, "", 'Plan hebdomadaire'!F5:F30), ('Plan hebdomadaire'!E5:E30 <> ""))} -> Exemple | E10: {=IFERROR(_xlfn._xlws.FILTER(IF((('Plan hebdomadaire'!F5:F60 = "Sous-titre…") + ('Plan hebdomadaire'!F5:F60 = "Sous-titre...") + ('Plan hebdomadaire'!F5:F60 = "")), "", 'Plan hebdomadaire'!F5:F60), ($B$11:$B$66 <> "")), "")} -> Exemple | F10: =IF(G10<>"","📌",IF(E10<>""," Mémo :","")) -> 📌 | G10: Ceci est un exemple de mémo
B11: {=IFERROR(IF(MOD(ROW() - ROW($B$10) + 1, 2) = 1, TEXT(INDEX(_xlfn._xlws.FILTER('Plan hebdomadaire'!E$5:E$60, ('Plan hebdomadaire'!E$5:E$60 <> "")), INT((ROW() - ROW($B$10) + 2) / 2)), "hh:mm"), TEXT(INDEX(_xlfn._xlws.FILTER('Plan hebdomadaire'!E$5:E$60, ('Plan hebdomadaire'!E$5:E$60 <> "")), INT((ROW() - ROW($B$10) + 3) / 2)), "hh:mm") & CHAR(10)), "")} -> 08:50
B12: {=IFERROR(IF(MOD(ROW() - ROW($B$10) + 1, 2) = 1, TEXT(INDEX(_xlfn._xlws.FILTER('Plan hebdomadaire'!E$5:E$60, ('Plan hebdomadaire'!E$5:E$60 <> "")), INT((ROW() - ROW($B$10) + 2) / 2)), "hh:mm"), TEXT(INDEX(_xlfn._xlws.FILTER('Plan hebdomadaire'!E$5:E$60, ('Plan hebdomadaire'!E$5:E$60 <> "")), INT((ROW() - ROW($B$10) + 3) / 2)), "hh:mm") & CHAR(10)), "")} -> 08:50 | F12: =IF(G12<>"","📌",IF(E12<>""," Mémo :",""))
B13: {=IFERROR(IF(MOD(ROW() - ROW($B$10) + 1, 2) = 1, TEXT(INDEX(_xlfn._xlws.FILTER('Plan hebdomadaire'!E$5:E$60, ('Plan hebdomadaire'!E$5:E$60 <> "")), INT((ROW() - ROW($B$10) + 2) / 2)), "hh:mm"), TEXT(INDEX(_xlfn._xlws.FILTER('Plan hebdomadaire'!E$5:E$60, ('Plan hebdomadaire'!E$5:E$60 <> "")), INT((ROW() - ROW($B$10) + 3) / 2)), "hh:mm") & CHAR(10)), "")} -> 09:40
B14: {=IFERROR(IF(MOD(ROW() - ROW($B$10) + 1, 2) = 1, TEXT(INDEX(_xlfn._xlws.FILTER('Plan hebdomadaire'!E$5:E$60, ('Plan hebdomadaire'!E$5:E$60 <> "")), INT((ROW() - ROW($B$10) + 2) / 2)), "hh:mm"), TEXT(INDEX(_xlfn._xlws.FILTER('Plan hebdomadaire'!E$5:E$60, ('Plan hebdomadaire'!E$5:E$60 <> "")), INT((ROW() - ROW($B$10) + 3) / 2)), "hh:mm") & CHAR(10)), "")} -> 09:40 | F14: =IF(G14<>"","📌",IF(E14<>""," Mémo :",""))
B15: {=IFERROR(IF(MOD(ROW() - ROW($B$10) + 1, 2) = 1, TEXT(INDEX(_xlfn._xlws.FILTER('Plan hebdomadaire'!E$5:E$60, ('Plan hebdomadaire'!E$5:E$60 <> "")), INT((ROW() - ROW($B$10) + 2) / 2)), "hh:mm"), TEXT(INDEX(_xlfn._xlws.FILTER('Plan hebdomadaire'!E$5:E$60, ('Plan hebdomadaire'!E$5:E$60 <> "")), INT((ROW() - ROW($B$10) + 3) / 2)), "hh:mm") & CHAR(10)), "")} -> 10:00
B16: {=IFERROR(IF(MOD(ROW() - ROW($B$10) + 1, 2) = 1, TEXT(INDEX(_xlfn._xlws.FILTER('Plan hebdomadaire'!E$5:E$60, ('Plan hebdomadaire'!E$5:E$60 <> "")), INT((ROW() - ROW($B$10) + 2) / 2)), "hh:mm"), TEXT(INDEX(_xlfn._xlws.FILTER('Plan hebdomadaire'!E$5:E$60, ('Plan hebdomadaire'!E$5:E$60 <> "")), INT((ROW() - ROW($B$10) + 3) / 2)), "hh:mm") & CHAR(10)), "")} -> 10:00 | F16: =IF(G16<>"","📌",IF(E16<>""," Mémo :",""))
B17: {=IFERROR(IF(MOD(ROW() - ROW($B$10) + 1, 2) = 1, TEXT(INDEX(_xlfn._xlws.FILTER('Plan hebdomadaire'!E$5:E$60, ('Plan hebdomadaire'!E$5:E$60 <> "")), INT((ROW() - ROW($B$10) + 2) / 2)), "hh:mm"), TEXT(INDEX(_xlfn._xlws.FILTER('Plan hebdomadaire'!E$5:E$60, ('Plan hebdomadaire'!E$5:E$60 <> "")), INT((ROW() - ROW($B$10) + 3) / 2)), "hh:mm") & CHAR(10)), "")} -> 10:50
B18: {=IFERROR(IF(MOD(ROW() - ROW($B$10) + 1, 2) = 1, TEXT(INDEX(_xlfn._xlws.FILTER('Plan hebdomadaire'!E$5:E$60, ('Plan hebdomadaire'!E$5:E$60 <> "")), INT((ROW() - ROW($B$10) + 2) / 2)), "hh:mm"), TEXT(INDEX(_xlfn._xlws.FILTER('Plan hebdomadaire'!E$5:E$60, ('Plan hebdomadaire'!E$5:E$60 <> "")), INT((ROW() - ROW($B$10) + 3) / 2)), "hh:mm") & CHAR(10)), "")} -> 10:50 | F18: =IF(G18<>"","📌",IF(E18<>""," Mémo :",""))
B19: {=IFERROR(IF(MOD(ROW() - ROW($B$10) + 1, 2) = 1, TEXT(INDEX(_xlfn._xlws.FILTER('Plan hebdomadaire'!E$5:E$60, ('Plan hebdomadaire'!E$5:E$60 <> "")), INT((ROW() - ROW($B$10) + 2) / 2)), "hh:mm"), TEXT(INDEX(_xlfn._xlws.FILTER('Plan hebdomadaire'!E$5:E$60, ('Plan hebdomadaire'!E$5:E$60 <> "")), INT((ROW() - ROW($B$10) + 3) / 2)), "hh:mm") & CHAR(10)), "")} -> 11:30
B20: {=IFERROR(IF(MOD(ROW() - ROW($B$10) + 1, 2) = 1, TEXT(INDEX(_xlfn._xlws.FILTER('Plan hebdomadaire'!E$5:E$60, ('Plan hebdomadaire'!E$5:E$60 <> "")), INT((ROW() - ROW($B$10) + 2) / 2)), "hh:mm"), TEXT(INDEX(_xlfn._xlws.FILTER('Plan hebdomadaire'!E$5:E$60, ('Plan hebdomadaire'!E$5:E$60 <> "")), INT((ROW() - ROW($B$10) + 3) / 2)), "hh:mm") & CHAR(10)), "")} -> 11:30 | F20: =IF(G20<>"","📌",IF(E20<>""," Mémo :",""))
B21: {=IFERROR(IF(MOD(ROW() - ROW($B$10) + 1, 2) = 1, TEXT(INDEX(_xlfn._xlws.FILTER('Plan hebdomadaire'!E$5:E$60, ('Plan hebdomadaire'!E$5:E$60 <> "")), INT((ROW() - ROW($B$10) + 2) / 2)), "hh:mm"), TEXT(INDEX(_xlfn._xlws.FILTER('Plan hebdomadaire'!E$5:E$60, ('Plan hebdomadaire'!E$5:E$60 <> "")), INT((ROW() - ROW($B$10) + 3) / 2)), "hh:mm") & CHAR(10)), "")} -> 13:50
B22: {=IFERROR(IF(MOD(ROW() - ROW($B$10) + 1, 2) = 1, TEXT(INDEX(_xlfn._xlws.FILTER('Plan hebdomadaire'!E$5:E$60, ('Plan hebdomadaire'!E$5:E$60 <> "")), INT((ROW() - ROW($B$10) + 2) / 2)), "hh:mm"), TEXT(INDEX(_xlfn._xlws.FILTER('Plan hebdomadaire'!E$5:E$60, ('Plan hebdomadaire'!E$5:E$60 <> "")), INT((ROW() - ROW($B$10) + 3) / 2)), "hh:mm") & CHAR(10)), "")} -> 13:50 | F22: =IF(G22<>"","📌",IF(E22<>""," Mémo :",""))
B23: {=IFERROR(IF(MOD(ROW() - ROW($B$10) + 1, 2) = 1, TEXT(INDEX(_xlfn._xlws.FILTER('Plan hebdomadaire'!E$5:E$60, ('Plan hebdomadaire'!E$5:E$60 <> "")), INT((ROW() - ROW($B$10) + 2) / 2)), "hh:mm"), TEXT(INDEX(_xlfn._xlws.FILTER('Plan hebdomadaire'!E$5:E$60, ('Plan hebdomadaire'!E$5:E$60 <> "")), INT((ROW() - ROW($B$10) + 3) / 2)), "hh:mm") & CHAR(10)), "")} -> 14:40
B24: {=IFERROR(IF(MOD(ROW() - ROW($B$10) + 1, 2) = 1, TEXT(INDEX(_xlfn._xlws.FILTER('Plan hebdomadaire'!E$5:E$60, ('Plan hebdomadaire'!E$5:E$60 <> "")), INT((ROW() - ROW($B$10) + 2) / 2)), "hh:mm"), TEXT(INDEX(_xlfn._xlws.FILTER('Plan hebdomadaire'!E$5:E$60, ('Plan hebdomadaire'!E$5:E$60 <> "")), INT((ROW() - ROW($B$10) + 3) / 2)), "hh:mm") & CHAR(10)), "")} -> 14:40 | F24: =IF(G24<>"","📌",IF(E24<>""," Mémo :",""))
B25: {=IFERROR(IF(MOD(ROW() - ROW($B$10) + 1, 2) = 1, TEXT(INDEX(_xlfn._xlws.FILTER('Plan hebdomadaire'!E$5:E$60, ('Plan hebdomadaire'!E$5:E$60 <> "")), INT((ROW() - ROW($B$10) + 2) / 2)), "hh:mm"), TEXT(INDEX(_xlfn._xlws.FILTER('Plan hebdomadaire'!E$5:E$60, ('Plan hebdomadaire'!E$5:E$60 <> "")), INT((ROW() - ROW($B$10) + 3) / 2)), "hh:mm") & CHAR(10)), "")} -> 15:30
B26: {=IFERROR(IF(MOD(ROW() - ROW($B$10) + 1, 2) = 1, TEXT(INDEX(_xlfn._xlws.FILTER('Plan hebdomadaire'!E$5:E$60, ('Plan hebdomadaire'!E$5:E$60 <> "")), INT((ROW() - ROW($B$10) + 2) / 2)), "hh:mm"), TEXT(INDEX(_xlfn._xlws.FILTER('Plan hebdomadaire'!E$5:E$60, ('Plan hebdomadaire'!E$5:E$60 <> "")), INT((ROW() - ROW($B$10) + 3) / 2)), "hh:mm") & CHAR(10)), "")} -> 15:30 | F26: =IF(G26<>"","📌",IF(E26<>""," Mémo :",""))
B27: {=IFERROR(IF(MOD(ROW() - ROW($B$10) + 1, 2) = 1, TEXT(INDEX(_xlfn._xlws.FILTER('Plan hebdomadaire'!E$5:E$60, ('Plan hebdomadaire'!E$5:E$60 <> "")), INT((ROW() - ROW($B$10) + 2) / 2)), "hh:mm"), TEXT(INDEX(_xlfn._xlws.FILTER('Plan hebdomadaire'!E$5:E$60, ('Plan hebdomadaire'!E$5:E$60 <> "")), INT((ROW() - ROW($B$10) + 3) / 2)), "hh:mm") & CHAR(10)), "")}
B28: {=IFERROR(IF(MOD(ROW() - ROW($B$10) + 1, 2) = 1, TEXT(INDEX(_xlfn._xlws.FILTER('Plan hebdomadaire'!E$5:E$60, ('Plan hebdomadaire'!E$5:E$60 <> "")), INT((ROW() - ROW($B$10) + 2) / 2)), "hh:mm"), TEXT(INDEX(_xlfn._xlws.FILTER('Plan hebdomadaire'!E$5:E$60, ('Plan hebdomadaire'!E$5:E$60 <> "")), INT((ROW() - ROW($B$10) + 3) / 2)), "hh:mm") & CHAR(10)), "")} | F28: =IF(G28<>"","📌",IF(E28<>""," Mémo :",""))
B29: {=IFERROR(IF(MOD(ROW() - ROW($B$10) + 1, 2) = 1, TEXT(INDEX(_xlfn._xlws.FILTER('Plan hebdomadaire'!E$5:E$60, ('Plan hebdomadaire'!E$5:E$60 <> "")), INT((ROW() - ROW($B$10) + 2) / 2)), "hh:mm"), TEXT(INDEX(_xlfn._xlws.FILTER('Plan hebdomadaire'!E$5:E$60, ('Plan hebdomadaire'!E$5:E$60 <> "")), INT((ROW() - ROW($B$10) + 3) / 2)), "hh:mm") & CHAR(10)), "")}
B30: {=IFERROR(IF(MOD(ROW() - ROW($B$10) + 1, 2) = 1, TEXT(INDEX(_xlfn._xlws.FILTER('Plan hebdomadaire'!E$5:E$60, ('Plan hebdomadaire'!E$5:E$60 <> "")), INT((ROW() - ROW($B$10) + 2) / 2)), "hh:mm"), TEXT(INDEX(_xlfn._xlws.FILTER('Plan hebdomadaire'!E$5:E$60, ('Plan hebdomadaire'!E$5:E$60 <> "")), INT((ROW() - ROW($B$10) + 3) / 2)), "hh:mm") & CHAR(10)), "")} | F30: =IF(G30<>"","📌",IF(E30<>""," Mémo :",""))
B31: {=IFERROR(IF(MOD(ROW() - ROW($B$10) + 1, 2) = 1, TEXT(INDEX(_xlfn._xlws.FILTER('Plan hebdomadaire'!E$5:E$60, ('Plan hebdomadaire'!E$5:E$60 <> "")), INT((ROW() - ROW($B$10) + 2) / 2)), "hh:mm"), TEXT(INDEX(_xlfn._xlws.FILTER('Plan hebdomadaire'!E$5:E$60, ('Plan hebdomadaire'!E$5:E$60 <> "")), INT((ROW() - ROW($B$10) + 3) / 2)), "hh:mm") & CHAR(10)), "")}
B32: {=IFERROR(IF(MOD(ROW() - ROW($B$10) + 1, 2) = 1, TEXT(INDEX(_xlfn._xlws.FILTER('Plan hebdomadaire'!E$5:E$60, ('Plan hebdomadaire'!E$5:E$60 <> "")), INT((ROW() - ROW($B$10) + 2) / 2)), "hh:mm"), TEXT(INDEX(_xlfn._xlws.FILTER('Plan hebdomadaire'!E$5:E$60, ('Plan hebdomadaire'!E$5:E$60 <> "")), INT((ROW() - ROW($B$10) + 3) / 2)), "hh:mm") & CHAR(10)), "")} | F32: =IF(G32<>"","📌",IF(E32<>""," Mémo :",""))
B33: {=IFERROR(IF(MOD(ROW() - ROW($B$10) + 1, 2) = 1, TEXT(INDEX(_xlfn._xlws.FILTER('Plan hebdomadaire'!E$5:E$60, ('Plan hebdomadaire'!E$5:E$60 <> "")), INT((ROW() - ROW($B$10) + 2) / 2)), "hh:mm"), TEXT(INDEX(_xlfn._xlws.FILTER('Plan hebdomadaire'!E$5:E$60, ('Plan hebdomadaire'!E$5:E$60 <> "")), INT((ROW() - ROW($B$10) + 3) / 2)), "hh:mm") & CHAR(10)), "")}
B34: {=IFERROR(IF(MOD(ROW() - ROW($B$10) + 1, 2) = 1, TEXT(INDEX(_xlfn._xlws.FILTER('Plan hebdomadaire'!E$5:E$60, ('Plan hebdomadaire'!E$5:E$60 <> "")), INT((ROW() - ROW($B$10) + 2) / 2)), "hh:mm"), TEXT(INDEX(_xlfn._xlws.FILTER('Plan hebdomadaire'!E$5:E$60, ('Plan hebdomadaire'!E$5:E$60 <> "")), INT((ROW() - ROW($B$10) + 3) / 2)), "hh:mm") & CHAR(10)), "")} | F34: =IF(G34<>"","📌",IF(E34<>""," Mémo :",""))
B35: {=IFERROR(IF(MOD(ROW() - ROW($B$10) + 1, 2) = 1, TEXT(INDEX(_xlfn._xlws.FILTER('Plan hebdomadaire'!E$5:E$60, ('Plan hebdomadaire'!E$5:E$60 <> "")), INT((ROW() - ROW($B$10) + 2) / 2)), "hh:mm"), TEXT(INDEX(_xlfn._xlws.FILTER('Plan hebdomadaire'!E$5:E$60, ('Plan hebdomadaire'!E$5:E$60 <> "")), INT((ROW() - ROW($B$10) + 3) / 2)), "hh:mm") & CHAR(10)), "")}
B36: {=IFERROR(IF(MOD(ROW() - ROW($B$10) + 1, 2) = 1, TEXT(INDEX(_xlfn._xlws.FILTER('Plan hebdomadaire'!E$5:E$60, ('Plan hebdomadaire'!E$5:E$60 <> "")), INT((ROW() - ROW($B$10) + 2) / 2)), "hh:mm"), TEXT(INDEX(_xlfn._xlws.FILTER('Plan hebdomadaire'!E$5:E$60, ('Plan hebdomadaire'!E$5:E$60 <> "")), INT((ROW() - ROW($B$10) + 3) / 2)), "hh:mm") & CHAR(10)), "")} | F36: =IF(G36<>"","📌",IF(E36<>""," Mémo :",""))
B37: {=IFERROR(IF(MOD(ROW() - ROW($B$10) + 1, 2) = 1, TEXT(INDEX(_xlfn._xlws.FILTER('Plan hebdomadaire'!E$5:E$60, ('Plan hebdomadaire'!E$5:E$60 <> "")), INT((ROW() - ROW($B$10) + 2) / 2)), "hh:mm"), TEXT(INDEX(_xlfn._xlws.FILTER('Plan hebdomadaire'!E$5:E$60, ('Plan hebdomadaire'!E$5:E$60 <> "")), INT((ROW() - ROW($B$10) + 3) / 2)), "hh:mm") & CHAR(10)), "")}
B38: {=IFERROR(IF(MOD(ROW() - ROW($B$10) + 1, 2) = 1, TEXT(INDEX(_xlfn._xlws.FILTER('Plan hebdomadaire'!E$5:E$60, ('Plan hebdomadaire'!E$5:E$60 <> "")), INT((ROW() - ROW($B$10) + 2) / 2)), "hh:mm"), TEXT(INDEX(_xlfn._xlws.FILTER('Plan hebdomadaire'!E$5:E$60, ('Plan hebdomadaire'!E$5:E$60 <> "")), INT((ROW() - ROW($B$10) + 3) / 2)), "hh:mm") & CHAR(10)), "")} | F38: =IF(G38<>"","📌",IF(E38<>""," Mémo :",""))
B39: {=IFERROR(IF(MOD(ROW() - ROW($B$10) + 1, 2) = 1, TEXT(INDEX(_xlfn._xlws.FILTER('Plan hebdomadaire'!E$5:E$60, ('Plan hebdomadaire'!E$5:E$60 <> "")), INT((ROW() - ROW($B$10) + 2) / 2)), "hh:mm"), TEXT(INDEX(_xlfn._xlws.FILTER('Plan hebdomadaire'!E$5:E$60, ('Plan hebdomadaire'!E$5:E$60 <> "")), INT((ROW() - ROW($B$10) + 3) / 2)), "hh:mm") & CHAR(10)), "")}
B40: {=IFERROR(IF(MOD(ROW() - ROW($B$10) + 1, 2) = 1, TEXT(INDEX(_xlfn._xlws.FILTER('Plan hebdomadaire'!E$5:E$60, ('Plan hebdomadaire'!E$5:E$60 <> "")), INT((ROW() - ROW($B$10) + 2) / 2)), "hh:mm"), TEXT(INDEX(_xlfn._xlws.FILTER('Plan hebdomadaire'!E$5:E$60, ('Plan hebdomadaire'!E$5:E$60 <> "")), INT((ROW() - ROW($B$10) + 3) / 2)), "hh:mm") & CHAR(10)), "")} | F40: =IF(G40<>"","📌",IF(E40<>""," Mémo :",""))
B41: {=IFERROR(IF(MOD(ROW() - ROW($B$10) + 1, 2) = 1, TEXT(INDEX(_xlfn._xlws.FILTER('Plan hebdomadaire'!E$5:E$60, ('Plan hebdomadaire'!E$5:E$60 <> "")), INT((ROW() - ROW($B$10) + 2) / 2)), "hh:mm"), TEXT(INDEX(_xlfn._xlws.FILTER('Plan hebdomadaire'!E$5:E$60, ('Plan hebdomadaire'!E$5:E$60 <> "")), INT((ROW() - ROW($B$10) + 3) / 2)), "hh:mm") & CHAR(10)), "")}
B42: {=IFERROR(IF(MOD(ROW() - ROW($B$10) + 1, 2) = 1, TEXT(INDEX(_xlfn._xlws.FILTER('Plan hebdomadaire'!E$5:E$60, ('Plan hebdomadaire'!E$5:E$60 <> "")), INT((ROW() - ROW($B$10) + 2) / 2)), "hh:mm"), TEXT(INDEX(_xlfn._xlws.FILTER('Plan hebdomadaire'!E$5:E$60, ('Plan hebdomadaire'!E$5:E$60 <> "")), INT((ROW() - ROW($B$10) + 3) / 2)), "hh:mm") & CHAR(10)), "")} | F42: =IF(G42<>"","📌",IF(E42<>""," Mémo :",""))
B43: {=IFERROR(IF(MOD(ROW() - ROW($B$10) + 1, 2) = 1, TEXT(INDEX(_xlfn._xlws.FILTER('Plan hebdomadaire'!E$5:E$60, ('Plan hebdomadaire'!E$5:E$60 <> "")), INT((ROW() - ROW($B$10) + 2) / 2)), "hh:mm"), TEXT(INDEX(_xlfn._xlws.FILTER('Plan hebdomadaire'!E$5:E$60, ('Plan hebdomadaire'!E$5:E$60 <> "")), INT((ROW() - ROW($B$10) + 3) / 2)), "hh:mm") & CHAR(10)), "")}
B44: {=IFERROR(IF(MOD(ROW() - ROW($B$10) + 1, 2) = 1, TEXT(INDEX(_xlfn._xlws.FILTER('Plan hebdomadaire'!E$5:E$60, ('Plan hebdomadaire'!E$5:E$60 <> "")), INT((ROW() - ROW($B$10) + 2) / 2)), "hh:mm"), TEXT(INDEX(_xlfn._xlws.FILTER('Plan hebdomadaire'!E$5:E$60, ('Plan hebdomadaire'!E$5:E$60 <> "")), INT((ROW() - ROW($B$10) + 3) / 2)), "hh:mm") & CHAR(10)), "")} | F44: =IF(G44<>"","📌",IF(E44<>""," Mémo :",""))
B45: {=IFERROR(IF(MOD(ROW() - ROW($B$10) + 1, 2) = 1, TEXT(INDEX(_xlfn._xlws.FILTER('Plan hebdomadaire'!E$5:E$60, ('Plan hebdomadaire'!E$5:E$60 <> "")), INT((ROW() - ROW($B$10) + 2) / 2)), "hh:mm"), TEXT(INDEX(_xlfn._xlws.FILTER('Plan hebdomadaire'!E$5:E$60, ('Plan hebdomadaire'!E$5:E$60 <> "")), INT((ROW() - ROW($B$10) + 3) / 2)), "hh:mm") & CHAR(10)), "")}
...

Sheet 📕Mardi
B2: 📕 Mon journal du jour : | G2: =IF(ISNUMBER('Plan hebdomadaire'!H2), 'Plan hebdomadaire'!H2+1, "Veuillez spécifiez la semaine dans le Plan hebdomadaire !") -> 45902 | H2: FALSE | I2: ♻️ Impression écologique
B4: REMARQUES : | I4: ABSENCES :
H5: =REPT(CHAR(10)&CHAR(160), 3)
B8: 🕗 | E8: 📚 DISCIPLINE | G8: 📝 DÉROULEMENT | I8: 🎯 OBJECTIFS | K8: ✏️ OBSERVATIONS
B10: {=IFERROR(IF(MOD(ROW() - ROW($B$10) + 1, 2) = 1, TEXT(INDEX(_xlfn._xlws.FILTER('Plan hebdomadaire'!E$5:E$60, ('Plan hebdomadaire'!E$5:E$60 <> "")), INT((ROW() - ROW($B$10) + 2) / 2)), "hh:mm"), TEXT(INDEX(_xlfn._xlws.FILTER('Plan hebdomadaire'!E$5:E$60, ('Plan hebdomadaire'!E$5:E$60 <> "")), INT((ROW() - ROW($B$10) + 3) / 2)), "hh:mm") & CHAR(10)), "")} -> 08:00 | D10: {=_xlfn._xlws.FILTER(IF((('Plan hebdomadaire'!F5:F30 = "") + ('Plan hebdomadaire'!F5:F30 = 0)) > 0, "", 'Plan hebdomadaire'!F5:F30), ('Plan hebdomadaire'!E5:E30 <> ""))} -> Exemple | E10: {=IFERROR(_xlfn._xlws.FILTER(IF((('Plan hebdomadaire'!G5:G60 = "Sous-titre…") + ('Plan hebdomadaire'!G5:G60 = "Sous-titre...") + ('Plan hebdomadaire'!G5:G60 = "")), "", 'Plan hebdomadaire'!G5:G60), ($B$11:$B$66 <> "")), "")} | F10: =IF(G10<>"","📌",IF(E10<>""," Mémo :",""))
B11: {=IFERROR(IF(MOD(ROW() - ROW($B$10) + 1, 2) = 1, TEXT(INDEX(_xlfn._xlws.FILTER('Plan hebdomadaire'!E$5:E$60, ('Plan hebdomadaire'!E$5:E$60 <> "")), INT((ROW() - ROW($B$10) + 2) / 2)), "hh:mm"), TEXT(INDEX(_xlfn._xlws.FILTER('Plan hebdomadaire'!E$5:E$60, ('Plan hebdomadaire'!E$5:E$60 <> "")), INT((ROW() - ROW($B$10) + 3) / 2)), "hh:mm") & CHAR(10)), "")} -> 08:50
B12: {=IFERROR(IF(MOD(ROW() - ROW($B$10) + 1, 2) = 1, TEXT(INDEX(_xlfn._xlws.FILTER('Plan hebdomadaire'!E$5:E$60, ('Plan hebdomadaire'!E$5:E$60 <> "")), INT((ROW() - ROW($B$10) + 2) / 2)), "hh:mm"), TEXT(INDEX(_xlfn._xlws.FILTER('Plan hebdomadaire'!E$5:E$60, ('Plan hebdomadaire'!E$5:E$60 <> "")), INT((ROW() - ROW($B$10) + 3) / 2)), "hh:mm") & CHAR(10)), "")} -> 08:50 | F12: =IF(G12<>"","📌",IF(E12<>""," Mémo :",""))
B13: {=IFERROR(IF(MOD(ROW() - ROW($B$10) + 1, 2) = 1, TEXT(INDEX(_xlfn._xlws.FILTER('Plan hebdomadaire'!E$5:E$60, ('Plan hebdomadaire'!E$5:E$60 <> "")), INT((ROW() - ROW($B$10) + 2) / 2)), "hh:mm"), TEXT(INDEX(_xlfn._xlws.FILTER('Plan hebdomadaire'!E$5:E$60, ('Plan hebdomadaire'!E$5:E$60 <> "")), INT((ROW() - ROW($B$10) + 3) / 2)), "hh:mm") & CHAR(10)), "")} -> 09:40
B14: {=IFERROR(IF(MOD(ROW() - ROW($B$10) + 1, 2) = 1, TEXT(INDEX(_xlfn._xlws.FILTER('Plan hebdomadaire'!E$5:E$60, ('Plan hebdomadaire'!E$5:E$60 <> "")), INT((ROW() - ROW($B$10) + 2) / 2)), "hh:mm"), TEXT(INDEX(_xlfn._xlws.FILTER('Plan hebdomadaire'!E$5:E$60, ('Plan hebdomadaire'!E$5:E$60 <> "")), INT((ROW() - ROW($B$10) + 3) / 2)), "hh:mm") & CHAR(10)), "")} -> 09:40 | F14: =IF(G14<>"","📌",IF(E14<>""," Mémo :",""))
B15: {=IFERROR(IF(MOD(ROW() - ROW($B$10) + 1, 2) = 1, TEXT(INDEX(_xlfn._xlws.FILTER('Plan hebdomadaire'!E$5:E$60, ('Plan hebdomadaire'!E$5:E$60 <> "")), INT((ROW() - ROW($B$10) + 2) / 2)), "hh:mm"), TEXT(INDEX(_xlfn._xlws.FILTER('Plan hebdomadaire'!E$5:E$60, ('Plan hebdomadaire'!E$5:E$60 <> "")), INT((ROW() - ROW($B$10) + 3) / 2)), "hh:mm") & CHAR(10)), "")} -> 10:00
B16: {=IFERROR(IF(MOD(ROW() - ROW($B$10) + 1, 2) = 1, TEXT(INDEX(_xlfn._xlws.FILTER('Plan hebdomadaire'!E$5:E$60, ('Plan hebdomadaire'!E$5:E$60 <> "")), INT((ROW() - ROW($B$10) + 2) / 2)), "hh:mm"), TEXT(INDEX(_xlfn._xlws.FILTER('Plan hebdomadaire'!E$5:E$60, ('Plan hebdomadaire'!E$5:E$60 <> "")), INT((ROW() - ROW($B$10) + 3) / 2)), "hh:mm") & CHAR(10)), "")} -> 10:00 | F16: =IF(G16<>"","📌",IF(E16<>""," Mémo :",""))
B17: {=IFERROR(IF(MOD(ROW() - ROW($B$10) + 1, 2) = 1, TEXT(INDEX(_xlfn._xlws.FILTER('Plan hebdomadaire'!E$5:E$60, ('Plan hebdomadaire'!E$5:E$60 <> "")), INT((ROW() - ROW($B$10) + 2) / 2)), "hh:mm"), TEXT(INDEX(_xlfn._xlws.FILTER('Plan hebdomadaire'!E$5:E$60, ('Plan hebdomadaire'!E$5:E$60 <> "")), INT((ROW() - ROW($B$10) + 3) / 2)), "hh:mm") & CHAR(10)), "")} -> 10:50
B18: {=IFERROR(IF(MOD(ROW() - ROW($B$10) + 1, 2) = 1, TEXT(INDEX(_xlfn._xlws.FILTER('Plan hebdomadaire'!E$5:E$60, ('Plan hebdomadaire'!E$5:E$60 <> "")), INT((ROW() - ROW($B$10) + 2) / 2)), "hh:mm"), TEXT(INDEX(_xlfn._xlws.FILTER('Plan hebdomadaire'!E$5:E$60, ('Plan hebdomadaire'!E$5:E$60 <> "")), INT((ROW() - ROW($B$10) + 3) / 2)), "hh:mm") & CHAR(10)), "")} -> 10:50 | F18: =IF(G18<>"","📌",IF(E18<>""," Mémo :",""))
B19: {=IFERROR(IF(MOD(ROW() - ROW($B$10) + 1, 2) = 1, TEXT(INDEX(_xlfn._xlws.FILTER('Plan hebdomadaire'!E$5:E$60, ('Plan hebdomadaire'!E$5:E$60 <> "")), INT((ROW() - ROW($B$10) + 2) / 2)), "hh:mm"), TEXT(INDEX(_xlfn._xlws.FILTER('Plan hebdomadaire'!E$5:E$60, ('Plan hebdomadaire'!E$5:E$60 <> "")), INT((ROW() - ROW($B$10) + 3) / 2)), "hh:mm") & CHAR(10)), "")} -> 11:30
B20: {=IFERROR(IF(MOD(ROW() - ROW($B$10) + 1, 2) = 1, TEXT(INDEX(_xlfn._xlws.FILTER('Plan hebdomadaire'!E$5:E$60, ('Plan hebdomadaire'!E$5:E$60 <> "")), INT((ROW() - ROW($B$10) + 2) / 2)), "hh:mm"), TEXT(INDEX(_xlfn._xlws.FILTER('Plan hebdomadaire'!E$5:E$60, ('Plan hebdomadaire'!E$5:E$60 <> "")), INT((ROW() - ROW($B$10) + 3) / 2)), "hh:mm") & CHAR(10)), "")} -> 11:30 | F20: =IF(G20<>"","📌",IF(E20<>""," Mémo :",""))
B21: {=IFERROR(IF(MOD(ROW() - ROW($B$10) + 1, 2) = 1, TEXT(INDEX(_xlfn._xlws.FILTER('Plan hebdomadaire'!E$5:E$60, ('Plan hebdomadaire'!E$5:E$60 <> "")), INT((ROW() - ROW($B$10) + 2) / 2)), "hh:mm"), TEXT(INDEX(_xlfn._xlws.FILTER('Plan hebdomadaire'!E$5:E$60, ('Plan hebdomadaire'!E$5:E$60 <> "")), INT((ROW() - ROW($B$10) + 3) / 2)), "hh:mm") & CHAR(10)), "")} -> 13:50
B22: {=IFERROR(IF(MOD(ROW() - ROW($B$10) + 1, 2) = 1, TEXT(INDEX(_xlfn._xlws.FILTER('Plan hebdomadaire'!E$5:E$60, ('Plan hebdomadaire'!E$5:E$60 <> "")), INT((ROW() - ROW($B$10) + 2) / 2)), "hh:mm"), TEXT(INDEX(_xlfn._xlws.FILTER('Plan hebdomadaire'!E$5:E$60, ('Plan hebdomadaire'!E$5:E$60 <> "")), INT((ROW() - ROW($B$10) + 3) / 2)), "hh:mm") & CHAR(10)), "")} -> 13:50 | F22: =IF(G22<>"","📌",IF(E22<>""," Mémo :",""))
B23: {=IFERROR(IF(MOD(ROW() - ROW($B$10) + 1, 2) = 1, TEXT(INDEX(_xlfn._xlws.FILTER('Plan hebdomadaire'!E$5:E$60, ('Plan hebdomadaire'!E$5:E$60 <> "")), INT((ROW() - ROW($B$10) + 2) / 2)), "hh:mm"), TEXT(INDEX(_xlfn._xlws.FILTER('Plan hebdomadaire'!E$5:E$60, ('Plan hebdomadaire'!E$5:E$60 <> "")), INT((ROW() - ROW($B$10) + 3) / 2)), "hh:mm") & CHAR(10)), "")} -> 14:40
B24: {=IFERROR(IF(MOD(ROW() - ROW($B$10) + 1, 2) = 1, TEXT(INDEX(_xlfn._xlws.FILTER('Plan hebdomadaire'!E$5:E$60, ('Plan hebdomadaire'!E$5:E$60 <> "")), INT((ROW() - ROW($B$10) + 2) / 2)), "hh:mm"), TEXT(INDEX(_xlfn._xlws.FILTER('Plan hebdomadaire'!E$5:E$60, ('Plan hebdomadaire'!E$5:E$60 <> "")), INT((ROW() - ROW($B$10) + 3) / 2)), "hh:mm") & CHAR(10)), "")} -> 14:40 | F24: =IF(G24<>"","📌",IF(E24<>""," Mémo :",""))
B25: {=IFERROR(IF(MOD(ROW() - ROW($B$10) + 1, 2) = 1, TEXT(INDEX(_xlfn._xlws.FILTER('Plan hebdomadaire'!E$5:E$60, ('Plan hebdomadaire'!E$5:E$60 <> "")), INT((ROW() - ROW($B$10) + 2) / 2)), "hh:mm"), TEXT(INDEX(_xlfn._xlws.FILTER('Plan hebdomadaire'!E$5:E$60, ('Plan hebdomadaire'!E$5:E$60 <> "")), INT((ROW() - ROW($B$10) + 3) / 2)), "hh:mm") & CHAR(10)), "")} -> 15:30
B26: {=IFERROR(IF(MOD(ROW() - ROW($B$10) + 1, 2) = 1, TEXT(INDEX(_xlfn._xlws.FILTER('Plan hebdomadaire'!E$5:E$60, ('Plan hebdomadaire'!E$5:E$60 <> "")), INT((ROW() - ROW($B$10) + 2) / 2)), "hh:mm"), TEXT(INDEX(_xlfn._xlws.FILTER('Plan hebdomadaire'!E$5:E$60, ('Plan hebdomadaire'!E$5:E$60 <> "")), INT((ROW() - ROW($B$10) + 3) / 2)), "hh:mm") & CHAR(10)), "")} -> 15:30 | F26: =IF(G26<>"","📌",IF(E26<>""," Mémo :",""))
B27: {=IFERROR(IF(MOD(ROW() - ROW($B$10) + 1, 2) = 1, TEXT(INDEX(_xlfn._xlws.FILTER('Plan hebdomadaire'!E$5:E$60, ('Plan hebdomadaire'!E$5:E$60 <> "")), INT((ROW() - ROW($B$10) + 2) / 2)), "hh:mm"), TEXT(INDEX(_xlfn._xlws.FILTER('Plan hebdomadaire'!E$5:E$60, ('Plan hebdomadaire'!E$5:E$60 <> "")), INT((ROW() - ROW($B$10) + 3) / 2)), "hh:mm") & CHAR(10)), "")}
B28: {=IFERROR(IF(MOD(ROW() - ROW($B$10) + 1, 2) = 1, TEXT(INDEX(_xlfn._xlws.FILTER('Plan hebdomadaire'!E$5:E$60, ('Plan hebdomadaire'!E$5:E$60 <> "")), INT((ROW() - ROW($B$10) + 2) / 2)), "hh:mm"), TEXT(INDEX(_xlfn._xlws.FILTER('Plan hebdomadaire'!E$5:E$60, ('Plan hebdomadaire'!E$5:E$60 <> "")), INT((ROW() - ROW($B$10) + 3) / 2)), "hh:mm") & CHAR(10)), "")} | F28: =IF(G28<>"","📌",IF(E28<>""," Mémo :",""))
B29: {=IFERROR(IF(MOD(ROW() - ROW($B$10) + 1, 2) = 1, TEXT(INDEX(_xlfn._xlws.FILTER('Plan hebdomadaire'!E$5:E$60, ('Plan hebdomadaire'!E$5:E$60 <> "")), INT((ROW() - ROW($B$10) + 2) / 2)), "hh:mm"), TEXT(INDEX(_xlfn._xlws.FILTER('Plan hebdomadaire'!E$5:E$60, ('Plan hebdomadaire'!E$5:E$60 <> "")), INT((ROW() - ROW($B$10) + 3) / 2)), "hh:mm") & CHAR(10)), "")}
B30: {=IFERROR(IF(MOD(ROW() - ROW($B$10) + 1, 2) = 1, TEXT(INDEX(_xlfn._xlws.FILTER('Plan hebdomadaire'!E$5:E$60, ('Plan hebdomadaire'!E$5:E$60 <> "")), INT((ROW() - ROW($B$10) + 2) / 2)), "hh:mm"), TEXT(INDEX(_xlfn._xlws.FILTER('Plan hebdomadaire'!E$5:E$60, ('Plan hebdomadaire'!E$5:E$60 <> "")), INT((ROW() - ROW($B$10) + 3) / 2)), "hh:mm") & CHAR(10)), "")} | F30: =IF(G30<>"","📌",IF(E30<>""," Mémo :",""))
B31: {=IFERROR(IF(MOD(ROW() - ROW($B$10) + 1, 2) = 1, TEXT(INDEX(_xlfn._xlws.FILTER('Plan hebdomadaire'!E$5:E$60, ('Plan hebdomadaire'!E$5:E$60 <> "")), INT((ROW() - ROW($B$10) + 2) / 2)), "hh:mm"), TEXT(INDEX(_xlfn._xlws.FILTER('Plan hebdomadaire'!E$5:E$60, ('Plan hebdomadaire'!E$5:E$60 <> "")), INT((ROW() - ROW($B$10) + 3) / 2)), "hh:mm") & CHAR(10)), "")}
B32: {=IFERROR(IF(MOD(ROW() - ROW($B$10) + 1, 2) = 1, TEXT(INDEX(_xlfn._xlws.FILTER('Plan hebdomadaire'!E$5:E$60, ('Plan hebdomadaire'!E$5:E$60 <> "")), INT((ROW() - ROW($B$10) + 2) / 2)), "hh:mm"), TEXT(INDEX(_xlfn._xlws.FILTER('Plan hebdomadaire'!E$5:E$60, ('Plan hebdomadaire'!E$5:E$60 <> "")), INT((ROW() - ROW($B$10) + 3) / 2)), "hh:mm") & CHAR(10)), "")} | F32: =IF(G32<>"","📌",IF(E32<>""," Mémo :",""))
B33: {=IFERROR(IF(MOD(ROW() - ROW($B$10) + 1, 2) = 1, TEXT(INDEX(_xlfn._xlws.FILTER('Plan hebdomadaire'!E$5:E$60, ('Plan hebdomadaire'!E$5:E$60 <> "")), INT((ROW() - ROW($B$10) + 2) / 2)), "hh:mm"), TEXT(INDEX(_xlfn._xlws.FILTER('Plan hebdomadaire'!E$5:E$60, ('Plan hebdomadaire'!E$5:E$60 <> "")), INT((ROW() - ROW($B$10) + 3) / 2)), "hh:mm") & CHAR(10)), "")}
B34: {=IFERROR(IF(MOD(ROW() - ROW($B$10) + 1, 2) = 1, TEXT(INDEX(_xlfn._xlws.FILTER('Plan hebdomadaire'!E$5:E$60, ('Plan hebdomadaire'!E$5:E$60 <> "")), INT((ROW() - ROW($B$10) + 2) / 2)), "hh:mm"), TEXT(INDEX(_xlfn._xlws.FILTER('Plan hebdomadaire'!E$5:E$60, ('Plan hebdomadaire'!E$5:E$60 <> "")), INT((ROW() - ROW($B$10) + 3) / 2)), "hh:mm") & CHAR(10)), "")} | F34: =IF(G34<>"","📌",IF(E34<>""," Mémo :",""))
B35: {=IFERROR(IF(MOD(ROW() - ROW($B$10) + 1, 2) = 1, TEXT(INDEX(_xlfn._xlws.FILTER('Plan hebdomadaire'!E$5:E$60, ('Plan hebdomadaire'!E$5:E$60 <> "")), INT((ROW() - ROW($B$10) + 2) / 2)), "hh:mm"), TEXT(INDEX(_xlfn._xlws.FILTER('Plan hebdomadaire'!E$5:E$60, ('Plan hebdomadaire'!E$5:E$60 <> "")), INT((ROW() - ROW($B$10) + 3) / 2)), "hh:mm") & CHAR(10)), "")}
B36: {=IFERROR(IF(MOD(ROW() - ROW($B$10) + 1, 2) = 1, TEXT(INDEX(_xlfn._xlws.FILTER('Plan hebdomadaire'!E$5:E$60, ('Plan hebdomadaire'!E$5:E$60 <> "")), INT((ROW() - ROW($B$10) + 2) / 2)), "hh:mm"), TEXT(INDEX(_xlfn._xlws.FILTER('Plan hebdomadaire'!E$5:E$60, ('Plan hebdomadaire'!E$5:E$60 <> "")), INT((ROW() - ROW($B$10) + 3) / 2)), "hh:mm") & CHAR(10)), "")} | F36: =IF(G36<>"","📌",IF(E36<>""," Mémo :",""))
B37: {=IFERROR(IF(MOD(ROW() - ROW($B$10) + 1, 2) = 1, TEXT(INDEX(_xlfn._xlws.FILTER('Plan hebdomadaire'!E$5:E$60, ('Plan hebdomadaire'!E$5:E$60 <> "")), INT((ROW() - ROW($B$10) + 2) / 2)), "hh:mm"), TEXT(INDEX(_xlfn._xlws.FILTER('Plan hebdomadaire'!E$5:E$60, ('Plan hebdomadaire'!E$5:E$60 <> "")), INT((ROW() - ROW($B$10) + 3) / 2)), "hh:mm") & CHAR(10)), "")}
B38: {=IFERROR(IF(MOD(ROW() - ROW($B$10) + 1, 2) = 1, TEXT(INDEX(_xlfn._xlws.FILTER('Plan hebdomadaire'!E$5:E$60, ('Plan hebdomadaire'!E$5:E$60 <> "")), INT((ROW() - ROW($B$10) + 2) / 2)), "hh:mm"), TEXT(INDEX(_xlfn._xlws.FILTER('Plan hebdomadaire'!E$5:E$60, ('Plan hebdomadaire'!E$5:E$60 <> "")), INT((ROW() - ROW($B$10) + 3) / 2)), "hh:mm") & CHAR(10)), "")} | F38: =IF(G38<>"","📌",IF(E38<>""," Mémo :",""))
B39: {=IFERROR(IF(MOD(ROW() - ROW($B$10) + 1, 2) = 1, TEXT(INDEX(_xlfn._xlws.FILTER('Plan hebdomadaire'!E$5:E$60, ('Plan hebdomadaire'!E$5:E$60 <> "")), INT((ROW() - ROW($B$10) + 2) / 2)), "hh:mm"), TEXT(INDEX(_xlfn._xlws.FILTER('Plan hebdomadaire'!E$5:E$60, ('Plan hebdomadaire'!E$5:E$60 <> "")), INT((ROW() - ROW($B$10) + 3) / 2)), "hh:mm") & CHAR(10)), "")}
B40: {=IFERROR(IF(MOD(ROW() - ROW($B$10) + 1, 2) = 1, TEXT(INDEX(_xlfn._xlws.FILTER('Plan hebdomadaire'!E$5:E$60, ('Plan hebdomadaire'!E$5:E$60 <> "")), INT((ROW() - ROW($B$10) + 2) / 2)), "hh:mm"), TEXT(INDEX(_xlfn._xlws.FILTER('Plan hebdomadaire'!E$5:E$60, ('Plan hebdomadaire'!E$5:E$60 <> "")), INT((ROW() - ROW($B$10) + 3) / 2)), "hh:mm") & CHAR(10)), "")} | F40: =IF(G40<>"","📌",IF(E40<>""," Mémo :",""))
B41: {=IFERROR(IF(MOD(ROW() - ROW($B$10) + 1, 2) = 1, TEXT(INDEX(_xlfn._xlws.FILTER('Plan hebdomadaire'!E$5:E$60, ('Plan hebdomadaire'!E$5:E$60 <> "")), INT((ROW() - ROW($B$10) + 2) / 2)), "hh:mm"), TEXT(INDEX(_xlfn._xlws.FILTER('Plan hebdomadaire'!E$5:E$60, ('Plan hebdomadaire'!E$5:E$60 <> "")), INT((ROW() - ROW($B$10) + 3) / 2)), "hh:mm") & CHAR(10)), "")}
B42: {=IFERROR(IF(MOD(ROW() - ROW($B$10) + 1, 2) = 1, TEXT(INDEX(_xlfn._xlws.FILTER('Plan hebdomadaire'!E$5:E$60, ('Plan hebdomadaire'!E$5:E$60 <> "")), INT((ROW() - ROW($B$10) + 2) / 2)), "hh:mm"), TEXT(INDEX(_xlfn._xlws.FILTER('Plan hebdomadaire'!E$5:E$60, ('Plan hebdomadaire'!E$5:E$60 <> "")), INT((ROW() - ROW($B$10) + 3) / 2)), "hh:mm") & CHAR(10)), "")} | F42: =IF(G42<>"","📌",IF(E42<>""," Mémo :",""))
B43: {=IFERROR(IF(MOD(ROW() - ROW($B$10) + 1, 2) = 1, TEXT(INDEX(_xlfn._xlws.FILTER('Plan hebdomadaire'!E$5:E$60, ('Plan hebdomadaire'!E$5:E$60 <> "")), INT((ROW() - ROW($B$10) + 2) / 2)), "hh:mm"), TEXT(INDEX(_xlfn._xlws.FILTER('Plan hebdomadaire'!E$5:E$60, ('Plan hebdomadaire'!E$5:E$60 <> "")), INT((ROW() - ROW($B$10) + 3) / 2)), "hh:mm") & CHAR(10)), "")}
B44: {=IFERROR(IF(MOD(ROW() - ROW($B$10) + 1, 2) = 1, TEXT(INDEX(_xlfn._xlws.FILTER('Plan hebdomadaire'!E$5:E$60, ('Plan hebdomadaire'!E$5:E$60 <> "")), INT((ROW() - ROW($B$10) + 2) / 2)), "hh:mm"), TEXT(INDEX(_xlfn._xlws.FILTER('Plan hebdomadaire'!E$5:E$60, ('Plan hebdomadaire'!E$5:E$60 <> "")), INT((ROW() - ROW($B$10) + 3) / 2)), "hh:mm") & CHAR(10)), "")} | F44: =IF(G44<>"","📌",IF(E44<>""," Mémo :",""))
B45: {=IFERROR(IF(MOD(ROW() - ROW($B$10) + 1, 2) = 1, TEXT(INDEX(_xlfn._xlws.FILTER('Plan hebdomadaire'!E$5:E$60, ('Plan hebdomadaire'!E$5:E$60 <> "")), INT((ROW() - ROW($B$10) + 2) / 2)), "hh:mm"), TEXT(INDEX(_xlfn._xlws.FILTER('Plan hebdomadaire'!E$5:E$60, ('Plan hebdomadaire'!E$5:E$60 <> "")), INT((ROW() - ROW($B$10) + 3) / 2)), "hh:mm") & CHAR(10)), "")}
...

Sheet 📗Mercredi
B2: 📗 Mon journal du jour : | G2: =IF(ISNUMBER('Plan hebdomadaire'!H2), 'Plan hebdomadaire'!H2+2, "Veuillez spécifiez la semaine dans le Plan hebdomadaire !") -> 45903 | H2: FALSE | I2: ♻️ Impression écologique
B4: REMARQUES : | I4: ABSENCES :
H5: =REPT(CHAR(10)&CHAR(160), 3)
B8: 🕗 | E8: 📚 DISCIPLINE | G8: 📝 DÉROULEMENT | I8: 🎯 OBJECTIFS | K8: ✏️ OBSERVATIONS
B10: {=IFERROR(IF(MOD(ROW() - ROW($B$10) + 1, 2) = 1, TEXT(INDEX(_xlfn._xlws.FILTER('Plan hebdomadaire'!E$5:E$60, ('Plan hebdomadaire'!E$5:E$60 <> "")), INT((ROW() - ROW($B$10) + 2) / 2)), "hh:mm"), TEXT(INDEX(_xlfn._xlws.FILTER('Plan hebdomadaire'!E$5:E$60, ('Plan hebdomadaire'!E$5:E$60 <> "")), INT((ROW() - ROW($B$10) + 3) / 2)), "hh:mm") & CHAR(10)), "")} -> 08:00 | D10: {=_xlfn._xlws.FILTER(IF((('Plan hebdomadaire'!F5:F30 = "") + ('Plan hebdomadaire'!F5:F30 = 0)) > 0, "", 'Plan hebdomadaire'!F5:F30), ('Plan hebdomadaire'!E5:E30 <> ""))} -> Exemple | E10: {=IFERROR(_xlfn._xlws.FILTER(IF((('Plan hebdomadaire'!H5:H60 = "Sous-titre…") + ('Plan hebdomadaire'!H5:H60 = "Sous-titre...") + ('Plan hebdomadaire'!H5:H60 = "")), "", 'Plan hebdomadaire'!H5:H60), ($B$11:$B$66 <> "")), "")} | F10: =IF(G10<>"","📌",IF(E10<>""," Mémo :",""))
B11: {=IFERROR(IF(MOD(ROW() - ROW($B$10) + 1, 2) = 1, TEXT(INDEX(_xlfn._xlws.FILTER('Plan hebdomadaire'!E$5:E$60, ('Plan hebdomadaire'!E$5:E$60 <> "")), INT((ROW() - ROW($B$10) + 2) / 2)), "hh:mm"), TEXT(INDEX(_xlfn._xlws.FILTER('Plan hebdomadaire'!E$5:E$60, ('Plan hebdomadaire'!E$5:E$60 <> "")), INT((ROW() - ROW($B$10) + 3) / 2)), "hh:mm") & CHAR(10)), "")} -> 08:50
B12: {=IFERROR(IF(MOD(ROW() - ROW($B$10) + 1, 2) = 1, TEXT(INDEX(_xlfn._xlws.FILTER('Plan hebdomadaire'!E$5:E$60, ('Plan hebdomadaire'!E$5:E$60 <> "")), INT((ROW() - ROW($B$10) + 2) / 2)), "hh:mm"), TEXT(INDEX(_xlfn._xlws.FILTER('Plan hebdomadaire'!E$5:E$60, ('Plan hebdomadaire'!E$5:E$60 <> "")), INT((ROW() - ROW($B$10) + 3) / 2)), "hh:mm") & CHAR(10)), "")} -> 08:50 | F12: =IF(G12<>"","📌",IF(E12<>""," Mémo :",""))
B13: {=IFERROR(IF(MOD(ROW() - ROW($B$10) + 1, 2) = 1, TEXT(INDEX(_xlfn._xlws.FILTER('Plan hebdomadaire'!E$5:E$60, ('Plan hebdomadaire'!E$5:E$60 <> "")), INT((ROW() - ROW($B$10) + 2) / 2)), "hh:mm"), TEXT(INDEX(_xlfn._xlws.FILTER('Plan hebdomadaire'!E$5:E$60, ('Plan hebdomadaire'!E$5:E$60 <> "")), INT((ROW() - ROW($B$10) + 3) / 2)), "hh:mm") & CHAR(10)), "")} -> 09:40
B14: {=IFERROR(IF(MOD(ROW() - ROW($B$10) + 1, 2) = 1, TEXT(INDEX(_xlfn._xlws.FILTER('Plan hebdomadaire'!E$5:E$60, ('Plan hebdomadaire'!E$5:E$60 <> "")), INT((ROW() - ROW($B$10) + 2) / 2)), "hh:mm"), TEXT(INDEX(_xlfn._xlws.FILTER('Plan hebdomadaire'!E$5:E$60, ('Plan hebdomadaire'!E$5:E$60 <> "")), INT((ROW() - ROW($B$10) + 3) / 2)), "hh:mm") & CHAR(10)), "")} -> 09:40 | F14: =IF(G14<>"","📌",IF(E14<>""," Mémo :",""))
B15: {=IFERROR(IF(MOD(ROW() - ROW($B$10) + 1, 2) = 1, TEXT(INDEX(_xlfn._xlws.FILTER('Plan hebdomadaire'!E$5:E$60, ('Plan hebdomadaire'!E$5:E$60 <> "")), INT((ROW() - ROW($B$10) + 2) / 2)), "hh:mm"), TEXT(INDEX(_xlfn._xlws.FILTER('Plan hebdomadaire'!E$5:E$60, ('Plan hebdomadaire'!E$5:E$60 <> "")), INT((ROW() - ROW($B$10) + 3) / 2)), "hh:mm") & CHAR(10)), "")} -> 10:00
B16: {=IFERROR(IF(MOD(ROW() - ROW($B$10) + 1, 2) = 1, TEXT(INDEX(_xlfn._xlws.FILTER('Plan hebdomadaire'!E$5:E$60, ('Plan hebdomadaire'!E$5:E$60 <> "")), INT((ROW() - ROW($B$10) + 2) / 2)), "hh:mm"), TEXT(INDEX(_xlfn._xlws.FILTER('Plan hebdomadaire'!E$5:E$60, ('Plan hebdomadaire'!E$5:E$60 <> "")), INT((ROW() - ROW($B$10) + 3) / 2)), "hh:mm") & CHAR(10)), "")} -> 10:00 | F16: =IF(G16<>"","📌",IF(E16<>""," Mémo :",""))
B17: {=IFERROR(IF(MOD(ROW() - ROW($B$10) + 1, 2) = 1, TEXT(INDEX(_xlfn._xlws.FILTER('Plan hebdomadaire'!E$5:E$60, ('Plan hebdomadaire'!E$5:E$60 <> "")), INT((ROW() - ROW($B$10) + 2) / 2)), "hh:mm"), TEXT(INDEX(_xlfn._xlws.FILTER('Plan hebdomadaire'!E$5:E$60, ('Plan hebdomadaire'!E$5:E$60 <> "")), INT((ROW() - ROW($B$10) + 3) / 2)), "hh:mm") & CHAR(10)), "")} -> 10:50
B18: {=IFERROR(IF(MOD(ROW() - ROW($B$10) + 1, 2) = 1, TEXT(INDEX(_xlfn._xlws.FILTER('Plan hebdomadaire'!E$5:E$60, ('Plan hebdomadaire'!E$5:E$60 <> "")), INT((ROW() - ROW($B$10) + 2) / 2)), "hh:mm"), TEXT(INDEX(_xlfn._xlws.FILTER('Plan hebdomadaire'!E$5:E$60, ('Plan hebdomadaire'!E$5:E$60 <> "")), INT((ROW() - ROW($B$10) + 3) / 2)), "hh:mm") & CHAR(10)), "")} -> 10:50 | F18: =IF(G18<>"","📌",IF(E18<>""," Mémo :",""))
B19: {=IFERROR(IF(MOD(ROW() - ROW($B$10) + 1, 2) = 1, TEXT(INDEX(_xlfn._xlws.FILTER('Plan hebdomadaire'!E$5:E$60, ('Plan hebdomadaire'!E$5:E$60 <> "")), INT((ROW() - ROW($B$10) + 2) / 2)), "hh:mm"), TEXT(INDEX(_xlfn._xlws.FILTER('Plan hebdomadaire'!E$5:E$60, ('Plan hebdomadaire'!E$5:E$60 <> "")), INT((ROW() - ROW($B$10) + 3) / 2)), "hh:mm") & CHAR(10)), "")} -> 11:30
B20: {=IFERROR(IF(MOD(ROW() - ROW($B$10) + 1, 2) = 1, TEXT(INDEX(_xlfn._xlws.FILTER('Plan hebdomadaire'!E$5:E$60, ('Plan hebdomadaire'!E$5:E$60 <> "")), INT((ROW() - ROW($B$10) + 2) / 2)), "hh:mm"), TEXT(INDEX(_xlfn._xlws.FILTER('Plan hebdomadaire'!E$5:E$60, ('Plan hebdomadaire'!E$5:E$60 <> "")), INT((ROW() - ROW($B$10) + 3) / 2)), "hh:mm") & CHAR(10)), "")} -> 11:30 | F20: =IF(G20<>"","📌",IF(E20<>""," Mémo :",""))
B21: {=IFERROR(IF(MOD(ROW() - ROW($B$10) + 1, 2) = 1, TEXT(INDEX(_xlfn._xlws.FILTER('Plan hebdomadaire'!E$5:E$60, ('Plan hebdomadaire'!E$5:E$60 <> "")), INT((ROW() - ROW($B$10) + 2) / 2)), "hh:mm"), TEXT(INDEX(_xlfn._xlws.FILTER('Plan hebdomadaire'!E$5:E$60, ('Plan hebdomadaire'!E$5:E$60 <> "")), INT((ROW() - ROW($B$10) + 3) / 2)), "hh:mm") & CHAR(10)), "")} -> 13:50
B22: {=IFERROR(IF(MOD(ROW() - ROW($B$10) + 1, 2) = 1, TEXT(INDEX(_xlfn._xlws.FILTER('Plan hebdomadaire'!E$5:E$60, ('Plan hebdomadaire'!E$5:E$60 <> "")), INT((ROW() - ROW($B$10) + 2) / 2)), "hh:mm"), TEXT(INDEX(_xlfn._xlws.FILTER('Plan hebdomadaire'!E$5:E$60, ('Plan hebdomadaire'!E$5:E$60 <> "")), INT((ROW() - ROW($B$10) + 3) / 2)), "hh:mm") & CHAR(10)), "")} -> 13:50 | F22: =IF(G22<>"","📌",IF(E22<>""," Mémo :",""))
B23: {=IFERROR(IF(MOD(ROW() - ROW($B$10) + 1, 2) = 1, TEXT(INDEX(_xlfn._xlws.FILTER('Plan hebdomadaire'!E$5:E$60, ('Plan hebdomadaire'!E$5:E$60 <> "")), INT((ROW() - ROW($B$10) + 2) / 2)), "hh:mm"), TEXT(INDEX(_xlfn._xlws.FILTER('Plan hebdomadaire'!E$5:E$60, ('Plan hebdomadaire'!E$5:E$60 <> "")), INT((ROW() - ROW($B$10) + 3) / 2)), "hh:mm") & CHAR(10)), "")} -> 14:40
B24: {=IFERROR(IF(MOD(ROW() - ROW($B$10) + 1, 2) = 1, TEXT(INDEX(_xlfn._xlws.FILTER('Plan hebdomadaire'!E$5:E$60, ('Plan hebdomadaire'!E$5:E$60 <> "")), INT((ROW() - ROW($B$10) + 2) / 2)), "hh:mm"), TEXT(INDEX(_xlfn._xlws.FILTER('Plan hebdomadaire'!E$5:E$60, ('Plan hebdomadaire'!E$5:E$60 <> "")), INT((ROW() - ROW($B$10) + 3) / 2)), "hh:mm") & CHAR(10)), "")} -> 14:40 | F24: =IF(G24<>"","📌",IF(E24<>""," Mémo :",""))
B25: {=IFERROR(IF(MOD(ROW() - ROW($B$10) + 1, 2) = 1, TEXT(INDEX(_xlfn._xlws.FILTER('Plan hebdomadaire'!E$5:E$60, ('Plan hebdomadaire'!E$5:E$60 <> "")), INT((ROW() - ROW($B$10) + 2) / 2)), "hh:mm"), TEXT(INDEX(_xlfn._xlws.FILTER('Plan hebdomadaire'!E$5:E$60, ('Plan hebdomadaire'!E$5:E$60 <> "")), INT((ROW() - ROW($B$10) + 3) / 2)), "hh:mm") & CHAR(10)), "")} -> 15:30
B26: {=IFERROR(IF(MOD(ROW() - ROW($B$10) + 1, 2) = 1, TEXT(INDEX(_xlfn._xlws.FILTER('Plan hebdomadaire'!E$5:E$60, ('Plan hebdomadaire'!E$5:E$60 <> "")), INT((ROW() - ROW($B$10) + 2) / 2)), "hh:mm"), TEXT(INDEX(_xlfn._xlws.FILTER('Plan hebdomadaire'!E$5:E$60, ('Plan hebdomadaire'!E$5:E$60 <> "")), INT((ROW() - ROW($B$10) + 3) / 2)), "hh:mm") & CHAR(10)), "")} -> 15:30 | F26: =IF(G26<>"","📌",IF(E26<>""," Mémo :",""))
B27: {=IFERROR(IF(MOD(ROW() - ROW($B$10) + 1, 2) = 1, TEXT(INDEX(_xlfn._xlws.FILTER('Plan hebdomadaire'!E$5:E$60, ('Plan hebdomadaire'!E$5:E$60 <> "")), INT((ROW() - ROW($B$10) + 2) / 2)), "hh:mm"), TEXT(INDEX(_xlfn._xlws.FILTER('Plan hebdomadaire'!E$5:E$60, ('Plan hebdomadaire'!E$5:E$60 <> "")), INT((ROW() - ROW($B$10) + 3) / 2)), "hh:mm") & CHAR(10)), "")}
B28: {=IFERROR(IF(MOD(ROW() - ROW($B$10) + 1, 2) = 1, TEXT(INDEX(_xlfn._xlws.FILTER('Plan hebdomadaire'!E$5:E$60, ('Plan hebdomadaire'!E$5:E$60 <> "")), INT((ROW() - ROW($B$10) + 2) / 2)), "hh:mm"), TEXT(INDEX(_xlfn._xlws.FILTER('Plan hebdomadaire'!E$5:E$60, ('Plan hebdomadaire'!E$5:E$60 <> "")), INT((ROW() - ROW($B$10) + 3) / 2)), "hh:mm") & CHAR(10)), "")} | F28: =IF(G28<>"","📌",IF(E28<>""," Mémo :",""))
B29: {=IFERROR(IF(MOD(ROW() - ROW($B$10) + 1, 2) = 1, TEXT(INDEX(_xlfn._xlws.FILTER('Plan hebdomadaire'!E$5:E$60, ('Plan hebdomadaire'!E$5:E$60 <> "")), INT((ROW() - ROW($B$10) + 2) / 2)), "hh:mm"), TEXT(INDEX(_xlfn._xlws.FILTER('Plan hebdomadaire'!E$5:E$60, ('Plan hebdomadaire'!E$5:E$60 <> "")), INT((ROW() - ROW($B$10) + 3) / 2)), "hh:mm") & CHAR(10)), "")}
B30: {=IFERROR(IF(MOD(ROW() - ROW($B$10) + 1, 2) = 1, TEXT(INDEX(_xlfn._xlws.FILTER('Plan hebdomadaire'!E$5:E$60, ('Plan hebdomadaire'!E$5:E$60 <> "")), INT((ROW() - ROW($B$10) + 2) / 2)), "hh:mm"), TEXT(INDEX(_xlfn._xlws.FILTER('Plan hebdomadaire'!E$5:E$60, ('Plan hebdomadaire'!E$5:E$60 <> "")), INT((ROW() - ROW($B$10) + 3) / 2)), "hh:mm") & CHAR(10)), "")} | F30: =IF(G30<>"","📌",IF(E30<>""," Mémo :",""))
B31: {=IFERROR(IF(MOD(ROW() - ROW($B$10) + 1, 2) = 1, TEXT(INDEX(_xlfn._xlws.FILTER('Plan hebdomadaire'!E$5:E$60, ('Plan hebdomadaire'!E$5:E$60 <> "")), INT((ROW() - ROW($B$10) + 2) / 2)), "hh:mm"), TEXT(INDEX(_xlfn._xlws.FILTER('Plan hebdomadaire'!E$5:E$60, ('Plan hebdomadaire'!E$5:E$60 <> "")), INT((ROW() - ROW($B$10) + 3) / 2)), "hh:mm") & CHAR(10)), "")}
B32: {=IFERROR(IF(MOD(ROW() - ROW($B$10) + 1, 2) = 1, TEXT(INDEX(_xlfn._xlws.FILTER('Plan hebdomadaire'!E$5:E$60, ('Plan hebdomadaire'!E$5:E$60 <> "")), INT((ROW() - ROW($B$10) + 2) / 2)), "hh:mm"), TEXT(INDEX(_xlfn._xlws.FILTER('Plan hebdomadaire'!E$5:E$60, ('Plan hebdomadaire'!E$5:E$60 <> "")), INT((ROW() - ROW($B$10) + 3) / 2)), "hh:mm") & CHAR(10)), "")} | F32: =IF(G32<>"","📌",IF(E32<>""," Mémo :",""))
B33: {=IFERROR(IF(MOD(ROW() - ROW($B$10) + 1, 2) = 1, TEXT(INDEX(_xlfn._xlws.FILTER('Plan hebdomadaire'!E$5:E$60, ('Plan hebdomadaire'!E$5:E$60 <> "")), INT((ROW() - ROW($B$10) + 2) / 2)), "hh:mm"), TEXT(INDEX(_xlfn._xlws.FILTER('Plan hebdomadaire'!E$5:E$60, ('Plan hebdomadaire'!E$5:E$60 <> "")), INT((ROW() - ROW($B$10) + 3) / 2)), "hh:mm") & CHAR(10)), "")}
B34: {=IFERROR(IF(MOD(ROW() - ROW($B$10) + 1, 2) = 1, TEXT(INDEX(_xlfn._xlws.FILTER('Plan hebdomadaire'!E$5:E$60, ('Plan hebdomadaire'!E$5:E$60 <> "")), INT((ROW() - ROW($B$10) + 2) / 2)), "hh:mm"), TEXT(INDEX(_xlfn._xlws.FILTER('Plan hebdomadaire'!E$5:E$60, ('Plan hebdomadaire'!E$5:E$60 <> "")), INT((ROW() - ROW($B$10) + 3) / 2)), "hh:mm") & CHAR(10)), "")} | F34: =IF(G34<>"","📌",IF(E34<>""," Mémo :",""))
B35: {=IFERROR(IF(MOD(ROW() - ROW($B$10) + 1, 2) = 1, TEXT(INDEX(_xlfn._xlws.FILTER('Plan hebdomadaire'!E$5:E$60, ('Plan hebdomadaire'!E$5:E$60 <> "")), INT((ROW() - ROW($B$10) + 2) / 2)), "hh:mm"), TEXT(INDEX(_xlfn._xlws.FILTER('Plan hebdomadaire'!E$5:E$60, ('Plan hebdomadaire'!E$5:E$60 <> "")), INT((ROW() - ROW($B$10) + 3) / 2)), "hh:mm") & CHAR(10)), "")}
B36: {=IFERROR(IF(MOD(ROW() - ROW($B$10) + 1, 2) = 1, TEXT(INDEX(_xlfn._xlws.FILTER('Plan hebdomadaire'!E$5:E$60, ('Plan hebdomadaire'!E$5:E$60 <> "")), INT((ROW() - ROW($B$10) + 2) / 2)), "hh:mm"), TEXT(INDEX(_xlfn._xlws.FILTER('Plan hebdomadaire'!E$5:E$60, ('Plan hebdomadaire'!E$5:E$60 <> "")), INT((ROW() - ROW($B$10) + 3) / 2)), "hh:mm") & CHAR(10)), "")} | F36: =IF(G36<>"","📌",IF(E36<>""," Mémo :",""))
B37: {=IFERROR(IF(MOD(ROW() - ROW($B$10) + 1, 2) = 1, TEXT(INDEX(_xlfn._xlws.FILTER('Plan hebdomadaire'!E$5:E$60, ('Plan hebdomadaire'!E$5:E$60 <> "")), INT((ROW() - ROW($B$10) + 2) / 2)), "hh:mm"), TEXT(INDEX(_xlfn._xlws.FILTER('Plan hebdomadaire'!E$5:E$60, ('Plan hebdomadaire'!E$5:E$60 <> "")), INT((ROW() - ROW($B$10) + 3) / 2)), "hh:mm") & CHAR(10)), "")}
B38: {=IFERROR(IF(MOD(ROW() - ROW($B$10) + 1, 2) = 1, TEXT(INDEX(_xlfn._xlws.FILTER('Plan hebdomadaire'!E$5:E$60, ('Plan hebdomadaire'!E$5:E$60 <> "")), INT((ROW() - ROW($B$10) + 2) / 2)), "hh:mm"), TEXT(INDEX(_xlfn._xlws.FILTER('Plan hebdomadaire'!E$5:E$60, ('Plan hebdomadaire'!E$5:E$60 <> "")), INT((ROW() - ROW($B$10) + 3) / 2)), "hh:mm") & CHAR(10)), "")} | F38: =IF(G38<>"","📌",IF(E38<>""," Mémo :",""))
B39: {=IFERROR(IF(MOD(ROW() - ROW($B$10) + 1, 2) = 1, TEXT(INDEX(_xlfn._xlws.FILTER('Plan hebdomadaire'!E$5:E$60, ('Plan hebdomadaire'!E$5:E$60 <> "")), INT((ROW() - ROW($B$10) + 2) / 2)), "hh:mm"), TEXT(INDEX(_xlfn._xlws.FILTER('Plan hebdomadaire'!E$5:E$60, ('Plan hebdomadaire'!E$5:E$60 <> "")), INT((ROW() - ROW($B$10) + 3) / 2)), "hh:mm") & CHAR(10)), "")}
B40: {=IFERROR(IF(MOD(ROW() - ROW($B$10) + 1, 2) = 1, TEXT(INDEX(_xlfn._xlws.FILTER('Plan hebdomadaire'!E$5:E$60, ('Plan hebdomadaire'!E$5:E$60 <> "")), INT((ROW() - ROW($B$10) + 2) / 2)), "hh:mm"), TEXT(INDEX(_xlfn._xlws.FILTER('Plan hebdomadaire'!E$5:E$60, ('Plan hebdomadaire'!E$5:E$60 <> "")), INT((ROW() - ROW($B$10) + 3) / 2)), "hh:mm") & CHAR(10)), "")} | F40: =IF(G40<>"","📌",IF(E40<>""," Mémo :",""))
B41: {=IFERROR(IF(MOD(ROW() - ROW($B$10) + 1, 2) = 1, TEXT(INDEX(_xlfn._xlws.FILTER('Plan hebdomadaire'!E$5:E$60, ('Plan hebdomadaire'!E$5:E$60 <> "")), INT((ROW() - ROW($B$10) + 2) / 2)), "hh:mm"), TEXT(INDEX(_xlfn._xlws.FILTER('Plan hebdomadaire'!E$5:E$60, ('Plan hebdomadaire'!E$5:E$60 <> "")), INT((ROW() - ROW($B$10) + 3) / 2)), "hh:mm") & CHAR(10)), "")}
B42: {=IFERROR(IF(MOD(ROW() - ROW($B$10) + 1, 2) = 1, TEXT(INDEX(_xlfn._xlws.FILTER('Plan hebdomadaire'!E$5:E$60, ('Plan hebdomadaire'!E$5:E$60 <> "")), INT((ROW() - ROW($B$10) + 2) / 2)), "hh:mm"), TEXT(INDEX(_xlfn._xlws.FILTER('Plan hebdomadaire'!E$5:E$60, ('Plan hebdomadaire'!E$5:E$60 <> "")), INT((ROW() - ROW($B$10) + 3) / 2)), "hh:mm") & CHAR(10)), "")} | F42: =IF(G42<>"","📌",IF(E42<>""," Mémo :",""))
B43: {=IFERROR(IF(MOD(ROW() - ROW($B$10) + 1, 2) = 1, TEXT(INDEX(_xlfn._xlws.FILTER('Plan hebdomadaire'!E$5:E$60, ('Plan hebdomadaire'!E$5:E$60 <> "")), INT((ROW() - ROW($B$10) + 2) / 2)), "hh:mm"), TEXT(INDEX(_xlfn._xlws.FILTER('Plan hebdomadaire'!E$5:E$60, ('Plan hebdomadaire'!E$5:E$60 <> "")), INT((ROW() - ROW($B$10) + 3) / 2)), "hh:mm") & CHAR(10)), "")}
B44: {=IFERROR(IF(MOD(ROW() - ROW($B$10) + 1, 2) = 1, TEXT(INDEX(_xlfn._xlws.FILTER('Plan hebdomadaire'!E$5:E$60, ('Plan hebdomadaire'!E$5:E$60 <> "")), INT((ROW() - ROW($B$10) + 2) / 2)), "hh:mm"), TEXT(INDEX(_xlfn._xlws.FILTER('Plan hebdomadaire'!E$5:E$60, ('Plan hebdomadaire'!E$5:E$60 <> "")), INT((ROW() - ROW($B$10) + 3) / 2)), "hh:mm") & CHAR(10)), "")} | F44: =IF(G44<>"","📌",IF(E44<>""," Mémo :",""))
B45: {=IFERROR(IF(MOD(ROW() - ROW($B$10) + 1, 2) = 1, TEXT(INDEX(_xlfn._xlws.FILTER('Plan hebdomadaire'!E$5:E$60, ('Plan hebdomadaire'!E$5:E$60 <> "")), INT((ROW() - ROW($B$10) + 2) / 2)), "hh:mm"), TEXT(INDEX(_xlfn._xlws.FILTER('Plan hebdomadaire'!E$5:E$60, ('Plan hebdomadaire'!E$5:E$60 <> "")), INT((ROW() - ROW($B$10) + 3) / 2)), "hh:mm") & CHAR(10)), "")}
...

Sheet 📒Jeudi
B2: 📒 Mon journal du jour : | G2: =IF(ISNUMBER('Plan hebdomadaire'!H2), 'Plan hebdomadaire'!H2+3, "Veuillez spécifiez la semaine dans le Plan hebdomadaire !") -> 45904 | H2: FALSE | I2: ♻️ Impression écologique
B4: REMARQUES : | I4: ABSENCES :
H5: =REPT(CHAR(10)&CHAR(160), 3)
B8: 🕗 | E8: 📚 DISCIPLINE | G8: 📝 DÉROULEMENT | I8: 🎯 OBJECTIFS | K8: ✏️ OBSERVATIONS
B10: {=IFERROR(IF(MOD(ROW() - ROW($B$10) + 1, 2) = 1, TEXT(INDEX(_xlfn._xlws.FILTER('Plan hebdomadaire'!E$5:E$60, ('Plan hebdomadaire'!E$5:E$60 <> "")), INT((ROW() - ROW($B$10) + 2) / 2)), "hh:mm"), TEXT(INDEX(_xlfn._xlws.FILTER('Plan hebdomadaire'!E$5:E$60, ('Plan hebdomadaire'!E$5:E$60 <> "")), INT((ROW() - ROW($B$10) + 3) / 2)), "hh:mm") & CHAR(10)), "")} -> 08:00 | D10: {=_xlfn._xlws.FILTER(IF((('Plan hebdomadaire'!F5:F30 = "") + ('Plan hebdomadaire'!F5:F30 = 0)) > 0, "", 'Plan hebdomadaire'!F5:F30), ('Plan hebdomadaire'!E5:E30 <> ""))} -> Exemple | E10: {=IFERROR(_xlfn._xlws.FILTER(IF((('Plan hebdomadaire'!I5:I60 = "Sous-titre…") + ('Plan hebdomadaire'!I5:I60 = "Sous-titre...") + ('Plan hebdomadaire'!I5:I60 = "")), "", 'Plan hebdomadaire'!I5:I60), ($B$11:$B$66 <> "")), "")} | F10: =IF(G10<>"","📌",IF(E10<>""," Mémo :",""))
B11: {=IFERROR(IF(MOD(ROW() - ROW($B$10) + 1, 2) = 1, TEXT(INDEX(_xlfn._xlws.FILTER('Plan hebdomadaire'!E$5:E$60, ('Plan hebdomadaire'!E$5:E$60 <> "")), INT((ROW() - ROW($B$10) + 2) / 2)), "hh:mm"), TEXT(INDEX(_xlfn._xlws.FILTER('Plan hebdomadaire'!E$5:E$60, ('Plan hebdomadaire'!E$5:E$60 <> "")), INT((ROW() - ROW($B$10) + 3) / 2)), "hh:mm") & CHAR(10)), "")} -> 08:50
B12: {=IFERROR(IF(MOD(ROW() - ROW($B$10) + 1, 2) = 1, TEXT(INDEX(_xlfn._xlws.FILTER('Plan hebdomadaire'!E$5:E$60, ('Plan hebdomadaire'!E$5:E$60 <> "")), INT((ROW() - ROW($B$10) + 2) / 2)), "hh:mm"), TEXT(INDEX(_xlfn._xlws.FILTER('Plan hebdomadaire'!E$5:E$60, ('Plan hebdomadaire'!E$5:E$60 <> "")), INT((ROW() - ROW($B$10) + 3) / 2)), "hh:mm") & CHAR(10)), "")} -> 08:50 | F12: =IF(G12<>"","📌",IF(E12<>""," Mémo :",""))
B13: {=IFERROR(IF(MOD(ROW() - ROW($B$10) + 1, 2) = 1, TEXT(INDEX(_xlfn._xlws.FILTER('Plan hebdomadaire'!E$5:E$60, ('Plan hebdomadaire'!E$5:E$60 <> "")), INT((ROW() - ROW($B$10) + 2) / 2)), "hh:mm"), TEXT(INDEX(_xlfn._xlws.FILTER('Plan hebdomadaire'!E$5:E$60, ('Plan hebdomadaire'!E$5:E$60 <> "")), INT((ROW() - ROW($B$10) + 3) / 2)), "hh:mm") & CHAR(10)), "")} -> 09:40
B14: {=IFERROR(IF(MOD(ROW() - ROW($B$10) + 1, 2) = 1, TEXT(INDEX(_xlfn._xlws.FILTER('Plan hebdomadaire'!E$5:E$60, ('Plan hebdomadaire'!E$5:E$60 <> "")), INT((ROW() - ROW($B$10) + 2) / 2)), "hh:mm"), TEXT(INDEX(_xlfn._xlws.FILTER('Plan hebdomadaire'!E$5:E$60, ('Plan hebdomadaire'!E$5:E$60 <> "")), INT((ROW() - ROW($B$10) + 3) / 2)), "hh:mm") & CHAR(10)), "")} -> 09:40 | F14: =IF(G14<>"","📌",IF(E14<>""," Mémo :",""))
B15: {=IFERROR(IF(MOD(ROW() - ROW($B$10) + 1, 2) = 1, TEXT(INDEX(_xlfn._xlws.FILTER('Plan hebdomadaire'!E$5:E$60, ('Plan hebdomadaire'!E$5:E$60 <> "")), INT((ROW() - ROW($B$10) + 2) / 2)), "hh:mm"), TEXT(INDEX(_xlfn._xlws.FILTER('Plan hebdomadaire'!E$5:E$60, ('Plan hebdomadaire'!E$5:E$60 <> "")), INT((ROW() - ROW($B$10) + 3) / 2)), "hh:mm") & CHAR(10)), "")} -> 10:00
B16: {=IFERROR(IF(MOD(ROW() - ROW($B$10) + 1, 2) = 1, TEXT(INDEX(_xlfn._xlws.FILTER('Plan hebdomadaire'!E$5:E$60, ('Plan hebdomadaire'!E$5:E$60 <> "")), INT((ROW() - ROW($B$10) + 2) / 2)), "hh:mm"), TEXT(INDEX(_xlfn._xlws.FILTER('Plan hebdomadaire'!E$5:E$60, ('Plan hebdomadaire'!E$5:E$60 <> "")), INT((ROW() - ROW($B$10) + 3) / 2)), "hh:mm") & CHAR(10)), "")} -> 10:00 | F16: =IF(G16<>"","📌",IF(E16<>""," Mémo :",""))
B17: {=IFERROR(IF(MOD(ROW() - ROW($B$10) + 1, 2) = 1, TEXT(INDEX(_xlfn._xlws.FILTER('Plan hebdomadaire'!E$5:E$60, ('Plan hebdomadaire'!E$5:E$60 <> "")), INT((ROW() - ROW($B$10) + 2) / 2)), "hh:mm"), TEXT(INDEX(_xlfn._xlws.FILTER('Plan hebdomadaire'!E$5:E$60, ('Plan hebdomadaire'!E$5:E$60 <> "")), INT((ROW() - ROW($B$10) + 3) / 2)), "hh:mm") & CHAR(10)), "")} -> 10:50
B18: {=IFERROR(IF(MOD(ROW() - ROW($B$10) + 1, 2) = 1, TEXT(INDEX(_xlfn._xlws.FILTER('Plan hebdomadaire'!E$5:E$60, ('Plan hebdomadaire'!E$5:E$60 <> "")), INT((ROW() - ROW($B$10) + 2) / 2)), "hh:mm"), TEXT(INDEX(_xlfn._xlws.FILTER('Plan hebdomadaire'!E$5:E$60, ('Plan hebdomadaire'!E$5:E$60 <> "")), INT((ROW() - ROW($B$10) + 3) / 2)), "hh:mm") & CHAR(10)), "")} -> 10:50 | F18: =IF(G18<>"","📌",IF(E18<>""," Mémo :",""))
B19: {=IFERROR(IF(MOD(ROW() - ROW($B$10) + 1, 2) = 1, TEXT(INDEX(_xlfn._xlws.FILTER('Plan hebdomadaire'!E$5:E$60, ('Plan hebdomadaire'!E$5:E$60 <> "")), INT((ROW() - ROW($B$10) + 2) / 2)), "hh:mm"), TEXT(INDEX(_xlfn._xlws.FILTER('Plan hebdomadaire'!E$5:E$60, ('Plan hebdomadaire'!E$5:E$60 <> "")), INT((ROW() - ROW($B$10) + 3) / 2)), "hh:mm") & CHAR(10)), "")} -> 11:30
B20: {=IFERROR(IF(MOD(ROW() - ROW($B$10) + 1, 2) = 1, TEXT(INDEX(_xlfn._xlws.FILTER('Plan hebdomadaire'!E$5:E$60, ('Plan hebdomadaire'!E$5:E$60 <> "")), INT((ROW() - ROW($B$10) + 2) / 2)), "hh:mm"), TEXT(INDEX(_xlfn._xlws.FILTER('Plan hebdomadaire'!E$5:E$60, ('Plan hebdomadaire'!E$5:E$60 <> "")), INT((ROW() - ROW($B$10) + 3) / 2)), "hh:mm") & CHAR(10)), "")} -> 11:30 | F20: =IF(G20<>"","📌",IF(E20<>""," Mémo :",""))
B21: {=IFERROR(IF(MOD(ROW() - ROW($B$10) + 1, 2) = 1, TEXT(INDEX(_xlfn._xlws.FILTER('Plan hebdomadaire'!E$5:E$60, ('Plan hebdomadaire'!E$5:E$60 <> "")), INT((ROW() - ROW($B$10) + 2) / 2)), "hh:mm"), TEXT(INDEX(_xlfn._xlws.FILTER('Plan hebdomadaire'!E$5:E$60, ('Plan hebdomadaire'!E$5:E$60 <> "")), INT((ROW() - ROW($B$10) + 3) / 2)), "hh:mm") & CHAR(10)), "")} -> 13:50
B22: {=IFERROR(IF(MOD(ROW() - ROW($B$10) + 1, 2) = 1, TEXT(INDEX(_xlfn._xlws.FILTER('Plan hebdomadaire'!E$5:E$60, ('Plan hebdomadaire'!E$5:E$60 <> "")), INT((ROW() - ROW($B$10) + 2) / 2)), "hh:mm"), TEXT(INDEX(_xlfn._xlws.FILTER('Plan hebdomadaire'!E$5:E$60, ('Plan hebdomadaire'!E$5:E$60 <> "")), INT((ROW() - ROW($B$10) + 3) / 2)), "hh:mm") & CHAR(10)), "")} -> 13:50 | F22: =IF(G22<>"","📌",IF(E22<>""," Mémo :",""))
B23: {=IFERROR(IF(MOD(ROW() - ROW($B$10) + 1, 2) = 1, TEXT(INDEX(_xlfn._xlws.FILTER('Plan hebdomadaire'!E$5:E$60, ('Plan hebdomadaire'!E$5:E$60 <> "")), INT((ROW() - ROW($B$10) + 2) / 2)), "hh:mm"), TEXT(INDEX(_xlfn._xlws.FILTER('Plan hebdomadaire'!E$5:E$60, ('Plan hebdomadaire'!E$5:E$60 <> "")), INT((ROW() - ROW($B$10) + 3) / 2)), "hh:mm") & CHAR(10)), "")} -> 14:40
B24: {=IFERROR(IF(MOD(ROW() - ROW($B$10) + 1, 2) = 1, TEXT(INDEX(_xlfn._xlws.FILTER('Plan hebdomadaire'!E$5:E$60, ('Plan hebdomadaire'!E$5:E$60 <> "")), INT((ROW() - ROW($B$10) + 2) / 2)), "hh:mm"), TEXT(INDEX(_xlfn._xlws.FILTER('Plan hebdomadaire'!E$5:E$60, ('Plan hebdomadaire'!E$5:E$60 <> "")), INT((ROW() - ROW($B$10) + 3) / 2)), "hh:mm") & CHAR(10)), "")} -> 14:40 | F24: =IF(G24<>"","📌",IF(E24<>""," Mémo :",""))
B25: {=IFERROR(IF(MOD(ROW() - ROW($B$10) + 1, 2) = 1, TEXT(INDEX(_xlfn._xlws.FILTER('Plan hebdomadaire'!E$5:E$60, ('Plan hebdomadaire'!E$5:E$60 <> "")), INT((ROW() - ROW($B$10) + 2) / 2)), "hh:mm"), TEXT(INDEX(_xlfn._xlws.FILTER('Plan hebdomadaire'!E$5:E$60, ('Plan hebdomadaire'!E$5:E$60 <> "")), INT((ROW() - ROW($B$10) + 3) / 2)), "hh:mm") & CHAR(10)), "")} -> 15:30
B26: {=IFERROR(IF(MOD(ROW() - ROW($B$10) + 1, 2) = 1, TEXT(INDEX(_xlfn._xlws.FILTER('Plan hebdomadaire'!E$5:E$60, ('Plan hebdomadaire'!E$5:E$60 <> "")), INT((ROW() - ROW($B$10) + 2) / 2)), "hh:mm"), TEXT(INDEX(_xlfn._xlws.FILTER('Plan hebdomadaire'!E$5:E$60, ('Plan hebdomadaire'!E$5:E$60 <> "")), INT((ROW() - ROW($B$10) + 3) / 2)), "hh:mm") & CHAR(10)), "")} -> 15:30 | F26: =IF(G26<>"","📌",IF(E26<>""," Mémo :",""))
B27: {=IFERROR(IF(MOD(ROW() - ROW($B$10) + 1, 2) = 1, TEXT(INDEX(_xlfn._xlws.FILTER('Plan hebdomadaire'!E$5:E$60, ('Plan hebdomadaire'!E$5:E$60 <> "")), INT((ROW() - ROW($B$10) + 2) / 2)), "hh:mm"), TEXT(INDEX(_xlfn._xlws.FILTER('Plan hebdomadaire'!E$5:E$60, ('Plan hebdomadaire'!E$5:E$60 <> "")), INT((ROW() - ROW($B$10) + 3) / 2)), "hh:mm") & CHAR(10)), "")}
